{"text_format":"1","workbook":"xlsx","n_sheets":17,"sheets":["4","5","6","7","8","9","10","11","12","1","2","3","質問","年暦","説明","数字","作業用"],"not_rendered":{"charts":0,"images":6,"macros":1,"external_links":0,"defined_names":14,"comments":0,"pivot_tables":0},"unopened":[],"bounds":{"document_bytes":16777216,"sheet_cells":100000,"rows_first":2000,"rows_last":500,"rows_between":2000,"halvings":0,"cell_chars":16384,"cell_head_chars":4096},"cells_cut":0,"cells_raw":0,"read":"whole","date_system":"1900"}

{"sheet":"4","index":0,"n_rows":78,"n_cols":43,"rows_kept":78,"cut":false,"hidden":false,"merged":[[77,42,77,44],[76,42,76,44],[75,42,75,44],[77,39,77,41],[76,39,76,41],[75,39,75,41],[75,27,75,29],[77,33,77,35],[76,33,76,35],[75,33,75,35],[77,30,77,32],[76,30,76,32],[75,30,75,32],[77,4,77,6],[76,4,76,6],[77,10,77,13],[76,10,76,13],[77,27,77,29],[76,27,76,29],[74,27,74,29],[74,10,74,13],[7,4,7,44],[75,4,75,6],[75,10,75,13],[74,42,74,44],[74,39,74,41],[74,36,74,38],[8,27,8,44],[41,27,42,44],[77,36,77,38],[76,36,76,38],[75,36,75,38],[74,4,74,6],[74,7,74,9],[77,7,77,9],[76,7,76,9],[75,7,75,9],[74,33,74,35],[74,30,74,32],[6,4,6,44],[5,4,5,44],[3,36,3,37],[3,33,3,34],[3,30,3,31],[3,27,3,28],[3,10,3,11],[3,7,3,8],[3,4,3,5],[27,27,28,44],[25,27,26,44],[39,27,40,44],[37,27,38,44],[35,27,36,44],[33,27,34,44],[67,27,68,44],[65,27,66,44],[63,27,64,44],[61,27,62,44],[31,27,32,44],[29,27,30,44],[47,27,48,44],[43,45,44,45],[45,45,46,45],[47,45,48,45],[49,45,50,45],[43,27,44,44],[67,45,68,45],[59,45,60,45],[61,45,62,45],[63,45,64,45],[65,45,66,45],[45,27,46,44],[57,27,58,44],[55,27,56,44],[53,27,54,44],[59,27,60,44],[51,45,52,45],[53,45,54,45],[55,45,56,45],[57,45,58,45],[51,27,52,44],[49,27,50,44],[31,45,32,45],[33,45,34,45],[35,45,36,45],[37,45,38,45],[39,45,40,45],[41,45,42,45],[19,45,20,45],[21,45,22,45],[23,45,24,45],[25,45,26,45],[27,45,28,45],[29,45,30,45],[23,0,24,0],[25,0,26,0],[27,0,28,0],[29,0,30,0],[31,0,32,0],[65,0,66,0],[67,0,68,0],[57,0,58,0],[59,0,60,0],[61,0,62,0],[63,0,64,0],[45,0,46,0],[47,0,48,0],[49,0,50,0],[51,0,52,0],[53,0,54,0],[55,0,56,0],[9,0,10,0],[11,0,12,0],[13,0,14,0],[15,0,16,0],[17,0,18,0],[19,0,20,0],[61,19,62,19],[61,20,62,20],[59,19,60,19],[59,20,60,20],[41,19,42,19],[41,20,42,20],[33,19,34,19],[33,20,34,20],[25,19,26,19],[25,20,26,20],[11,20,12,20],[33,0,34,0],[35,0,36,0],[37,0,38,0],[39,0,40,0],[41,0,42,0],[43,0,44,0],[21,0,22,0],[53,25,54,25],[53,26,54,26],[57,19,58,19],[57,20,58,20],[53,21,54,21],[53,22,54,22],[55,19,56,19],[55,20,56,20],[53,19,54,19],[53,20,54,20],[57,21,58,21],[57,22,58,22],[57,23,58,23],[57,24,58,24],[53,23,54,23],[53,24,54,24],[55,21,56,21],[55,22,56,22],[51,19,52,19],[51,20,52,20],[49,19,50,19],[49,20,50,20],[45,19,46,19],[45,20,46,20],[43,19,44,19],[43,20,44,20],[47,19,48,19],[47,20,48,20],[39,19,40,19],[39,20,40,20],[37,19,38,19],[37,20,38,20],[39,21,40,21],[39,22,40,22],[35,19,36,19],[35,20,36,20],[47,21,48,21],[47,22,48,22],[27,26,28,26],[27,22,28,22],[29,22,30,22],[29,23,30,23],[29,24,30,24],[27,23,28,23],[27,24,28,24],[37,21,38,21],[37,22,38,22],[29,26,30,26],[31,23,32,23],[31,24,32,24],[37,23,38,23],[37,24,38,24],[35,21,36,21],[35,22,36,22],[35,23,36,23],[35,24,36,24],[33,25,34,25],[33,26,34,26],[35,25,36,25],[35,26,36,26],[37,26,38,26],[31,26,32,26],[23,19,24,19],[23,20,24,20],[21,19,22,19],[21,20,22,20],[25,21,26,21],[25,22,26,22],[19,25,20,25],[25,25,26,25],[37,25,38,25],[33,21,34,21],[33,22,34,22],[33,23,34,23],[33,24,34,24],[29,19,30,19],[29,20,30,20],[27,19,28,19],[27,20,28,20],[31,25,32,25],[31,19,32,19],[31,20,32,20],[31,21,32,21],[31,22,32,22],[27,25,28,25],[29,25,30,25],[17,27,18,44],[21,23,22,23],[21,24,22,24],[21,25,22,25],[21,26,22,26],[19,23,20,23],[19,24,20,24],[17,23,18,23],[21,21,22,21],[21,22,22,22],[15,24,16,24],[15,25,16,25],[15,26,16,26],[17,24,18,24],[17,25,18,25],[17,26,18,26],[15,21,16,21],[15,22,16,22],[15,23,16,23],[11,23,12,23],[19,19,20,19],[19,20,20,20],[17,19,18,19],[17,20,18,20],[9,19,10,19],[15,19,16,19],[15,20,16,20],[13,19,14,19],[13,20,14,20],[9,20,10,20],[11,19,12,19],[9,22,10,22],[65,9,66,9],[65,10,66,10],[65,11,66,11],[65,14,66,14],[65,13,66,13],[65,12,66,12],[65,15,66,15],[65,16,66,16],[67,16,68,16],[67,9,68,9],[67,10,68,10],[67,11,68,11],[67,14,68,14],[67,13,68,13],[67,12,68,12],[67,15,68,15],[63,9,64,9],[63,10,64,10],[63,11,64,11],[63,14,64,14],[63,13,64,13],[63,12,64,12],[63,15,64,15],[63,16,64,16],[63,17,64,17],[61,9,62,9],[61,10,62,10],[61,11,62,11],[61,14,62,14],[61,13,62,13],[61,12,62,12],[61,15,62,15],[61,16,62,16],[61,17,62,17],[57,18,58,18],[59,9,60,9],[59,10,60,10],[59,11,60,11],[59,14,60,14],[59,13,60,13],[59,12,60,12],[59,15,60,15],[59,16,60,16],[59,17,60,17],[59,18,60,18],[57,9,58,9],[57,10,58,10],[57,11,58,11],[57,14,58,14],[57,13,58,13],[57,12,58,12],[57,15,58,15],[57,16,58,16],[57,17,58,17],[53,18,54,18],[55,9,56,9],[55,10,56,10],[55,11,56,11],[55,14,56,14],[55,13,56,13],[55,12,56,12],[55,15,56,15],[55,16,56,16],[55,17,56,17],[55,18,56,18],[53,9,54,9],[53,10,54,10],[53,11,54,11],[53,14,54,14],[53,13,54,13],[53,12,54,12],[53,15,54,15],[53,16,54,16],[53,17,54,17],[49,18,50,18],[51,9,52,9],[51,10,52,10],[51,11,52,11],[51,14,52,14],[51,13,52,13],[51,12,52,12],[51,15,52,15],[51,16,52,16],[51,17,52,17],[51,18,52,18],[49,9,50,9],[49,10,50,10],[49,11,50,11],[49,14,50,14],[49,13,50,13],[49,12,50,12],[49,15,50,15],[49,16,50,16],[49,17,50,17],[45,18,46,18],[47,9,48,9],[47,10,48,10],[47,11,48,11],[47,14,48,14],[47,13,48,13],[47,12,48,12],[47,15,48,15],[47,16,48,16],[47,17,48,17],[47,18,48,18],[45,9,46,9],[45,10,46,10],[45,11,46,11],[45,14,46,14],[45,13,46,13],[45,12,46,12],[45,15,46,15],[45,16,46,16],[45,17,46,17],[41,18,42,18],[43,9,44,9],[43,10,44,10],[43,11,44,11],[43,14,44,14],[43,13,44,13],[43,12,44,12],[43,15,44,15],[43,16,44,16],[43,17,44,17],[43,18,44,18],[41,9,42,9],[41,10,42,10],[41,11,42,11],[41,14,42,14],[41,13,42,13],[41,12,42,12],[41,15,42,15],[41,16,42,16],[41,17,42,17],[37,18,38,18],[39,9,40,9],[39,10,40,10],[39,11,40,11],[39,14,40,14],[39,13,40,13],[39,12,40,12],[39,15,40,15],[39,16,40,16],[39,17,40,17],[39,18,40,18],[37,9,38,9],[37,10,38,10],[37,11,38,11],[37,14,38,14],[37,13,38,13],[37,12,38,12],[37,15,38,15],[37,16,38,16],[37,17,38,17],[33,18,34,18],[35,9,36,9],[35,10,36,10],[35,11,36,11],[35,14,36,14],[35,13,36,13],[35,12,36,12],[35,15,36,15],[35,16,36,16],[35,17,36,17],[35,18,36,18],[33,9,34,9],[33,10,34,10],[33,11,34,11],[33,14,34,14],[33,13,34,13],[33,12,34,12],[33,15,34,15],[33,16,34,16],[33,17,34,17],[29,18,30,18],[31,9,32,9],[31,10,32,10],[31,11,32,11],[31,14,32,14],[31,13,32,13],[31,12,32,12],[31,15,32,15],[31,16,32,16],[31,17,32,17],[31,18,32,18],[29,9,30,9],[29,10,30,10],[29,11,30,11],[29,14,30,14],[29,13,30,13],[29,12,30,12],[29,15,30,15],[29,16,30,16],[29,17,30,17],[25,18,26,18],[27,9,28,9],[27,10,28,10],[27,11,28,11],[27,14,28,14],[27,13,28,13],[27,12,28,12],[27,15,28,15],[27,16,28,16],[27,17,28,17],[27,18,28,18],[25,9,26,9],[25,10,26,10],[25,11,26,11],[25,14,26,14],[25,13,26,13],[25,12,26,12],[25,15,26,15],[25,16,26,16],[25,17,26,17],[21,18,22,18],[23,9,24,9],[23,10,24,10],[23,11,24,11],[23,14,24,14],[23,13,24,13],[23,12,24,12],[23,15,24,15],[23,16,24,16],[23,17,24,17],[23,18,24,18],[21,9,22,9],[21,10,22,10],[21,11,22,11],[21,14,22,14],[21,13,22,13],[21,12,22,12],[21,15,22,15],[21,16,22,16],[21,17,22,17],[17,18,18,18],[19,9,20,9],[19,10,20,10],[19,11,20,11],[19,14,20,14],[19,13,20,13],[19,12,20,12],[19,15,20,15],[19,16,20,16],[19,17,20,17],[19,18,20,18],[17,9,18,9],[17,10,18,10],[17,11,18,11],[17,14,18,14],[17,13,18,13],[17,12,18,12],[17,15,18,15],[17,16,18,16],[17,17,18,17],[13,17,14,17],[13,18,14,18],[15,9,16,9],[15,10,16,10],[15,11,16,11],[15,14,16,14],[15,13,16,13],[15,12,16,12],[15,15,16,15],[15,16,16,16],[13,9,14,9],[13,10,14,10],[13,11,14,11],[13,14,14,14],[13,15,14,15],[13,16,14,16],[15,17,16,17],[15,18,16,18],[9,18,10,18],[11,9,12,9],[11,10,12,10],[11,11,12,11],[11,14,12,14],[11,15,12,15],[11,16,12,16],[11,17,12,17],[11,18,12,18],[9,9,10,9],[9,10,10,10],[9,11,10,11],[9,14,10,14],[67,5,68,5],[67,6,68,6],[67,7,68,7],[67,8,68,8],[65,5,66,5],[65,6,66,6],[65,7,66,7],[61,5,62,5],[61,6,62,6],[61,7,62,7],[61,8,62,8],[65,8,66,8],[63,5,64,5],[63,6,64,6],[63,7,64,7],[63,8,64,8],[57,5,58,5],[57,6,58,6],[57,7,58,7],[57,8,58,8],[59,5,60,5],[59,6,60,6],[59,7,60,7],[59,8,60,8],[53,5,54,5],[53,6,54,6],[53,7,54,7],[53,8,54,8],[55,5,56,5],[55,6,56,6],[55,7,56,7],[55,8,56,8],[49,5,50,5],[49,6,50,6],[49,7,50,7],[49,8,50,8],[51,5,52,5],[51,6,52,6],[51,7,52,7],[51,8,52,8],[45,5,46,5],[45,6,46,6],[45,7,46,7],[45,8,46,8],[47,5,48,5],[47,6,48,6],[47,7,48,7],[47,8,48,8],[41,5,42,5],[41,6,42,6],[41,7,42,7],[41,8,42,8],[43,5,44,5],[43,6,44,6],[43,7,44,7],[43,8,44,8],[37,5,38,5],[37,6,38,6],[37,7,38,7],[37,8,38,8],[39,5,40,5],[39,6,40,6],[39,7,40,7],[39,8,40,8],[33,5,34,5],[33,6,34,6],[33,7,34,7],[33,8,34,8],[35,5,36,5],[35,6,36,6],[35,7,36,7],[35,8,36,8],[29,5,30,5],[29,6,30,6],[29,7,30,7],[29,8,30,8],[31,5,32,5],[31,6,32,6],[31,7,32,7],[31,8,32,8],[25,5,26,5],[25,6,26,6],[25,7,26,7],[25,8,26,8],[27,5,28,5],[27,6,28,6],[27,7,28,7],[27,8,28,8],[21,5,22,5],[21,6,22,6],[21,7,22,7],[21,8,22,8],[23,5,24,5],[23,6,24,6],[23,7,24,7],[23,8,24,8],[17,5,18,5],[17,6,18,6],[17,7,18,7],[17,8,18,8],[19,5,20,5],[19,6,20,6],[19,7,20,7],[19,8,20,8],[13,5,14,5],[13,6,14,6],[13,7,14,7],[13,8,14,8],[15,5,16,5],[15,6,16,6],[15,7,16,7],[15,8,16,8],[9,7,10,7],[9,8,10,8],[11,5,12,5],[11,6,12,6],[11,7,12,7],[11,8,12,8],[9,5,10,5],[9,6,10,6],[13,4,14,4],[57,3,58,3],[55,3,56,3],[43,4,44,4],[41,4,42,4],[39,4,40,4],[37,4,38,4],[35,4,36,4],[33,4,34,4],[55,4,56,4],[53,4,54,4],[51,4,52,4],[49,4,50,4],[47,4,48,4],[45,4,46,4],[15,4,16,4],[19,3,20,3],[17,3,18,3],[15,3,16,3],[53,3,54,3],[67,3,68,3],[65,3,66,3],[63,3,64,3],[61,3,62,3],[43,3,44,3],[41,3,42,3],[39,3,40,3],[37,3,38,3],[51,3,52,3],[49,3,50,3],[47,3,48,3],[45,3,46,3],[67,4,68,4],[65,4,66,4],[63,4,64,4],[61,4,62,4],[59,4,60,4],[57,4,58,4],[59,3,60,3],[17,4,18,4],[27,3,28,3],[25,3,26,3],[23,3,24,3],[21,3,22,3],[35,3,36,3],[33,3,34,3],[31,3,32,3],[29,3,30,3],[31,4,32,4],[29,4,30,4],[17,2,18,2],[19,2,20,2],[21,2,22,2],[39,2,40,2],[9,2,10,2],[11,2,12,2],[13,2,14,2],[11,21,12,21],[9,13,10,13],[11,13,12,13],[13,13,14,13],[9,12,10,12],[11,12,12,12],[13,12,14,12],[13,3,14,3],[11,4,12,4],[9,4,10,4],[11,3,12,3],[9,3,10,3],[27,4,28,4],[25,4,26,4],[23,4,24,4],[21,4,22,4],[19,4,20,4],[67,2,68,2],[41,2,42,2],[43,2,44,2],[45,2,46,2],[31,2,32,2],[33,2,34,2],[35,2,36,2],[37,2,38,2],[55,2,56,2],[57,2,58,2],[67,1,68,1],[9,21,10,21],[55,1,56,1],[57,1,58,1],[59,1,60,1],[61,1,62,1],[47,1,48,1],[63,1,64,1],[51,1,52,1],[53,1,54,1],[39,1,40,1],[41,1,42,1],[43,1,44,1],[45,1,46,1],[49,1,50,1],[27,21,28,21],[29,21,30,21],[9,1,10,1],[11,1,12,1],[13,1,14,1],[15,1,16,1],[17,1,18,1],[19,1,20,1],[21,1,22,1],[11,24,12,24],[11,25,12,25],[35,1,36,1],[37,1,38,1],[23,1,24,1],[25,1,26,1],[27,1,28,1],[29,1,30,1],[65,1,66,1],[31,1,32,1],[33,1,34,1],[59,2,60,2],[61,2,62,2],[47,2,48,2],[49,2,50,2],[51,2,52,2],[53,2,54,2],[63,2,64,2],[65,2,66,2],[23,2,24,2],[25,2,26,2],[27,2,28,2],[29,2,30,2],[15,2,16,2],[25,26,26,26],[17,21,18,21],[17,22,18,22],[23,21,24,21],[23,22,24,22],[19,21,20,21],[19,22,20,22],[23,23,24,23],[23,24,24,24],[23,25,24,25],[23,26,24,26],[25,23,26,23],[25,24,26,24],[19,26,20,26],[39,25,40,25],[39,26,40,26],[41,23,42,23],[41,24,42,24],[41,25,42,25],[41,26,42,26],[39,23,40,23],[39,24,40,24],[43,21,44,21],[43,22,44,22],[41,21,42,21],[41,22,42,22],[43,25,44,25],[43,26,44,26],[43,23,44,23],[43,24,44,24],[45,25,46,25],[45,26,46,26],[45,21,46,21],[45,22,46,22],[45,23,46,23],[45,24,46,24],[51,25,52,25],[51,26,52,26],[49,25,50,25],[49,26,50,26],[47,25,48,25],[47,26,48,26],[47,23,48,23],[47,24,48,24],[49,23,50,23],[49,24,50,24],[49,21,50,21],[49,22,50,22],[51,21,52,21],[51,22,52,22],[51,23,52,23],[51,24,52,24],[59,23,60,23],[59,24,60,24],[65,21,66,21],[65,22,66,22],[65,23,66,23],[65,24,66,24],[59,25,60,25],[59,26,60,26],[55,23,56,23],[55,24,56,24],[55,25,56,25],[55,26,56,26],[57,25,58,25],[57,26,58,26],[59,21,60,21],[59,22,60,22],[63,25,64,25],[63,26,64,26],[63,21,64,21],[63,22,64,22],[61,25,62,25],[61,26,62,26],[63,23,64,23],[63,24,64,24],[71,15,71,20],[71,21,71,26],[65,25,66,25],[65,26,66,26],[67,21,68,21],[67,22,68,22],[67,23,68,23],[67,24,68,24],[67,25,68,25],[67,26,68,26],[67,19,68,19],[67,20,68,20],[65,19,66,19],[65,20,66,20],[65,17,66,17],[65,18,66,18],[61,21,62,21],[61,22,62,22],[61,23,62,23],[61,24,62,24],[61,18,62,18],[63,18,64,18],[67,17,68,17],[67,18,68,18],[63,19,64,19],[63,20,64,20],[23,27,24,44],[15,27,16,44],[13,27,14,44],[11,27,12,44],[21,27,22,44],[19,27,20,44],[9,27,10,44],[8,15,8,20],[8,21,8,26],[9,23,10,23],[9,24,10,24],[9,25,10,25],[9,26,10,26],[9,15,10,15],[9,16,10,16],[9,17,10,17],[11,26,12,26],[13,21,14,21],[13,22,14,22],[13,23,14,23],[13,24,14,24],[13,25,14,25],[13,26,14,26],[11,22,12,22]]}
[]
[]
[]
[null,null,null,null,"q",null,null,"w",null,null,"e",null,null,null,null,null,null,null,null,null,null,null,null,null,null,null,null,"r",null,null,"t",null,null,"y",null,null,"u"]
[]
[null,null,null,null,"○：教科，道徳，総合　　●：行事　　児：児童会　　ク：クラブ　　学：学級　　△：学裁"]
[null,null,null,null,{"$f":"CONCATENATE(年暦!B4,\"　　　予　定　表\")","v":"4　　　月　　　予　定　表"}]
[null,null,null,null,"○：教科，道徳，総合　　●：行事　　児：児童会　　ク：クラブ　　学：学級　　△：学裁"]
[null,null,null,null,"日","曜",1,2,3,4,5,6,"登校","給食","時数","授業時数確認",null,null,null,null,null,"誤入力確認",null,null,null,null,null,"行　事　等"]
[{"$f":"IF(AND(D10=0,O10<>0),1,IF(AND(D10<>0,O10=0),1,IF(O10>6,1,\"\")))","v":""},{"$f":"IF(SUM(V10:AA11)<>0,1,\"\")","v":""},{"$f":"IF(SUM(A10:B11)<>0,\"error\",\"\")","v":""},{"$f":"年暦!B5","v":0},1,{"$f":"年暦!B6","v":"水"},"●","●","学",null,null,null,{"$f":"IF(D10=0,0,1)","v":0},{"$f":"IF(年暦!C6=\"\",\"\",年暦!C6)","v":""},{"$f":"年暦!C5","v":0},{"$f":"IF($O10=0,0,IF($O10>0,0,1))","v":0},{"$f":"IF($O10=0,0,IF($O10>1,0,1))","v":0},{"$f":"IF($O10=0,0,IF($O10>2,0,1))","v":0},{"$f":"IF($O10=0,0,IF($O10>3,0,1))","v":0},{"$f":"IF($O10=0,0,IF($O10>4,0,1))","v":0},{"$f":"IF($O10=0,0,IF($O10>5,0,1))","v":0},{"$f":"IF(AND(G10<>\"\",P10=1),2,0)","v":0},0,0,0,0,0,{"$f":"IF(年暦!D5=\"\",\"\",年暦!D5)","v":"学年初め休み（５日まで）"}]
[]
[{"$f":"IF(AND(D12=0,O12<>0),1,IF(AND(D12<>0,O12=0),1,IF(O12>6,1,\"\")))","v":""},{"$f":"IF(SUM(V12:AA13)<>0,1,\"\")","v":""},{"$f":"IF(SUM(A12:B13)<>0,\"error\",\"\")","v":""},{"$f":"年暦!B7","v":0},2,{"$f":"年暦!B8","v":"木"},null,null,null,null,null,null,{"$f":"IF(D12=0,0,1)","v":0},{"$f":"IF(年暦!C8=\"\",\"\",年暦!C8)","v":""},{"$f":"年暦!C7","v":0},{"$f":"IF($O12=0,0,IF($O12>0,0,1))","v":0},{"$f":"IF($O12=0,0,IF($O12>1,0,1))","v":0},{"$f":"IF($O12=0,0,IF($O12>2,0,1))","v":0},{"$f":"IF($O12=0,0,IF($O12>3,0,1))","v":0},{"$f":"IF($O12=0,0,IF($O12>4,0,1))","v":0},{"$f":"IF($O12=0,0,IF($O12>5,0,1))","v":0},{"$f":"IF(AND(G12<>\"\",P12=1),2,0)","v":0},0,0,0,0,0,{"$f":"IF(年暦!D7=\"\",\"\",年暦!D7)","v":""}]
[]
[{"$f":"IF(AND(D14=0,O14<>0),1,IF(AND(D14<>0,O14=0),1,IF(O14>6,1,\"\")))","v":""},{"$f":"IF(SUM(V14:AA15)<>0,1,\"\")","v":""},{"$f":"IF(SUM(A14:B15)<>0,\"error\",\"\")","v":""},{"$f":"年暦!B9","v":0},3,{"$f":"年暦!B10","v":"金"},null,null,null,null,null,null,{"$f":"IF(D14=0,0,1)","v":0},{"$f":"IF(年暦!C10=\"\",\"\",年暦!C10)","v":""},{"$f":"年暦!C9","v":0},{"$f":"IF($O14=0,0,IF($O14>0,0,1))","v":0},{"$f":"IF($O14=0,0,IF($O14>1,0,1))","v":0},{"$f":"IF($O14=0,0,IF($O14>2,0,1))","v":0},{"$f":"IF($O14=0,0,IF($O14>3,0,1))","v":0},{"$f":"IF($O14=0,0,IF($O14>4,0,1))","v":0},{"$f":"IF($O14=0,0,IF($O14>5,0,1))","v":0},{"$f":"IF(AND(G14<>\"\",P14=1),2,0)","v":0},0,0,0,0,0,{"$f":"IF(年暦!D9=\"\",\"\",年暦!D9)","v":""}]
[]
[{"$f":"IF(AND(D16=0,O16<>0),1,IF(AND(D16<>0,O16=0),1,IF(O16>6,1,\"\")))","v":""},{"$f":"IF(SUM(V16:AA17)<>0,1,\"\")","v":""},{"$f":"IF(SUM(A16:B17)<>0,\"error\",\"\")","v":""},{"$f":"年暦!B11","v":0},4,{"$f":"年暦!B12","v":"土"},null,null,null,null,null,null,{"$f":"IF(D16=0,0,1)","v":0},{"$f":"IF(年暦!C12=\"\",\"\",年暦!C12)","v":""},{"$f":"年暦!C11","v":0},{"$f":"IF($O16=0,0,IF($O16>0,0,1))","v":0},{"$f":"IF($O16=0,0,IF($O16>1,0,1))","v":0},{"$f":"IF($O16=0,0,IF($O16>2,0,1))","v":0},{"$f":"IF($O16=0,0,IF($O16>3,0,1))","v":0},{"$f":"IF($O16=0,0,IF($O16>4,0,1))","v":0},{"$f":"IF($O16=0,0,IF($O16>5,0,1))","v":0},{"$f":"IF(AND(G16<>\"\",P16=1),2,0)","v":0},0,0,0,0,0,{"$f":"IF(年暦!D11=\"\",\"\",年暦!D11)","v":""}]
[]
[{"$f":"IF(AND(D18=0,O18<>0),1,IF(AND(D18<>0,O18=0),1,IF(O18>6,1,\"\")))","v":""},{"$f":"IF(SUM(V18:AA19)<>0,1,\"\")","v":""},{"$f":"IF(SUM(A18:B19)<>0,\"error\",\"\")","v":""},{"$f":"年暦!B13","v":0},5,{"$f":"年暦!B14","v":"日"},null,null,null,null,null,null,{"$f":"IF(D18=0,0,1)","v":0},{"$f":"IF(年暦!C14=\"\",\"\",年暦!C14)","v":""},{"$f":"年暦!C13","v":0},{"$f":"IF($O18=0,0,IF($O18>0,0,1))","v":0},{"$f":"IF($O18=0,0,IF($O18>1,0,1))","v":0},{"$f":"IF($O18=0,0,IF($O18>2,0,1))","v":0},{"$f":"IF($O18=0,0,IF($O18>3,0,1))","v":0},{"$f":"IF($O18=0,0,IF($O18>4,0,1))","v":0},{"$f":"IF($O18=0,0,IF($O18>5,0,1))","v":0},{"$f":"IF(AND(G18<>\"\",P18=1),2,0)","v":0},0,0,0,0,0,{"$f":"IF(年暦!D13=\"\",\"\",年暦!D13)","v":""}]
[]
[{"$f":"IF(AND(D20=0,O20<>0),1,IF(AND(D20<>0,O20=0),1,IF(O20>6,1,\"\")))","v":""},{"$f":"IF(SUM(V20:AA21)<>0,1,\"\")","v":""},{"$f":"IF(SUM(A20:B21)<>0,\"error\",\"\")","v":""},{"$f":"年暦!B15","v":6},6,{"$f":"年暦!B16","v":"月"},null,null,null,null,null,null,{"$f":"IF(D20=0,0,1)","v":1},{"$f":"IF(年暦!C16=\"\",\"\",年暦!C16)","v":"×"},{"$f":"年暦!C15","v":4},{"$f":"IF($O20=0,0,IF($O20>0,0,1))","v":0},{"$f":"IF($O20=0,0,IF($O20>1,0,1))","v":0},{"$f":"IF($O20=0,0,IF($O20>2,0,1))","v":0},{"$f":"IF($O20=0,0,IF($O20>3,0,1))","v":0},{"$f":"IF($O20=0,0,IF($O20>4,0,1))","v":1},{"$f":"IF($O20=0,0,IF($O20>5,0,1))","v":1},{"$f":"IF(AND(G20<>\"\",P20=1),2,0)","v":0},0,0,0,0,0,{"$f":"IF(年暦!D15=\"\",\"\",年暦!D15)","v":"開校記念式　　入学式　\n１学期始業式\nＰＴＡ三役正副部長会"}]
[]
[{"$f":"IF(AND(D22=0,O22<>0),1,IF(AND(D22<>0,O22=0),1,IF(O22>6,1,\"\")))","v":""},{"$f":"IF(SUM(V22:AA23)<>0,1,\"\")","v":""},{"$f":"IF(SUM(A22:B23)<>0,\"error\",\"\")","v":""},{"$f":"年暦!B17","v":7},7,{"$f":"年暦!B18","v":"火"},null,null,null,null,null,null,{"$f":"IF(D22=0,0,1)","v":1},{"$f":"IF(年暦!C18=\"\",\"\",年暦!C18)","v":"○"},{"$f":"年暦!C17","v":5},{"$f":"IF($O22=0,0,IF($O22>0,0,1))","v":0},{"$f":"IF($O22=0,0,IF($O22>1,0,1))","v":0},{"$f":"IF($O22=0,0,IF($O22>2,0,1))","v":0},{"$f":"IF($O22=0,0,IF($O22>3,0,1))","v":0},{"$f":"IF($O22=0,0,IF($O22>4,0,1))","v":0},{"$f":"IF($O22=0,0,IF($O22>5,0,1))","v":1},{"$f":"IF(AND(G22<>\"\",P22=1),2,0)","v":0},0,0,0,0,0,{"$f":"IF(年暦!D17=\"\",\"\",年暦!D17)","v":"登下校指導①"}]
[]
[{"$f":"IF(AND(D24=0,O24<>0),1,IF(AND(D24<>0,O24=0),1,IF(O24>6,1,\"\")))","v":""},{"$f":"IF(SUM(V24:AA25)<>0,1,\"\")","v":""},{"$f":"IF(SUM(A24:B25)<>0,\"error\",\"\")","v":""},{"$f":"年暦!B19","v":8},8,{"$f":"年暦!B20","v":"水"},null,null,null,null,null,null,{"$f":"IF(D24=0,0,1)","v":1},{"$f":"IF(年暦!C20=\"\",\"\",年暦!C20)","v":"○"},{"$f":"年暦!C19","v":5},{"$f":"IF($O24=0,0,IF($O24>0,0,1))","v":0},{"$f":"IF($O24=0,0,IF($O24>1,0,1))","v":0},{"$f":"IF($O24=0,0,IF($O24>2,0,1))","v":0},{"$f":"IF($O24=0,0,IF($O24>3,0,1))","v":0},{"$f":"IF($O24=0,0,IF($O24>4,0,1))","v":0},{"$f":"IF($O24=0,0,IF($O24>5,0,1))","v":1},{"$f":"IF(AND(G24<>\"\",P24=1),2,0)","v":0},0,0,0,0,0,{"$f":"IF(年暦!D19=\"\",\"\",年暦!D19)","v":"登下校指導②"}]
[]
[{"$f":"IF(AND(D26=0,O26<>0),1,IF(AND(D26<>0,O26=0),1,IF(O26>6,1,\"\")))","v":""},{"$f":"IF(SUM(V26:AA27)<>0,1,\"\")","v":""},{"$f":"IF(SUM(A26:B27)<>0,\"error\",\"\")","v":""},{"$f":"年暦!B21","v":9},9,{"$f":"年暦!B22","v":"木"},null,null,null,null,null,null,{"$f":"IF(D26=0,0,1)","v":1},{"$f":"IF(年暦!C22=\"\",\"\",年暦!C22)","v":"○"},{"$f":"年暦!C21","v":5},{"$f":"IF($O26=0,0,IF($O26>0,0,1))","v":0},{"$f":"IF($O26=0,0,IF($O26>1,0,1))","v":0},{"$f":"IF($O26=0,0,IF($O26>2,0,1))","v":0},{"$f":"IF($O26=0,0,IF($O26>3,0,1))","v":0},{"$f":"IF($O26=0,0,IF($O26>4,0,1))","v":0},{"$f":"IF($O26=0,0,IF($O26>5,0,1))","v":1},{"$f":"IF(AND(G26<>\"\",P26=1),2,0)","v":0},0,0,0,0,0,{"$f":"IF(年暦!D21=\"\",\"\",年暦!D21)","v":"１年給食開始\n登下校指導③"}]
[]
[{"$f":"IF(AND(D28=0,O28<>0),1,IF(AND(D28<>0,O28=0),1,IF(O28>6,1,\"\")))","v":""},{"$f":"IF(SUM(V28:AA29)<>0,1,\"\")","v":""},{"$f":"IF(SUM(A28:B29)<>0,\"error\",\"\")","v":""},{"$f":"年暦!B23","v":10},10,{"$f":"年暦!B24","v":"金"},null,null,null,null,null,null,{"$f":"IF(D28=0,0,1)","v":1},{"$f":"IF(年暦!C24=\"\",\"\",年暦!C24)","v":"○"},{"$f":"年暦!C23","v":5},{"$f":"IF($O28=0,0,IF($O28>0,0,1))","v":0},{"$f":"IF($O28=0,0,IF($O28>1,0,1))","v":0},{"$f":"IF($O28=0,0,IF($O28>2,0,1))","v":0},{"$f":"IF($O28=0,0,IF($O28>3,0,1))","v":0},{"$f":"IF($O28=0,0,IF($O28>4,0,1))","v":0},{"$f":"IF($O28=0,0,IF($O28>5,0,1))","v":1},{"$f":"IF(AND(G28<>\"\",P28=1),2,0)","v":0},0,0,0,0,0,{"$f":"IF(年暦!D23=\"\",\"\",年暦!D23)","v":"身体測定（５・６年）\n登下校指導④"}]
[]
[{"$f":"IF(AND(D30=0,O30<>0),1,IF(AND(D30<>0,O30=0),1,IF(O30>6,1,\"\")))","v":""},{"$f":"IF(SUM(V30:AA31)<>0,1,\"\")","v":""},{"$f":"IF(SUM(A30:B31)<>0,\"error\",\"\")","v":""},{"$f":"年暦!B25","v":0},11,{"$f":"年暦!B26","v":"土"},null,null,null,null,null,null,{"$f":"IF(D30=0,0,1)","v":0},{"$f":"IF(年暦!C26=\"\",\"\",年暦!C26)","v":""},{"$f":"年暦!C25","v":0},{"$f":"IF($O30=0,0,IF($O30>0,0,1))","v":0},{"$f":"IF($O30=0,0,IF($O30>1,0,1))","v":0},{"$f":"IF($O30=0,0,IF($O30>2,0,1))","v":0},{"$f":"IF($O30=0,0,IF($O30>3,0,1))","v":0},{"$f":"IF($O30=0,0,IF($O30>4,0,1))","v":0},{"$f":"IF($O30=0,0,IF($O30>5,0,1))","v":0},{"$f":"IF(AND(G30<>\"\",P30=1),2,0)","v":0},0,0,0,0,0,{"$f":"IF(年暦!D25=\"\",\"\",年暦!D25)","v":""}]
[]
[{"$f":"IF(AND(D32=0,O32<>0),1,IF(AND(D32<>0,O32=0),1,IF(O32>6,1,\"\")))","v":""},{"$f":"IF(SUM(V32:AA33)<>0,1,\"\")","v":""},{"$f":"IF(SUM(A32:B33)<>0,\"error\",\"\")","v":""},{"$f":"年暦!B27","v":0},12,{"$f":"年暦!B28","v":"日"},null,null,null,null,null,null,{"$f":"IF(D32=0,0,1)","v":0},{"$f":"IF(年暦!C28=\"\",\"\",年暦!C28)","v":""},{"$f":"年暦!C27","v":0},{"$f":"IF($O32=0,0,IF($O32>0,0,1))","v":0},{"$f":"IF($O32=0,0,IF($O32>1,0,1))","v":0},{"$f":"IF($O32=0,0,IF($O32>2,0,1))","v":0},{"$f":"IF($O32=0,0,IF($O32>3,0,1))","v":0},{"$f":"IF($O32=0,0,IF($O32>4,0,1))","v":0},{"$f":"IF($O32=0,0,IF($O32>5,0,1))","v":0},{"$f":"IF(AND(G32<>\"\",P32=1),2,0)","v":0},0,0,0,0,0,{"$f":"IF(年暦!D27=\"\",\"\",年暦!D27)","v":""}]
[]
[{"$f":"IF(AND(D34=0,O34<>0),1,IF(AND(D34<>0,O34=0),1,IF(O34>6,1,\"\")))","v":""},{"$f":"IF(SUM(V34:AA35)<>0,1,\"\")","v":""},{"$f":"IF(SUM(A34:B35)<>0,\"error\",\"\")","v":""},{"$f":"年暦!B29","v":13},13,{"$f":"年暦!B30","v":"月"},null,null,null,null,null,null,{"$f":"IF(D34=0,0,1)","v":1},{"$f":"IF(年暦!C30=\"\",\"\",年暦!C30)","v":"○"},{"$f":"年暦!C29","v":5},{"$f":"IF($O34=0,0,IF($O34>0,0,1))","v":0},{"$f":"IF($O34=0,0,IF($O34>1,0,1))","v":0},{"$f":"IF($O34=0,0,IF($O34>2,0,1))","v":0},{"$f":"IF($O34=0,0,IF($O34>3,0,1))","v":0},{"$f":"IF($O34=0,0,IF($O34>4,0,1))","v":0},{"$f":"IF($O34=0,0,IF($O34>5,0,1))","v":1},{"$f":"IF(AND(G34<>\"\",P34=1),2,0)","v":0},0,0,0,0,0,{"$f":"IF(年暦!D29=\"\",\"\",年暦!D29)","v":"身体測定（３・４年）"}]
[]
[{"$f":"IF(AND(D36=0,O36<>0),1,IF(AND(D36<>0,O36=0),1,IF(O36>6,1,\"\")))","v":""},{"$f":"IF(SUM(V36:AA37)<>0,1,\"\")","v":""},{"$f":"IF(SUM(A36:B37)<>0,\"error\",\"\")","v":""},{"$f":"年暦!B31","v":14},14,{"$f":"年暦!B32","v":"火"},null,null,null,null,null,null,{"$f":"IF(D36=0,0,1)","v":1},{"$f":"IF(年暦!C32=\"\",\"\",年暦!C32)","v":"○"},{"$f":"年暦!C31","v":5},{"$f":"IF($O36=0,0,IF($O36>0,0,1))","v":0},{"$f":"IF($O36=0,0,IF($O36>1,0,1))","v":0},{"$f":"IF($O36=0,0,IF($O36>2,0,1))","v":0},{"$f":"IF($O36=0,0,IF($O36>3,0,1))","v":0},{"$f":"IF($O36=0,0,IF($O36>4,0,1))","v":0},{"$f":"IF($O36=0,0,IF($O36>5,0,1))","v":1},{"$f":"IF(AND(G36<>\"\",P36=1),2,0)","v":0},0,0,0,0,0,{"$f":"IF(年暦!D31=\"\",\"\",年暦!D31)","v":"避難訓練①\n家庭訪問（本城地区）"}]
[]
[{"$f":"IF(AND(D38=0,O38<>0),1,IF(AND(D38<>0,O38=0),1,IF(O38>6,1,\"\")))","v":""},{"$f":"IF(SUM(V38:AA39)<>0,1,\"\")","v":""},{"$f":"IF(SUM(A38:B39)<>0,\"error\",\"\")","v":""},{"$f":"年暦!B33","v":15},15,{"$f":"年暦!B34","v":"水"},null,null,null,null,null,null,{"$f":"IF(D38=0,0,1)","v":1},{"$f":"IF(年暦!C34=\"\",\"\",年暦!C34)","v":"○"},{"$f":"年暦!C33","v":5},{"$f":"IF($O38=0,0,IF($O38>0,0,1))","v":0},{"$f":"IF($O38=0,0,IF($O38>1,0,1))","v":0},{"$f":"IF($O38=0,0,IF($O38>2,0,1))","v":0},{"$f":"IF($O38=0,0,IF($O38>3,0,1))","v":0},{"$f":"IF($O38=0,0,IF($O38>4,0,1))","v":0},{"$f":"IF($O38=0,0,IF($O38>5,0,1))","v":1},{"$f":"IF(AND(G38<>\"\",P38=1),2,0)","v":0},0,0,0,0,0,{"$f":"IF(年暦!D33=\"\",\"\",年暦!D33)","v":"家庭訪問（坂北地区）\n身体測定（１・２年）"}]
[]
[{"$f":"IF(AND(D40=0,O40<>0),1,IF(AND(D40<>0,O40=0),1,IF(O40>6,1,\"\")))","v":""},{"$f":"IF(SUM(V40:AA41)<>0,1,\"\")","v":""},{"$f":"IF(SUM(A40:B41)<>0,\"error\",\"\")","v":""},{"$f":"年暦!B35","v":16},16,{"$f":"年暦!B36","v":"木"},null,null,null,null,null,null,{"$f":"IF(D40=0,0,1)","v":1},{"$f":"IF(年暦!C36=\"\",\"\",年暦!C36)","v":"○"},{"$f":"年暦!C35","v":5},{"$f":"IF($O40=0,0,IF($O40>0,0,1))","v":0},{"$f":"IF($O40=0,0,IF($O40>1,0,1))","v":0},{"$f":"IF($O40=0,0,IF($O40>2,0,1))","v":0},{"$f":"IF($O40=0,0,IF($O40>3,0,1))","v":0},{"$f":"IF($O40=0,0,IF($O40>4,0,1))","v":0},{"$f":"IF($O40=0,0,IF($O40>5,0,1))","v":1},{"$f":"IF(AND(G40<>\"\",P40=1),2,0)","v":0},0,0,0,0,0,{"$f":"IF(年暦!D35=\"\",\"\",年暦!D35)","v":"全国学力学習状況調査\n家庭訪問（坂井地区）"}]
[]
[{"$f":"IF(AND(D42=0,O42<>0),1,IF(AND(D42<>0,O42=0),1,IF(O42>6,1,\"\")))","v":""},{"$f":"IF(SUM(V42:AA43)<>0,1,\"\")","v":""},{"$f":"IF(SUM(A42:B43)<>0,\"error\",\"\")","v":""},{"$f":"年暦!B37","v":17},17,{"$f":"年暦!B38","v":"金"},null,null,null,null,null,null,{"$f":"IF(D42=0,0,1)","v":1},{"$f":"IF(年暦!C38=\"\",\"\",年暦!C38)","v":"○"},{"$f":"年暦!C37","v":4},{"$f":"IF($O42=0,0,IF($O42>0,0,1))","v":0},{"$f":"IF($O42=0,0,IF($O42>1,0,1))","v":0},{"$f":"IF($O42=0,0,IF($O42>2,0,1))","v":0},{"$f":"IF($O42=0,0,IF($O42>3,0,1))","v":0},{"$f":"IF($O42=0,0,IF($O42>4,0,1))","v":1},{"$f":"IF($O42=0,0,IF($O42>5,0,1))","v":1},{"$f":"IF(AND(G42<>\"\",P42=1),2,0)","v":0},0,0,0,0,0,{"$f":"IF(年暦!D37=\"\",\"\",年暦!D37)","v":"視力検査（高）\n遠足下見"}]
[]
[{"$f":"IF(AND(D44=0,O44<>0),1,IF(AND(D44<>0,O44=0),1,IF(O44>6,1,\"\")))","v":""},{"$f":"IF(SUM(V44:AA45)<>0,1,\"\")","v":""},{"$f":"IF(SUM(A44:B45)<>0,\"error\",\"\")","v":""},{"$f":"年暦!B39","v":0},18,{"$f":"年暦!B40","v":"土"},null,null,null,null,null,null,{"$f":"IF(D44=0,0,1)","v":0},{"$f":"IF(年暦!C40=\"\",\"\",年暦!C40)","v":""},{"$f":"年暦!C39","v":0},{"$f":"IF($O44=0,0,IF($O44>0,0,1))","v":0},{"$f":"IF($O44=0,0,IF($O44>1,0,1))","v":0},{"$f":"IF($O44=0,0,IF($O44>2,0,1))","v":0},{"$f":"IF($O44=0,0,IF($O44>3,0,1))","v":0},{"$f":"IF($O44=0,0,IF($O44>4,0,1))","v":0},{"$f":"IF($O44=0,0,IF($O44>5,0,1))","v":0},{"$f":"IF(AND(G44<>\"\",P44=1),2,0)","v":0},0,0,0,0,0,{"$f":"IF(年暦!D39=\"\",\"\",年暦!D39)","v":""}]
[]
[{"$f":"IF(AND(D46=0,O46<>0),1,IF(AND(D46<>0,O46=0),1,IF(O46>6,1,\"\")))","v":""},{"$f":"IF(SUM(V46:AA47)<>0,1,\"\")","v":""},{"$f":"IF(SUM(A46:B47)<>0,\"error\",\"\")","v":""},{"$f":"年暦!B41","v":0},19,{"$f":"年暦!B42","v":"日"},null,null,null,null,null,null,{"$f":"IF(D46=0,0,1)","v":0},{"$f":"IF(年暦!C42=\"\",\"\",年暦!C42)","v":""},{"$f":"年暦!C41","v":0},{"$f":"IF($O46=0,0,IF($O46>0,0,1))","v":0},{"$f":"IF($O46=0,0,IF($O46>1,0,1))","v":0},{"$f":"IF($O46=0,0,IF($O46>2,0,1))","v":0},{"$f":"IF($O46=0,0,IF($O46>3,0,1))","v":0},{"$f":"IF($O46=0,0,IF($O46>4,0,1))","v":0},{"$f":"IF($O46=0,0,IF($O46>5,0,1))","v":0},{"$f":"IF(AND(G46<>\"\",P46=1),2,0)","v":0},0,0,0,0,0,{"$f":"IF(年暦!D41=\"\",\"\",年暦!D41)","v":""}]
[]
[{"$f":"IF(AND(D48=0,O48<>0),1,IF(AND(D48<>0,O48=0),1,IF(O48>6,1,\"\")))","v":""},{"$f":"IF(SUM(V48:AA49)<>0,1,\"\")","v":""},{"$f":"IF(SUM(A48:B49)<>0,\"error\",\"\")","v":""},{"$f":"年暦!B43","v":20},20,{"$f":"年暦!B44","v":"月"},null,null,null,null,null,null,{"$f":"IF(D48=0,0,1)","v":1},{"$f":"IF(年暦!C44=\"\",\"\",年暦!C44)","v":"○"},{"$f":"年暦!C43","v":6},{"$f":"IF($O48=0,0,IF($O48>0,0,1))","v":0},{"$f":"IF($O48=0,0,IF($O48>1,0,1))","v":0},{"$f":"IF($O48=0,0,IF($O48>2,0,1))","v":0},{"$f":"IF($O48=0,0,IF($O48>3,0,1))","v":0},{"$f":"IF($O48=0,0,IF($O48>4,0,1))","v":0},{"$f":"IF($O48=0,0,IF($O48>5,0,1))","v":0},{"$f":"IF(AND(G48<>\"\",P48=1),2,0)","v":0},0,0,0,0,0,{"$f":"IF(年暦!D43=\"\",\"\",年暦!D43)","v":"金管バンド活動開始"}]
[]
[{"$f":"IF(AND(D50=0,O50<>0),1,IF(AND(D50<>0,O50=0),1,IF(O50>6,1,\"\")))","v":""},{"$f":"IF(SUM(V50:AA51)<>0,1,\"\")","v":""},{"$f":"IF(SUM(A50:B51)<>0,\"error\",\"\")","v":""},{"$f":"年暦!B45","v":21},21,{"$f":"年暦!B46","v":"火"},null,null,null,null,null,null,{"$f":"IF(D50=0,0,1)","v":1},{"$f":"IF(年暦!C46=\"\",\"\",年暦!C46)","v":"○"},{"$f":"年暦!C45","v":6},{"$f":"IF($O50=0,0,IF($O50>0,0,1))","v":0},{"$f":"IF($O50=0,0,IF($O50>1,0,1))","v":0},{"$f":"IF($O50=0,0,IF($O50>2,0,1))","v":0},{"$f":"IF($O50=0,0,IF($O50>3,0,1))","v":0},{"$f":"IF($O50=0,0,IF($O50>4,0,1))","v":0},{"$f":"IF($O50=0,0,IF($O50>5,0,1))","v":0},{"$f":"IF(AND(G50<>\"\",P50=1),2,0)","v":0},0,0,0,0,0,{"$f":"IF(年暦!D45=\"\",\"\",年暦!D45)","v":"視力検査（低）"}]
[]
[{"$f":"IF(AND(D52=0,O52<>0),1,IF(AND(D52<>0,O52=0),1,IF(O52>6,1,\"\")))","v":""},{"$f":"IF(SUM(V52:AA53)<>0,1,\"\")","v":""},{"$f":"IF(SUM(A52:B53)<>0,\"error\",\"\")","v":""},{"$f":"年暦!B47","v":22},22,{"$f":"年暦!B48","v":"水"},null,null,null,null,null,null,{"$f":"IF(D52=0,0,1)","v":1},{"$f":"IF(年暦!C48=\"\",\"\",年暦!C48)","v":"○"},{"$f":"年暦!C47","v":5},{"$f":"IF($O52=0,0,IF($O52>0,0,1))","v":0},{"$f":"IF($O52=0,0,IF($O52>1,0,1))","v":0},{"$f":"IF($O52=0,0,IF($O52>2,0,1))","v":0},{"$f":"IF($O52=0,0,IF($O52>3,0,1))","v":0},{"$f":"IF($O52=0,0,IF($O52>4,0,1))","v":0},{"$f":"IF($O52=0,0,IF($O52>5,0,1))","v":1},{"$f":"IF(AND(G52<>\"\",P52=1),2,0)","v":0},0,0,0,0,0,{"$f":"IF(年暦!D47=\"\",\"\",年暦!D47)","v":"１年生をむかえる会"}]
[]
[{"$f":"IF(AND(D54=0,O54<>0),1,IF(AND(D54<>0,O54=0),1,IF(O54>6,1,\"\")))","v":""},{"$f":"IF(SUM(V54:AA55)<>0,1,\"\")","v":""},{"$f":"IF(SUM(A54:B55)<>0,\"error\",\"\")","v":""},{"$f":"年暦!B49","v":23},23,{"$f":"年暦!B50","v":"木"},null,null,null,null,null,null,{"$f":"IF(D54=0,0,1)","v":1},{"$f":"IF(年暦!C50=\"\",\"\",年暦!C50)","v":"○"},{"$f":"年暦!C49","v":6},{"$f":"IF($O54=0,0,IF($O54>0,0,1))","v":0},{"$f":"IF($O54=0,0,IF($O54>1,0,1))","v":0},{"$f":"IF($O54=0,0,IF($O54>2,0,1))","v":0},{"$f":"IF($O54=0,0,IF($O54>3,0,1))","v":0},{"$f":"IF($O54=0,0,IF($O54>4,0,1))","v":0},{"$f":"IF($O54=0,0,IF($O54>5,0,1))","v":0},{"$f":"IF(AND(G54<>\"\",P54=1),2,0)","v":0},0,0,0,0,0,{"$f":"IF(年暦!D49=\"\",\"\",年暦!D49)","v":"聴力検査（３・５年）"}]
[]
[{"$f":"IF(AND(D56=0,O56<>0),1,IF(AND(D56<>0,O56=0),1,IF(O56>6,1,\"\")))","v":""},{"$f":"IF(SUM(V56:AA57)<>0,1,\"\")","v":""},{"$f":"IF(SUM(A56:B57)<>0,\"error\",\"\")","v":""},{"$f":"年暦!B51","v":24},24,{"$f":"年暦!B52","v":"金"},null,null,null,null,null,null,{"$f":"IF(D56=0,0,1)","v":1},{"$f":"IF(年暦!C52=\"\",\"\",年暦!C52)","v":"○"},{"$f":"年暦!C51","v":5},{"$f":"IF($O56=0,0,IF($O56>0,0,1))","v":0},{"$f":"IF($O56=0,0,IF($O56>1,0,1))","v":0},{"$f":"IF($O56=0,0,IF($O56>2,0,1))","v":0},{"$f":"IF($O56=0,0,IF($O56>3,0,1))","v":0},{"$f":"IF($O56=0,0,IF($O56>4,0,1))","v":0},{"$f":"IF($O56=0,0,IF($O56>5,0,1))","v":1},{"$f":"IF(AND(G56<>\"\",P56=1),2,0)","v":0},0,0,0,0,0,{"$f":"IF(年暦!D51=\"\",\"\",年暦!D51)","v":"参観日①\nPTA総会　歓送迎会"}]
[]
[{"$f":"IF(AND(D58=0,O58<>0),1,IF(AND(D58<>0,O58=0),1,IF(O58>6,1,\"\")))","v":""},{"$f":"IF(SUM(V58:AA59)<>0,1,\"\")","v":""},{"$f":"IF(SUM(A58:B59)<>0,\"error\",\"\")","v":""},{"$f":"年暦!B53","v":0},25,{"$f":"年暦!B54","v":"土"},null,null,null,null,null,null,{"$f":"IF(D58=0,0,1)","v":0},{"$f":"IF(年暦!C54=\"\",\"\",年暦!C54)","v":""},{"$f":"年暦!C53","v":0},{"$f":"IF($O58=0,0,IF($O58>0,0,1))","v":0},{"$f":"IF($O58=0,0,IF($O58>1,0,1))","v":0},{"$f":"IF($O58=0,0,IF($O58>2,0,1))","v":0},{"$f":"IF($O58=0,0,IF($O58>3,0,1))","v":0},{"$f":"IF($O58=0,0,IF($O58>4,0,1))","v":0},{"$f":"IF($O58=0,0,IF($O58>5,0,1))","v":0},{"$f":"IF(AND(G58<>\"\",P58=1),2,0)","v":0},0,0,0,0,0,{"$f":"IF(年暦!D53=\"\",\"\",年暦!D53)","v":"市町村対抗駅伝大会"}]
[]
[{"$f":"IF(AND(D60=0,O60<>0),1,IF(AND(D60<>0,O60=0),1,IF(O60>6,1,\"\")))","v":""},{"$f":"IF(SUM(V60:AA61)<>0,1,\"\")","v":""},{"$f":"IF(SUM(A60:B61)<>0,\"error\",\"\")","v":""},{"$f":"年暦!B55","v":0},26,{"$f":"年暦!B56","v":"日"},null,null,null,null,null,null,{"$f":"IF(D60=0,0,1)","v":0},{"$f":"IF(年暦!C56=\"\",\"\",年暦!C56)","v":""},{"$f":"年暦!C55","v":0},{"$f":"IF($O60=0,0,IF($O60>0,0,1))","v":0},{"$f":"IF($O60=0,0,IF($O60>1,0,1))","v":0},{"$f":"IF($O60=0,0,IF($O60>2,0,1))","v":0},{"$f":"IF($O60=0,0,IF($O60>3,0,1))","v":0},{"$f":"IF($O60=0,0,IF($O60>4,0,1))","v":0},{"$f":"IF($O60=0,0,IF($O60>5,0,1))","v":0},{"$f":"IF(AND(G60<>\"\",P60=1),2,0)","v":0},0,0,0,0,0,{"$f":"IF(年暦!D55=\"\",\"\",年暦!D55)","v":""}]
[]
[{"$f":"IF(AND(D62=0,O62<>0),1,IF(AND(D62<>0,O62=0),1,IF(O62>6,1,\"\")))","v":""},{"$f":"IF(SUM(V62:AA63)<>0,1,\"\")","v":""},{"$f":"IF(SUM(A62:B63)<>0,\"error\",\"\")","v":""},{"$f":"年暦!B57","v":27},27,{"$f":"年暦!B58","v":"月"},null,null,null,null,null,null,{"$f":"IF(D62=0,0,1)","v":1},{"$f":"IF(年暦!C58=\"\",\"\",年暦!C58)","v":"○"},{"$f":"年暦!C57","v":6},{"$f":"IF($O62=0,0,IF($O62>0,0,1))","v":0},{"$f":"IF($O62=0,0,IF($O62>1,0,1))","v":0},{"$f":"IF($O62=0,0,IF($O62>2,0,1))","v":0},{"$f":"IF($O62=0,0,IF($O62>3,0,1))","v":0},{"$f":"IF($O62=0,0,IF($O62>4,0,1))","v":0},{"$f":"IF($O62=0,0,IF($O62>5,0,1))","v":0},{"$f":"IF(AND(G62<>\"\",P62=1),2,0)","v":0},0,0,0,0,0,{"$f":"IF(年暦!D57=\"\",\"\",年暦!D57)","v":"\n地区児童会①（朝）\n聴力検査（１・２年）"}]
[]
[{"$f":"IF(AND(D64=0,O64<>0),1,IF(AND(D64<>0,O64=0),1,IF(O64>6,1,\"\")))","v":""},{"$f":"IF(SUM(V64:AA65)<>0,1,\"\")","v":""},{"$f":"IF(SUM(A64:B65)<>0,\"error\",\"\")","v":""},{"$f":"年暦!B59","v":28},28,{"$f":"年暦!B60","v":"火"},null,null,null,null,null,null,{"$f":"IF(D64=0,0,1)","v":1},{"$f":"IF(年暦!C60=\"\",\"\",年暦!C60)","v":"○"},{"$f":"年暦!C59","v":6},{"$f":"IF($O64=0,0,IF($O64>0,0,1))","v":0},{"$f":"IF($O64=0,0,IF($O64>1,0,1))","v":0},{"$f":"IF($O64=0,0,IF($O64>2,0,1))","v":0},{"$f":"IF($O64=0,0,IF($O64>3,0,1))","v":0},{"$f":"IF($O64=0,0,IF($O64>4,0,1))","v":0},{"$f":"IF($O64=0,0,IF($O64>5,0,1))","v":0},{"$f":"IF(AND(G64<>\"\",P64=1),2,0)","v":0},0,0,0,0,0,{"$f":"IF(年暦!D59=\"\",\"\",年暦!D59)","v":"交通安全教室"}]
[]
[{"$f":"IF(AND(D66=0,O66<>0),1,IF(AND(D66<>0,O66=0),1,IF(O66>6,1,\"\")))","v":""},{"$f":"IF(SUM(V66:AA67)<>0,1,\"\")","v":""},{"$f":"IF(SUM(A66:B67)<>0,\"error\",\"\")","v":""},{"$f":"年暦!B61","v":0},29,{"$f":"年暦!B62","v":"水"},null,null,null,null,null,null,{"$f":"IF(D66=0,0,1)","v":0},{"$f":"IF(年暦!C62=\"\",\"\",年暦!C62)","v":""},{"$f":"年暦!C61","v":0},{"$f":"IF($O66=0,0,IF($O66>0,0,1))","v":0},{"$f":"IF($O66=0,0,IF($O66>1,0,1))","v":0},{"$f":"IF($O66=0,0,IF($O66>2,0,1))","v":0},{"$f":"IF($O66=0,0,IF($O66>3,0,1))","v":0},{"$f":"IF($O66=0,0,IF($O66>4,0,1))","v":0},{"$f":"IF($O66=0,0,IF($O66>5,0,1))","v":0},{"$f":"IF(AND(G66<>\"\",P66=1),2,0)","v":0},0,0,0,0,0,{"$f":"IF(年暦!D61=\"\",\"\",年暦!D61)","v":"昭和の日"}]
[]
[{"$f":"IF(AND(D68=0,O68<>0),1,IF(AND(D68<>0,O68=0),1,IF(O68>6,1,\"\")))","v":""},{"$f":"IF(SUM(V68:AA69)<>0,1,\"\")","v":""},{"$f":"IF(SUM(A68:B69)<>0,\"error\",\"\")","v":""},{"$f":"年暦!B63","v":30},30,{"$f":"年暦!B64","v":"木"},null,null,null,null,null,null,{"$f":"IF(D68=0,0,1)","v":1},{"$f":"IF(年暦!C64=\"\",\"\",年暦!C64)","v":"○"},{"$f":"年暦!C63","v":6},{"$f":"IF($O68=0,0,IF($O68>0,0,1))","v":0},{"$f":"IF($O68=0,0,IF($O68>1,0,1))","v":0},{"$f":"IF($O68=0,0,IF($O68>2,0,1))","v":0},{"$f":"IF($O68=0,0,IF($O68>3,0,1))","v":0},{"$f":"IF($O68=0,0,IF($O68>4,0,1))","v":0},{"$f":"IF($O68=0,0,IF($O68>5,0,1))","v":0},{"$f":"IF(AND(G68<>\"\",P68=1),2,0)","v":0},0,0,0,0,0,{"$f":"IF(年暦!D63=\"\",\"\",年暦!D63)","v":"みどりの少年団結団式"}]
[]
[]
[]
[null,null,null,null,"日","曜","○","●","児","ク","学","△","登校","給食","時数","授業時数確認",null,null,null,null,null,"誤入力確認",null,null,null,null,null,"行　事　等"]
[null,null,null,null,null,null,{"$f":"COUNTIF($G$10:$L$69,G72)","v":0},2,0,0,1,0,{"$f":"SUM(M10:M70)","v":18},{"$f":"COUNTIF(N10:N69,\"○\")","v":17},{"$f":"SUM(O10:O70)","v":94}]
[]
[null,null,null,null,null,null,null,"小計",null,null,"累計",null,null,null,null,null,null,null,null,null,null,null,null,null,null,null,null,null,null,null,"小計",null,null,"累計",null,null,null,null,null,"小計",null,null,"累計"]
[null,{"$f":"SUM(AE76,AE77,AE78,AN76,AN77,AN78)","v":3},{"$f":"IF(H77<>B76,\"error\",\"\")","v":"error"},null,"登校日数",null,null,{"$f":"M73","v":18},null,null,{"$f":"H76","v":18},null,null,null,null,null,null,null,null,null,null,null,null,null,null,null,null,"教科，道徳，総合",null,null,{"$f":"G73","v":0},null,null,{"$f":"AE76","v":0},null,null,"クラブ",null,null,{"$f":"J73","v":0},null,null,{"$f":"AN76","v":0}]
[null,null,null,null,"授業時数",null,null,{"$f":"O73","v":94},null,null,{"$f":"H77","v":94},null,null,null,null,null,null,null,null,null,null,null,null,null,null,null,null,"行事",null,null,{"$f":"H73","v":2},null,null,{"$f":"AE77","v":2},null,null,"学級",null,null,{"$f":"K73","v":1},null,null,{"$f":"AN77","v":1}]
[null,null,null,null,"給食日数",null,null,{"$f":"N73","v":17},null,null,{"$f":"H78","v":17},null,null,null,null,null,null,null,null,null,null,null,null,null,null,null,null,"児童会",null,null,{"$f":"I73","v":0},null,null,{"$f":"AE78","v":0},null,null,"学校裁量",null,null,{"$f":"L73","v":0},null,null,{"$f":"AN78","v":0}]

{"sheet":"5","index":1,"n_rows":80,"n_cols":43,"rows_kept":80,"cut":false,"hidden":false,"merged":[[69,25,70,25],[69,26,70,26],[69,27,70,44],[69,45,70,45],[69,19,70,19],[69,20,70,20],[69,21,70,21],[69,22,70,22],[69,23,70,23],[69,24,70,24],[69,13,70,13],[69,14,70,14],[69,15,70,15],[69,16,70,16],[69,17,70,17],[69,18,70,18],[69,7,70,7],[69,8,70,8],[69,9,70,9],[69,10,70,10],[69,11,70,11],[69,12,70,12],[21,27,22,44],[19,27,20,44],[23,27,24,44],[69,0,70,0],[69,1,70,1],[69,2,70,2],[69,3,70,3],[69,4,70,4],[69,5,70,5],[69,6,70,6],[67,23,68,23],[67,24,68,24],[67,25,68,25],[67,26,68,26],[45,26,46,26],[51,25,52,25],[51,26,52,26],[49,25,50,25],[49,26,50,26],[45,23,46,23],[45,24,46,24],[43,23,44,23],[43,24,44,24],[47,25,48,25],[9,26,10,26],[9,15,10,15],[9,16,10,16],[9,17,10,17],[15,27,16,44],[13,27,14,44],[11,27,12,44],[11,24,12,24],[11,25,12,25],[9,18,10,18],[9,27,10,44],[11,26,12,26],[13,21,14,21],[13,22,14,22],[13,23,14,23],[13,24,14,24],[13,25,14,25],[13,26,14,26],[11,22,12,22],[11,15,12,15],[11,16,12,16],[11,17,12,17],[11,18,12,18],[13,15,14,15],[8,15,8,20],[8,21,8,26],[9,23,10,23],[9,24,10,24],[9,25,10,25],[65,21,66,21],[65,22,66,22],[65,23,66,23],[65,24,66,24],[55,23,56,23],[55,24,56,24],[55,25,56,25],[55,26,56,26],[57,25,58,25],[57,26,58,26],[49,23,50,23],[49,24,50,24],[57,21,58,21],[57,22,58,22],[57,23,58,23],[57,24,58,24],[53,23,54,23],[53,24,54,24],[45,25,46,25],[73,15,73,20],[73,21,73,26],[65,25,66,25],[65,26,66,26],[67,21,68,21],[67,22,68,22],[61,25,62,25],[61,26,62,26],[59,21,60,21],[59,22,60,22],[61,21,62,21],[61,22,62,22],[61,23,62,23],[61,24,62,24],[59,23,60,23],[59,24,60,24],[59,25,60,25],[59,26,60,26],[59,15,60,15],[59,16,60,16],[59,17,60,17],[59,18,60,18],[61,15,62,15],[61,16,62,16],[43,25,44,25],[43,26,44,26],[43,21,44,21],[43,22,44,22],[41,21,42,21],[41,22,42,22],[45,21,46,21],[45,22,46,22],[41,23,42,23],[41,24,42,24],[41,25,42,25],[41,26,42,26],[25,21,26,21],[25,22,26,22],[39,21,40,21],[39,22,40,22],[39,23,40,23],[39,24,40,24],[33,25,34,25],[33,26,34,26],[35,25,36,25],[35,26,36,26],[39,25,40,25],[39,26,40,26],[37,23,38,23],[37,24,38,24],[33,21,34,21],[33,22,34,22],[33,23,34,23],[33,24,34,24],[35,21,36,21],[35,22,36,22],[35,23,36,23],[35,24,36,24],[39,1,40,1],[41,1,42,1],[43,1,44,1],[45,1,46,1],[49,1,50,1],[23,25,24,25],[23,26,24,26],[29,25,30,25],[29,26,30,26],[25,23,26,23],[25,24,26,24],[27,25,28,25],[27,26,28,26],[25,25,26,25],[25,26,26,26],[27,21,28,21],[27,22,28,22],[29,21,30,21],[29,22,30,22],[29,23,30,23],[29,24,30,24],[27,23,28,23],[27,24,28,24],[23,23,24,23],[65,1,66,1],[67,1,68,1],[9,21,10,21],[9,22,10,22],[55,1,56,1],[57,1,58,1],[59,1,60,1],[61,1,62,1],[23,1,24,1],[25,1,26,1],[27,1,28,1],[29,1,30,1],[31,1,32,1],[33,1,34,1],[63,2,64,2],[65,2,66,2],[67,2,68,2],[9,1,10,1],[11,1,12,1],[13,1,14,1],[15,1,16,1],[17,1,18,1],[47,1,48,1],[63,1,64,1],[19,1,20,1],[21,1,22,1],[51,2,52,2],[53,2,54,2],[55,2,56,2],[57,2,58,2],[59,2,60,2],[61,2,62,2],[39,2,40,2],[41,2,42,2],[43,2,44,2],[45,2,46,2],[47,2,48,2],[49,2,50,2],[27,2,28,2],[29,2,30,2],[31,2,32,2],[33,2,34,2],[35,2,36,2],[37,2,38,2],[35,1,36,1],[37,1,38,1],[51,1,52,1],[53,1,54,1],[13,2,14,2],[11,21,12,21],[9,13,10,13],[11,13,12,13],[13,13,14,13],[9,12,10,12],[11,12,12,12],[13,12,14,12],[11,4,12,4],[9,4,10,4],[11,3,12,3],[9,3,10,3],[9,2,10,2],[11,2,12,2],[13,4,14,4],[13,3,14,3],[9,10,10,10],[9,11,10,11],[9,14,10,14],[11,11,12,11],[11,14,12,14],[9,9,10,9],[13,18,14,18],[27,4,28,4],[25,4,26,4],[23,4,24,4],[21,4,22,4],[23,3,24,3],[21,3,22,3],[15,3,16,3],[15,2,16,2],[17,2,18,2],[19,2,20,2],[21,2,22,2],[23,2,24,2],[25,2,26,2],[19,4,20,4],[17,4,18,4],[15,4,16,4],[19,3,20,3],[17,3,18,3],[35,3,36,3],[33,3,34,3],[31,3,32,3],[29,3,30,3],[27,3,28,3],[25,3,26,3],[47,3,48,3],[45,3,46,3],[43,3,44,3],[41,3,42,3],[39,3,40,3],[37,3,38,3],[59,3,60,3],[57,3,58,3],[55,3,56,3],[53,3,54,3],[51,3,52,3],[49,3,50,3],[67,4,68,4],[65,4,66,4],[63,4,64,4],[61,4,62,4],[67,3,68,3],[65,3,66,3],[63,3,64,3],[61,3,62,3],[51,4,52,4],[49,4,50,4],[47,4,48,4],[45,4,46,4],[59,4,60,4],[57,4,58,4],[55,4,56,4],[53,4,54,4],[35,4,36,4],[33,4,34,4],[31,4,32,4],[29,4,30,4],[43,4,44,4],[41,4,42,4],[39,4,40,4],[37,4,38,4],[9,7,10,7],[9,8,10,8],[11,5,12,5],[11,6,12,6],[11,7,12,7],[11,8,12,8],[9,5,10,5],[9,6,10,6],[15,5,16,5],[15,6,16,6],[15,7,16,7],[15,8,16,8],[13,5,14,5],[13,6,14,6],[13,7,14,7],[13,8,14,8],[19,5,20,5],[19,6,20,6],[19,7,20,7],[19,8,20,8],[17,5,18,5],[17,6,18,6],[17,7,18,7],[17,8,18,8],[23,5,24,5],[23,6,24,6],[23,7,24,7],[23,8,24,8],[21,5,22,5],[21,6,22,6],[21,7,22,7],[21,8,22,8],[27,5,28,5],[27,6,28,6],[27,7,28,7],[27,8,28,8],[25,5,26,5],[25,6,26,6],[25,7,26,7],[25,8,26,8],[31,5,32,5],[31,6,32,6],[31,7,32,7],[31,8,32,8],[29,5,30,5],[29,6,30,6],[29,7,30,7],[29,8,30,8],[35,5,36,5],[35,6,36,6],[35,7,36,7],[35,8,36,8],[33,5,34,5],[33,6,34,6],[33,7,34,7],[33,8,34,8],[39,5,40,5],[39,6,40,6],[39,7,40,7],[39,8,40,8],[37,5,38,5],[37,6,38,6],[37,7,38,7],[37,8,38,8],[43,5,44,5],[43,6,44,6],[43,7,44,7],[43,8,44,8],[41,5,42,5],[41,6,42,6],[41,7,42,7],[41,8,42,8],[47,5,48,5],[47,6,48,6],[47,7,48,7],[47,8,48,8],[45,5,46,5],[45,6,46,6],[45,7,46,7],[45,8,46,8],[61,5,62,5],[61,6,62,6],[61,7,62,7],[61,8,62,8],[51,5,52,5],[51,6,52,6],[51,7,52,7],[51,8,52,8],[49,5,50,5],[49,6,50,6],[49,7,50,7],[49,8,50,8],[55,5,56,5],[55,6,56,6],[55,7,56,7],[55,8,56,8],[53,5,54,5],[53,6,54,6],[53,7,54,7],[53,8,54,8],[67,5,68,5],[67,6,68,6],[67,7,68,7],[67,8,68,8],[65,5,66,5],[65,6,66,6],[65,7,66,7],[11,9,12,9],[11,10,12,10],[59,9,60,9],[59,10,60,10],[59,5,60,5],[59,6,60,6],[59,7,60,7],[59,8,60,8],[57,5,58,5],[57,6,58,6],[57,7,58,7],[57,8,58,8],[65,8,66,8],[63,5,64,5],[63,6,64,6],[63,7,64,7],[63,8,64,8],[59,11,60,11],[59,14,60,14],[59,13,60,13],[59,12,60,12],[65,9,66,9],[65,10,66,10],[65,11,66,11],[13,16,14,16],[13,17,14,17],[13,9,14,9],[13,10,14,10],[13,11,14,11],[13,14,14,14],[15,15,16,15],[15,16,16,16],[15,17,16,17],[19,15,20,15],[19,16,20,16],[19,17,20,17],[23,15,24,15],[23,16,24,16],[23,17,24,17],[27,15,28,15],[27,16,28,16],[15,18,16,18],[15,9,16,9],[15,10,16,10],[15,11,16,11],[15,14,16,14],[15,13,16,13],[15,12,16,12],[17,15,18,15],[17,16,18,16],[17,17,18,17],[17,18,18,18],[17,9,18,9],[17,10,18,10],[17,11,18,11],[17,14,18,14],[17,13,18,13],[17,12,18,12],[19,18,20,18],[19,9,20,9],[19,10,20,10],[19,11,20,11],[19,14,20,14],[19,13,20,13],[19,12,20,12],[21,15,22,15],[21,16,22,16],[21,17,22,17],[21,18,22,18],[21,9,22,9],[21,10,22,10],[21,11,22,11],[21,14,22,14],[21,13,22,13],[21,12,22,12],[23,18,24,18],[23,9,24,9],[23,10,24,10],[23,11,24,11],[23,14,24,14],[23,13,24,13],[23,12,24,12],[25,15,26,15],[25,16,26,16],[25,17,26,17],[25,18,26,18],[25,9,26,9],[25,10,26,10],[25,11,26,11],[25,14,26,14],[25,13,26,13],[25,12,26,12],[27,17,28,17],[27,18,28,18],[27,9,28,9],[27,10,28,10],[27,11,28,11],[27,14,28,14],[27,13,28,13],[27,12,28,12],[29,15,30,15],[29,16,30,16],[29,17,30,17],[29,18,30,18],[29,9,30,9],[29,10,30,10],[29,11,30,11],[29,14,30,14],[29,13,30,13],[29,12,30,12],[31,15,32,15],[31,16,32,16],[31,17,32,17],[31,18,32,18],[31,9,32,9],[31,10,32,10],[31,11,32,11],[31,14,32,14],[31,13,32,13],[31,12,32,12],[33,15,34,15],[33,16,34,16],[33,17,34,17],[33,18,34,18],[33,9,34,9],[33,10,34,10],[33,11,34,11],[33,14,34,14],[33,13,34,13],[33,12,34,12],[35,15,36,15],[35,16,36,16],[35,17,36,17],[35,18,36,18],[35,9,36,9],[35,10,36,10],[35,11,36,11],[35,14,36,14],[35,13,36,13],[35,12,36,12],[37,15,38,15],[37,16,38,16],[37,17,38,17],[37,18,38,18],[37,9,38,9],[37,10,38,10],[37,11,38,11],[37,14,38,14],[37,13,38,13],[37,12,38,12],[39,15,40,15],[39,16,40,16],[39,17,40,17],[39,18,40,18],[39,9,40,9],[39,10,40,10],[39,11,40,11],[39,14,40,14],[39,13,40,13],[39,12,40,12],[41,15,42,15],[41,16,42,16],[41,17,42,17],[41,18,42,18],[41,9,42,9],[41,10,42,10],[41,11,42,11],[41,14,42,14],[41,13,42,13],[41,12,42,12],[43,15,44,15],[43,16,44,16],[43,17,44,17],[43,18,44,18],[43,9,44,9],[43,10,44,10],[43,11,44,11],[43,14,44,14],[43,13,44,13],[43,12,44,12],[45,15,46,15],[45,16,46,16],[45,17,46,17],[45,18,46,18],[45,9,46,9],[45,10,46,10],[45,11,46,11],[45,14,46,14],[45,13,46,13],[45,12,46,12],[47,15,48,15],[47,16,48,16],[47,17,48,17],[47,18,48,18],[47,9,48,9],[47,10,48,10],[47,11,48,11],[47,14,48,14],[47,13,48,13],[47,12,48,12],[49,15,50,15],[49,16,50,16],[49,17,50,17],[49,18,50,18],[49,9,50,9],[49,10,50,10],[49,11,50,11],[49,14,50,14],[49,13,50,13],[49,12,50,12],[51,15,52,15],[51,16,52,16],[51,17,52,17],[51,18,52,18],[51,9,52,9],[51,10,52,10],[51,11,52,11],[51,14,52,14],[51,13,52,13],[51,12,52,12],[53,15,54,15],[53,16,54,16],[53,17,54,17],[53,18,54,18],[53,9,54,9],[53,10,54,10],[53,11,54,11],[53,14,54,14],[53,13,54,13],[53,12,54,12],[55,15,56,15],[55,16,56,16],[55,17,56,17],[55,18,56,18],[55,9,56,9],[55,10,56,10],[55,11,56,11],[55,14,56,14],[55,13,56,13],[55,12,56,12],[57,15,58,15],[57,16,58,16],[57,17,58,17],[57,18,58,18],[57,9,58,9],[57,10,58,10],[57,11,58,11],[57,14,58,14],[57,13,58,13],[57,12,58,12],[61,17,62,17],[61,18,62,18],[61,9,62,9],[61,10,62,10],[61,11,62,11],[61,14,62,14],[61,13,62,13],[61,12,62,12],[63,15,64,15],[63,16,64,16],[63,17,64,17],[63,18,64,18],[63,9,64,9],[63,10,64,10],[63,11,64,11],[63,14,64,14],[63,13,64,13],[63,12,64,12],[65,14,66,14],[65,13,66,13],[65,12,66,12],[67,9,68,9],[67,10,68,10],[67,11,68,11],[67,14,68,14],[67,13,68,13],[67,12,68,12],[67,15,68,15],[67,16,68,16],[67,17,68,17],[67,18,68,18],[65,15,66,15],[65,16,66,16],[65,17,66,17],[65,18,66,18],[11,20,12,20],[29,19,30,19],[29,20,30,20],[27,19,28,19],[27,20,28,20],[25,19,26,19],[25,20,26,20],[33,19,34,19],[33,20,34,20],[45,19,46,19],[45,20,46,20],[43,19,44,19],[43,20,44,20],[41,19,42,19],[41,20,42,20],[49,19,50,19],[11,23,12,23],[9,19,10,19],[15,19,16,19],[15,20,16,20],[13,19,14,19],[13,20,14,20],[9,20,10,20],[11,19,12,19],[19,19,20,19],[19,20,20,20],[17,19,18,19],[17,20,18,20],[15,21,16,21],[15,22,16,22],[17,21,18,21],[17,22,18,22],[19,21,20,21],[19,22,20,22],[17,23,18,23],[15,24,16,24],[15,25,16,25],[15,26,16,26],[17,24,18,24],[17,25,18,25],[17,26,18,26],[15,23,16,23],[19,25,20,25],[19,26,20,26],[21,23,22,23],[21,24,22,24],[21,25,22,25],[21,26,22,26],[19,23,20,23],[21,21,22,21],[21,22,22,22],[23,19,24,19],[23,20,24,20],[21,19,22,19],[21,20,22,20],[23,21,24,21],[23,22,24,22],[19,24,20,24],[23,24,24,24],[39,19,40,19],[39,20,40,20],[37,19,38,19],[37,20,38,20],[35,19,36,19],[35,20,36,20],[37,25,38,25],[37,26,38,26],[37,21,38,21],[37,22,38,22],[49,20,50,20],[47,19,48,19],[47,20,48,20],[47,21,48,21],[47,22,48,22],[49,21,50,21],[49,22,50,22],[53,25,54,25],[53,26,54,26],[51,19,52,19],[51,20,52,20],[51,21,52,21],[51,22,52,22],[51,23,52,23],[51,24,52,24],[47,26,48,26],[47,23,48,23],[47,24,48,24],[67,19,68,19],[67,20,68,20],[65,19,66,19],[65,20,66,20],[57,19,58,19],[57,20,58,20],[53,21,54,21],[53,22,54,22],[55,19,56,19],[55,20,56,20],[53,19,54,19],[53,20,54,20],[55,21,56,21],[55,22,56,22],[63,25,64,25],[63,26,64,26],[63,19,64,19],[63,20,64,20],[63,21,64,21],[63,22,64,22],[17,0,18,0],[19,0,20,0],[21,0,22,0],[23,0,24,0],[49,0,50,0],[51,0,52,0],[53,0,54,0],[55,0,56,0],[41,0,42,0],[43,0,44,0],[45,0,46,0],[47,0,48,0],[63,23,64,23],[63,24,64,24],[61,19,62,19],[61,20,62,20],[59,19,60,19],[59,20,60,20],[9,0,10,0],[11,0,12,0],[13,0,14,0],[15,0,16,0],[33,0,34,0],[35,0,36,0],[37,0,38,0],[39,0,40,0],[25,0,26,0],[27,0,28,0],[29,0,30,0],[31,0,32,0],[65,0,66,0],[67,0,68,0],[57,0,58,0],[59,0,60,0],[61,0,62,0],[63,0,64,0],[27,45,28,45],[29,45,30,45],[31,45,32,45],[33,45,34,45],[43,27,44,44],[67,45,68,45],[59,45,60,45],[61,45,62,45],[63,45,64,45],[65,45,66,45],[51,45,52,45],[53,45,54,45],[55,45,56,45],[57,45,58,45],[53,27,54,44],[59,27,60,44],[51,27,52,44],[49,27,50,44],[19,45,20,45],[21,45,22,45],[23,45,24,45],[25,45,26,45],[43,45,44,45],[45,45,46,45],[47,45,48,45],[49,45,50,45],[35,45,36,45],[37,45,38,45],[39,45,40,45],[41,45,42,45],[47,27,48,44],[45,27,46,44],[67,27,68,44],[65,27,66,44],[63,27,64,44],[61,27,62,44],[57,27,58,44],[55,27,56,44],[35,27,36,44],[33,27,34,44],[31,27,32,44],[29,27,30,44],[27,27,28,44],[25,27,26,44],[6,4,6,44],[5,4,5,44],[3,36,3,37],[3,33,3,34],[3,30,3,31],[3,27,3,28],[3,10,3,11],[3,7,3,8],[3,4,3,5],[7,4,7,44],[31,25,32,25],[31,26,32,26],[31,19,32,19],[31,20,32,20],[31,21,32,21],[31,22,32,22],[31,23,32,23],[31,24,32,24],[17,27,18,44],[79,4,79,6],[78,4,78,6],[79,10,79,13],[78,10,78,13],[76,27,76,29],[76,10,76,13],[79,27,79,29],[78,27,78,29],[77,27,77,29],[76,4,76,6],[76,7,76,9],[79,7,79,9],[78,7,78,9],[77,7,77,9],[77,4,77,6],[77,10,77,13],[77,42,77,44],[79,39,79,41],[78,39,78,41],[77,39,77,41],[76,42,76,44],[76,39,76,41],[76,36,76,38],[8,27,8,44],[41,27,42,44],[39,27,40,44],[37,27,38,44],[79,33,79,35],[78,33,78,35],[77,33,77,35],[79,30,79,32],[78,30,78,32],[77,30,77,32],[79,42,79,44],[78,42,78,44],[79,36,79,38],[78,36,78,38],[77,36,77,38],[76,33,76,35],[76,30,76,32]]}
[]
[]
[]
[null,null,null,null,"q",null,null,"w",null,null,"e",null,null,null,null,null,null,null,null,null,null,null,null,null,null,null,null,"r",null,null,"t",null,null,"y",null,null,"u"]
[]
[null,null,null,null,"○：教科，道徳，総合　　●：行事　　児：児童会　　ク：クラブ　　学：学級　　△：学裁"]
[null,null,null,null,{"$f":"CONCATENATE(年暦!F4,\"　　　予　定　表\")","v":"5　　　月　　　予　定　表"}]
[null,null,null,null,"○：教科，道徳，総合　　●：行事　　児：児童会　　ク：クラブ　　学：学級　　△：学裁"]
[null,null,null,null,"日","曜",1,2,3,4,5,6,"登校","給食","時数","授業時数確認",null,null,null,null,null,"誤入力確認",null,null,null,null,null,"行　事　等"]
[{"$f":"IF(AND(D10=0,O10<>0),1,IF(AND(D10<>0,O10=0),1,IF(O10>6,1,\"\")))","v":""},{"$f":"IF(SUM(V10:AA11)<>0,1,\"\")","v":""},{"$f":"IF(SUM(A10:B11)<>0,\"error\",\"\")","v":""},{"$f":"年暦!F5","v":1},1,{"$f":"年暦!F6","v":"金"},null,null,null,null,null,null,{"$f":"IF(D10=0,0,1)","v":1},{"$f":"IF(年暦!G6=\"\",\"\",年暦!G6)","v":"○"},{"$f":"年暦!G5","v":6},{"$f":"IF($O10=0,0,IF($O10>0,0,1))","v":0},{"$f":"IF($O10=0,0,IF($O10>1,0,1))","v":0},{"$f":"IF($O10=0,0,IF($O10>2,0,1))","v":0},{"$f":"IF($O10=0,0,IF($O10>3,0,1))","v":0},{"$f":"IF($O10=0,0,IF($O10>4,0,1))","v":0},{"$f":"IF($O10=0,0,IF($O10>5,0,1))","v":0},{"$f":"IF(AND(G10<>\"\",P10=1),2,0)","v":0},0,0,0,0,0,{"$f":"IF(年暦!H5=\"\",\"\",年暦!H5)","v":""}]
[]
[{"$f":"IF(AND(D12=0,O12<>0),1,IF(AND(D12<>0,O12=0),1,IF(O12>6,1,\"\")))","v":""},{"$f":"IF(SUM(V12:AA13)<>0,1,\"\")","v":""},{"$f":"IF(SUM(A12:B13)<>0,\"error\",\"\")","v":""},{"$f":"年暦!F7","v":0},2,{"$f":"年暦!F8","v":"土"},null,null,null,null,null,null,{"$f":"IF(D12=0,0,1)","v":0},{"$f":"IF(年暦!G8=\"\",\"\",年暦!G8)","v":""},{"$f":"年暦!G7","v":0},{"$f":"IF($O12=0,0,IF($O12>0,0,1))","v":0},{"$f":"IF($O12=0,0,IF($O12>1,0,1))","v":0},{"$f":"IF($O12=0,0,IF($O12>2,0,1))","v":0},{"$f":"IF($O12=0,0,IF($O12>3,0,1))","v":0},{"$f":"IF($O12=0,0,IF($O12>4,0,1))","v":0},{"$f":"IF($O12=0,0,IF($O12>5,0,1))","v":0},{"$f":"IF(AND(G12<>\"\",P12=1),2,0)","v":0},0,0,0,0,0,{"$f":"IF(年暦!H7=\"\",\"\",年暦!H7)","v":""}]
[]
[{"$f":"IF(AND(D14=0,O14<>0),1,IF(AND(D14<>0,O14=0),1,IF(O14>6,1,\"\")))","v":""},{"$f":"IF(SUM(V14:AA15)<>0,1,\"\")","v":""},{"$f":"IF(SUM(A14:B15)<>0,\"error\",\"\")","v":""},{"$f":"年暦!F9","v":0},3,{"$f":"年暦!F10","v":"日"},null,null,null,null,null,null,{"$f":"IF(D14=0,0,1)","v":0},{"$f":"IF(年暦!G10=\"\",\"\",年暦!G10)","v":""},{"$f":"年暦!G9","v":0},{"$f":"IF($O14=0,0,IF($O14>0,0,1))","v":0},{"$f":"IF($O14=0,0,IF($O14>1,0,1))","v":0},{"$f":"IF($O14=0,0,IF($O14>2,0,1))","v":0},{"$f":"IF($O14=0,0,IF($O14>3,0,1))","v":0},{"$f":"IF($O14=0,0,IF($O14>4,0,1))","v":0},{"$f":"IF($O14=0,0,IF($O14>5,0,1))","v":0},{"$f":"IF(AND(G14<>\"\",P14=1),2,0)","v":0},0,0,0,0,0,{"$f":"IF(年暦!H9=\"\",\"\",年暦!H9)","v":"憲法記念日"}]
[]
[{"$f":"IF(AND(D16=0,O16<>0),1,IF(AND(D16<>0,O16=0),1,IF(O16>6,1,\"\")))","v":""},{"$f":"IF(SUM(V16:AA17)<>0,1,\"\")","v":""},{"$f":"IF(SUM(A16:B17)<>0,\"error\",\"\")","v":""},{"$f":"年暦!F11","v":0},4,{"$f":"年暦!F12","v":"月"},null,null,null,null,null,null,{"$f":"IF(D16=0,0,1)","v":0},{"$f":"IF(年暦!G12=\"\",\"\",年暦!G12)","v":""},{"$f":"年暦!G11","v":0},{"$f":"IF($O16=0,0,IF($O16>0,0,1))","v":0},{"$f":"IF($O16=0,0,IF($O16>1,0,1))","v":0},{"$f":"IF($O16=0,0,IF($O16>2,0,1))","v":0},{"$f":"IF($O16=0,0,IF($O16>3,0,1))","v":0},{"$f":"IF($O16=0,0,IF($O16>4,0,1))","v":0},{"$f":"IF($O16=0,0,IF($O16>5,0,1))","v":0},{"$f":"IF(AND(G16<>\"\",P16=1),2,0)","v":0},0,0,0,0,0,{"$f":"IF(年暦!H11=\"\",\"\",年暦!H11)","v":"みどりの日"}]
[]
[{"$f":"IF(AND(D18=0,O18<>0),1,IF(AND(D18<>0,O18=0),1,IF(O18>6,1,\"\")))","v":""},{"$f":"IF(SUM(V18:AA19)<>0,1,\"\")","v":""},{"$f":"IF(SUM(A18:B19)<>0,\"error\",\"\")","v":""},{"$f":"年暦!F13","v":0},5,{"$f":"年暦!F14","v":"火"},null,null,null,null,null,null,{"$f":"IF(D18=0,0,1)","v":0},{"$f":"IF(年暦!G14=\"\",\"\",年暦!G14)","v":""},{"$f":"年暦!G13","v":0},{"$f":"IF($O18=0,0,IF($O18>0,0,1))","v":0},{"$f":"IF($O18=0,0,IF($O18>1,0,1))","v":0},{"$f":"IF($O18=0,0,IF($O18>2,0,1))","v":0},{"$f":"IF($O18=0,0,IF($O18>3,0,1))","v":0},{"$f":"IF($O18=0,0,IF($O18>4,0,1))","v":0},{"$f":"IF($O18=0,0,IF($O18>5,0,1))","v":0},{"$f":"IF(AND(G18<>\"\",P18=1),2,0)","v":0},0,0,0,0,0,{"$f":"IF(年暦!H13=\"\",\"\",年暦!H13)","v":"こどもの日"}]
[]
[{"$f":"IF(AND(D20=0,O20<>0),1,IF(AND(D20<>0,O20=0),1,IF(O20>6,1,\"\")))","v":""},{"$f":"IF(SUM(V20:AA21)<>0,1,\"\")","v":""},{"$f":"IF(SUM(A20:B21)<>0,\"error\",\"\")","v":""},{"$f":"年暦!F15","v":0},6,{"$f":"年暦!F16","v":"水"},null,null,null,null,null,null,{"$f":"IF(D20=0,0,1)","v":0},{"$f":"IF(年暦!G16=\"\",\"\",年暦!G16)","v":""},{"$f":"年暦!G15","v":0},{"$f":"IF($O20=0,0,IF($O20>0,0,1))","v":0},{"$f":"IF($O20=0,0,IF($O20>1,0,1))","v":0},{"$f":"IF($O20=0,0,IF($O20>2,0,1))","v":0},{"$f":"IF($O20=0,0,IF($O20>3,0,1))","v":0},{"$f":"IF($O20=0,0,IF($O20>4,0,1))","v":0},{"$f":"IF($O20=0,0,IF($O20>5,0,1))","v":0},{"$f":"IF(AND(G20<>\"\",P20=1),2,0)","v":0},0,0,0,0,0,{"$f":"IF(年暦!H15=\"\",\"\",年暦!H15)","v":"振替休日"}]
[]
[{"$f":"IF(AND(D22=0,O22<>0),1,IF(AND(D22<>0,O22=0),1,IF(O22>6,1,\"\")))","v":""},{"$f":"IF(SUM(V22:AA23)<>0,1,\"\")","v":""},{"$f":"IF(SUM(A22:B23)<>0,\"error\",\"\")","v":""},{"$f":"年暦!F17","v":7},7,{"$f":"年暦!F18","v":"木"},null,null,null,null,null,null,{"$f":"IF(D22=0,0,1)","v":1},{"$f":"IF(年暦!G18=\"\",\"\",年暦!G18)","v":"○"},{"$f":"年暦!G17","v":6},{"$f":"IF($O22=0,0,IF($O22>0,0,1))","v":0},{"$f":"IF($O22=0,0,IF($O22>1,0,1))","v":0},{"$f":"IF($O22=0,0,IF($O22>2,0,1))","v":0},{"$f":"IF($O22=0,0,IF($O22>3,0,1))","v":0},{"$f":"IF($O22=0,0,IF($O22>4,0,1))","v":0},{"$f":"IF($O22=0,0,IF($O22>5,0,1))","v":0},{"$f":"IF(AND(G22<>\"\",P22=1),2,0)","v":0},0,0,0,0,0,{"$f":"IF(年暦!H17=\"\",\"\",年暦!H17)","v":""}]
[]
[{"$f":"IF(AND(D24=0,O24<>0),1,IF(AND(D24<>0,O24=0),1,IF(O24>6,1,\"\")))","v":""},{"$f":"IF(SUM(V24:AA25)<>0,1,\"\")","v":""},{"$f":"IF(SUM(A24:B25)<>0,\"error\",\"\")","v":""},{"$f":"年暦!F19","v":8},8,{"$f":"年暦!F20","v":"金"},null,null,null,null,null,null,{"$f":"IF(D24=0,0,1)","v":1},{"$f":"IF(年暦!G20=\"\",\"\",年暦!G20)","v":"○"},{"$f":"年暦!G19","v":6},{"$f":"IF($O24=0,0,IF($O24>0,0,1))","v":0},{"$f":"IF($O24=0,0,IF($O24>1,0,1))","v":0},{"$f":"IF($O24=0,0,IF($O24>2,0,1))","v":0},{"$f":"IF($O24=0,0,IF($O24>3,0,1))","v":0},{"$f":"IF($O24=0,0,IF($O24>4,0,1))","v":0},{"$f":"IF($O24=0,0,IF($O24>5,0,1))","v":0},{"$f":"IF(AND(G24<>\"\",P24=1),2,0)","v":0},0,0,0,0,0,{"$f":"IF(年暦!H19=\"\",\"\",年暦!H19)","v":"北部鑑賞音楽会\n検尿①"}]
[]
[{"$f":"IF(AND(D26=0,O26<>0),1,IF(AND(D26<>0,O26=0),1,IF(O26>6,1,\"\")))","v":""},{"$f":"IF(SUM(V26:AA27)<>0,1,\"\")","v":""},{"$f":"IF(SUM(A26:B27)<>0,\"error\",\"\")","v":""},{"$f":"年暦!F21","v":0},9,{"$f":"年暦!F22","v":"土"},null,null,null,null,null,null,{"$f":"IF(D26=0,0,1)","v":0},{"$f":"IF(年暦!G22=\"\",\"\",年暦!G22)","v":""},{"$f":"年暦!G21","v":0},{"$f":"IF($O26=0,0,IF($O26>0,0,1))","v":0},{"$f":"IF($O26=0,0,IF($O26>1,0,1))","v":0},{"$f":"IF($O26=0,0,IF($O26>2,0,1))","v":0},{"$f":"IF($O26=0,0,IF($O26>3,0,1))","v":0},{"$f":"IF($O26=0,0,IF($O26>4,0,1))","v":0},{"$f":"IF($O26=0,0,IF($O26>5,0,1))","v":0},{"$f":"IF(AND(G26<>\"\",P26=1),2,0)","v":0},0,0,0,0,0,{"$f":"IF(年暦!H21=\"\",\"\",年暦!H21)","v":""}]
[]
[{"$f":"IF(AND(D28=0,O28<>0),1,IF(AND(D28<>0,O28=0),1,IF(O28>6,1,\"\")))","v":""},{"$f":"IF(SUM(V28:AA29)<>0,1,\"\")","v":""},{"$f":"IF(SUM(A28:B29)<>0,\"error\",\"\")","v":""},{"$f":"年暦!F23","v":0},10,{"$f":"年暦!F24","v":"日"},null,null,null,null,null,null,{"$f":"IF(D28=0,0,1)","v":0},{"$f":"IF(年暦!G24=\"\",\"\",年暦!G24)","v":""},{"$f":"年暦!G23","v":0},{"$f":"IF($O28=0,0,IF($O28>0,0,1))","v":0},{"$f":"IF($O28=0,0,IF($O28>1,0,1))","v":0},{"$f":"IF($O28=0,0,IF($O28>2,0,1))","v":0},{"$f":"IF($O28=0,0,IF($O28>3,0,1))","v":0},{"$f":"IF($O28=0,0,IF($O28>4,0,1))","v":0},{"$f":"IF($O28=0,0,IF($O28>5,0,1))","v":0},{"$f":"IF(AND(G28<>\"\",P28=1),2,0)","v":0},0,0,0,0,0,{"$f":"IF(年暦!H23=\"\",\"\",年暦!H23)","v":""}]
[]
[{"$f":"IF(AND(D30=0,O30<>0),1,IF(AND(D30<>0,O30=0),1,IF(O30>6,1,\"\")))","v":""},{"$f":"IF(SUM(V30:AA31)<>0,1,\"\")","v":""},{"$f":"IF(SUM(A30:B31)<>0,\"error\",\"\")","v":""},{"$f":"年暦!F25","v":11},11,{"$f":"年暦!F26","v":"月"},null,null,null,null,null,null,{"$f":"IF(D30=0,0,1)","v":1},{"$f":"IF(年暦!G26=\"\",\"\",年暦!G26)","v":"○"},{"$f":"年暦!G25","v":4},{"$f":"IF($O30=0,0,IF($O30>0,0,1))","v":0},{"$f":"IF($O30=0,0,IF($O30>1,0,1))","v":0},{"$f":"IF($O30=0,0,IF($O30>2,0,1))","v":0},{"$f":"IF($O30=0,0,IF($O30>3,0,1))","v":0},{"$f":"IF($O30=0,0,IF($O30>4,0,1))","v":1},{"$f":"IF($O30=0,0,IF($O30>5,0,1))","v":1},{"$f":"IF(AND(G30<>\"\",P30=1),2,0)","v":0},0,0,0,0,0,{"$f":"IF(年暦!H25=\"\",\"\",年暦!H25)","v":"なかよし週間（15日まで）\n検尿②\n北部教育会総集会"}]
[]
[{"$f":"IF(AND(D32=0,O32<>0),1,IF(AND(D32<>0,O32=0),1,IF(O32>6,1,\"\")))","v":""},{"$f":"IF(SUM(V32:AA33)<>0,1,\"\")","v":""},{"$f":"IF(SUM(A32:B33)<>0,\"error\",\"\")","v":""},{"$f":"年暦!F27","v":12},12,{"$f":"年暦!F28","v":"火"},null,null,null,null,null,null,{"$f":"IF(D32=0,0,1)","v":1},{"$f":"IF(年暦!G28=\"\",\"\",年暦!G28)","v":"○"},{"$f":"年暦!G27","v":6},{"$f":"IF($O32=0,0,IF($O32>0,0,1))","v":0},{"$f":"IF($O32=0,0,IF($O32>1,0,1))","v":0},{"$f":"IF($O32=0,0,IF($O32>2,0,1))","v":0},{"$f":"IF($O32=0,0,IF($O32>3,0,1))","v":0},{"$f":"IF($O32=0,0,IF($O32>4,0,1))","v":0},{"$f":"IF($O32=0,0,IF($O32>5,0,1))","v":0},{"$f":"IF(AND(G32<>\"\",P32=1),2,0)","v":0},0,0,0,0,0,{"$f":"IF(年暦!H27=\"\",\"\",年暦!H27)","v":""}]
[]
[{"$f":"IF(AND(D34=0,O34<>0),1,IF(AND(D34<>0,O34=0),1,IF(O34>6,1,\"\")))","v":""},{"$f":"IF(SUM(V34:AA35)<>0,1,\"\")","v":""},{"$f":"IF(SUM(A34:B35)<>0,\"error\",\"\")","v":""},{"$f":"年暦!F29","v":13},13,{"$f":"年暦!F30","v":"水"},null,null,null,null,null,null,{"$f":"IF(D34=0,0,1)","v":1},{"$f":"IF(年暦!G30=\"\",\"\",年暦!G30)","v":"○"},{"$f":"年暦!G29","v":5},{"$f":"IF($O34=0,0,IF($O34>0,0,1))","v":0},{"$f":"IF($O34=0,0,IF($O34>1,0,1))","v":0},{"$f":"IF($O34=0,0,IF($O34>2,0,1))","v":0},{"$f":"IF($O34=0,0,IF($O34>3,0,1))","v":0},{"$f":"IF($O34=0,0,IF($O34>4,0,1))","v":0},{"$f":"IF($O34=0,0,IF($O34>5,0,1))","v":1},{"$f":"IF(AND(G34<>\"\",P34=1),2,0)","v":0},0,0,0,0,0,{"$f":"IF(年暦!H29=\"\",\"\",年暦!H29)","v":"眼科検診"}]
[]
[{"$f":"IF(AND(D36=0,O36<>0),1,IF(AND(D36<>0,O36=0),1,IF(O36>6,1,\"\")))","v":""},{"$f":"IF(SUM(V36:AA37)<>0,1,\"\")","v":""},{"$f":"IF(SUM(A36:B37)<>0,\"error\",\"\")","v":""},{"$f":"年暦!F31","v":14},14,{"$f":"年暦!F32","v":"木"},null,null,null,null,null,null,{"$f":"IF(D36=0,0,1)","v":1},{"$f":"IF(年暦!G32=\"\",\"\",年暦!G32)","v":"○"},{"$f":"年暦!G31","v":6},{"$f":"IF($O36=0,0,IF($O36>0,0,1))","v":0},{"$f":"IF($O36=0,0,IF($O36>1,0,1))","v":0},{"$f":"IF($O36=0,0,IF($O36>2,0,1))","v":0},{"$f":"IF($O36=0,0,IF($O36>3,0,1))","v":0},{"$f":"IF($O36=0,0,IF($O36>4,0,1))","v":0},{"$f":"IF($O36=0,0,IF($O36>5,0,1))","v":0},{"$f":"IF(AND(G36<>\"\",P36=1),2,0)","v":0},0,0,0,0,0,{"$f":"IF(年暦!H31=\"\",\"\",年暦!H31)","v":"児童会総会①"}]
[]
[{"$f":"IF(AND(D38=0,O38<>0),1,IF(AND(D38<>0,O38=0),1,IF(O38>6,1,\"\")))","v":""},{"$f":"IF(SUM(V38:AA39)<>0,1,\"\")","v":""},{"$f":"IF(SUM(A38:B39)<>0,\"error\",\"\")","v":""},{"$f":"年暦!F33","v":15},15,{"$f":"年暦!F34","v":"金"},null,null,null,null,null,null,{"$f":"IF(D38=0,0,1)","v":1},{"$f":"IF(年暦!G34=\"\",\"\",年暦!G34)","v":"×"},{"$f":"年暦!G33","v":6},{"$f":"IF($O38=0,0,IF($O38>0,0,1))","v":0},{"$f":"IF($O38=0,0,IF($O38>1,0,1))","v":0},{"$f":"IF($O38=0,0,IF($O38>2,0,1))","v":0},{"$f":"IF($O38=0,0,IF($O38>3,0,1))","v":0},{"$f":"IF($O38=0,0,IF($O38>4,0,1))","v":0},{"$f":"IF($O38=0,0,IF($O38>5,0,1))","v":0},{"$f":"IF(AND(G38<>\"\",P38=1),2,0)","v":0},0,0,0,0,0,{"$f":"IF(年暦!H33=\"\",\"\",年暦!H33)","v":"遠足"}]
[]
[{"$f":"IF(AND(D40=0,O40<>0),1,IF(AND(D40<>0,O40=0),1,IF(O40>6,1,\"\")))","v":""},{"$f":"IF(SUM(V40:AA41)<>0,1,\"\")","v":""},{"$f":"IF(SUM(A40:B41)<>0,\"error\",\"\")","v":""},{"$f":"年暦!F35","v":0},16,{"$f":"年暦!F36","v":"土"},null,null,null,null,null,null,{"$f":"IF(D40=0,0,1)","v":0},{"$f":"IF(年暦!G36=\"\",\"\",年暦!G36)","v":""},{"$f":"年暦!G35","v":0},{"$f":"IF($O40=0,0,IF($O40>0,0,1))","v":0},{"$f":"IF($O40=0,0,IF($O40>1,0,1))","v":0},{"$f":"IF($O40=0,0,IF($O40>2,0,1))","v":0},{"$f":"IF($O40=0,0,IF($O40>3,0,1))","v":0},{"$f":"IF($O40=0,0,IF($O40>4,0,1))","v":0},{"$f":"IF($O40=0,0,IF($O40>5,0,1))","v":0},{"$f":"IF(AND(G40<>\"\",P40=1),2,0)","v":0},0,0,0,0,0,{"$f":"IF(年暦!H35=\"\",\"\",年暦!H35)","v":""}]
[]
[{"$f":"IF(AND(D42=0,O42<>0),1,IF(AND(D42<>0,O42=0),1,IF(O42>6,1,\"\")))","v":""},{"$f":"IF(SUM(V42:AA43)<>0,1,\"\")","v":""},{"$f":"IF(SUM(A42:B43)<>0,\"error\",\"\")","v":""},{"$f":"年暦!F37","v":0},17,{"$f":"年暦!F38","v":"日"},null,null,null,null,null,null,{"$f":"IF(D42=0,0,1)","v":0},{"$f":"IF(年暦!G38=\"\",\"\",年暦!G38)","v":""},{"$f":"年暦!G37","v":0},{"$f":"IF($O42=0,0,IF($O42>0,0,1))","v":0},{"$f":"IF($O42=0,0,IF($O42>1,0,1))","v":0},{"$f":"IF($O42=0,0,IF($O42>2,0,1))","v":0},{"$f":"IF($O42=0,0,IF($O42>3,0,1))","v":0},{"$f":"IF($O42=0,0,IF($O42>4,0,1))","v":0},{"$f":"IF($O42=0,0,IF($O42>5,0,1))","v":0},{"$f":"IF(AND(G42<>\"\",P42=1),2,0)","v":0},0,0,0,0,0,{"$f":"IF(年暦!H37=\"\",\"\",年暦!H37)","v":""}]
[]
[{"$f":"IF(AND(D44=0,O44<>0),1,IF(AND(D44<>0,O44=0),1,IF(O44>6,1,\"\")))","v":""},{"$f":"IF(SUM(V44:AA45)<>0,1,\"\")","v":""},{"$f":"IF(SUM(A44:B45)<>0,\"error\",\"\")","v":""},{"$f":"年暦!F39","v":18},18,{"$f":"年暦!F40","v":"月"},null,null,null,null,null,null,{"$f":"IF(D44=0,0,1)","v":1},{"$f":"IF(年暦!G40=\"\",\"\",年暦!G40)","v":"○"},{"$f":"年暦!G39","v":6},{"$f":"IF($O44=0,0,IF($O44>0,0,1))","v":0},{"$f":"IF($O44=0,0,IF($O44>1,0,1))","v":0},{"$f":"IF($O44=0,0,IF($O44>2,0,1))","v":0},{"$f":"IF($O44=0,0,IF($O44>3,0,1))","v":0},{"$f":"IF($O44=0,0,IF($O44>4,0,1))","v":0},{"$f":"IF($O44=0,0,IF($O44>5,0,1))","v":0},{"$f":"IF(AND(G44<>\"\",P44=1),2,0)","v":0},0,0,0,0,0,{"$f":"IF(年暦!H39=\"\",\"\",年暦!H39)","v":"読書週間（22日まで）"}]
[]
[{"$f":"IF(AND(D46=0,O46<>0),1,IF(AND(D46<>0,O46=0),1,IF(O46>6,1,\"\")))","v":""},{"$f":"IF(SUM(V46:AA47)<>0,1,\"\")","v":""},{"$f":"IF(SUM(A46:B47)<>0,\"error\",\"\")","v":""},{"$f":"年暦!F41","v":19},19,{"$f":"年暦!F42","v":"火"},null,null,null,null,null,null,{"$f":"IF(D46=0,0,1)","v":1},{"$f":"IF(年暦!G42=\"\",\"\",年暦!G42)","v":"○"},{"$f":"年暦!G41","v":6},{"$f":"IF($O46=0,0,IF($O46>0,0,1))","v":0},{"$f":"IF($O46=0,0,IF($O46>1,0,1))","v":0},{"$f":"IF($O46=0,0,IF($O46>2,0,1))","v":0},{"$f":"IF($O46=0,0,IF($O46>3,0,1))","v":0},{"$f":"IF($O46=0,0,IF($O46>4,0,1))","v":0},{"$f":"IF($O46=0,0,IF($O46>5,0,1))","v":0},{"$f":"IF(AND(G46<>\"\",P46=1),2,0)","v":0},0,0,0,0,0,{"$f":"IF(年暦!H41=\"\",\"\",年暦!H41)","v":""}]
[]
[{"$f":"IF(AND(D48=0,O48<>0),1,IF(AND(D48<>0,O48=0),1,IF(O48>6,1,\"\")))","v":""},{"$f":"IF(SUM(V48:AA49)<>0,1,\"\")","v":""},{"$f":"IF(SUM(A48:B49)<>0,\"error\",\"\")","v":""},{"$f":"年暦!F43","v":20},20,{"$f":"年暦!F44","v":"水"},null,null,null,null,null,null,{"$f":"IF(D48=0,0,1)","v":1},{"$f":"IF(年暦!G44=\"\",\"\",年暦!G44)","v":"○"},{"$f":"年暦!G43","v":5},{"$f":"IF($O48=0,0,IF($O48>0,0,1))","v":0},{"$f":"IF($O48=0,0,IF($O48>1,0,1))","v":0},{"$f":"IF($O48=0,0,IF($O48>2,0,1))","v":0},{"$f":"IF($O48=0,0,IF($O48>3,0,1))","v":0},{"$f":"IF($O48=0,0,IF($O48>4,0,1))","v":0},{"$f":"IF($O48=0,0,IF($O48>5,0,1))","v":1},{"$f":"IF(AND(G48<>\"\",P48=1),2,0)","v":0},0,0,0,0,0,{"$f":"IF(年暦!H43=\"\",\"\",年暦!H43)","v":"心電図検査（１・４年）"}]
[]
[{"$f":"IF(AND(D50=0,O50<>0),1,IF(AND(D50<>0,O50=0),1,IF(O50>6,1,\"\")))","v":""},{"$f":"IF(SUM(V50:AA51)<>0,1,\"\")","v":""},{"$f":"IF(SUM(A50:B51)<>0,\"error\",\"\")","v":""},{"$f":"年暦!F45","v":21},21,{"$f":"年暦!F46","v":"木"},null,null,null,null,null,null,{"$f":"IF(D50=0,0,1)","v":1},{"$f":"IF(年暦!G46=\"\",\"\",年暦!G46)","v":"○"},{"$f":"年暦!G45","v":6},{"$f":"IF($O50=0,0,IF($O50>0,0,1))","v":0},{"$f":"IF($O50=0,0,IF($O50>1,0,1))","v":0},{"$f":"IF($O50=0,0,IF($O50>2,0,1))","v":0},{"$f":"IF($O50=0,0,IF($O50>3,0,1))","v":0},{"$f":"IF($O50=0,0,IF($O50>4,0,1))","v":0},{"$f":"IF($O50=0,0,IF($O50>5,0,1))","v":0},{"$f":"IF(AND(G50<>\"\",P50=1),2,0)","v":0},0,0,0,0,0,{"$f":"IF(年暦!H45=\"\",\"\",年暦!H45)","v":"尿再検査\n北部P連総会（生坂小）\nＰＴＡ評議員会①"}]
[]
[{"$f":"IF(AND(D52=0,O52<>0),1,IF(AND(D52<>0,O52=0),1,IF(O52>6,1,\"\")))","v":""},{"$f":"IF(SUM(V52:AA53)<>0,1,\"\")","v":""},{"$f":"IF(SUM(A52:B53)<>0,\"error\",\"\")","v":""},{"$f":"年暦!F47","v":22},22,{"$f":"年暦!F48","v":"金"},null,null,null,null,null,null,{"$f":"IF(D52=0,0,1)","v":1},{"$f":"IF(年暦!G48=\"\",\"\",年暦!G48)","v":"×"},{"$f":"年暦!G47","v":6},{"$f":"IF($O52=0,0,IF($O52>0,0,1))","v":0},{"$f":"IF($O52=0,0,IF($O52>1,0,1))","v":0},{"$f":"IF($O52=0,0,IF($O52>2,0,1))","v":0},{"$f":"IF($O52=0,0,IF($O52>3,0,1))","v":0},{"$f":"IF($O52=0,0,IF($O52>4,0,1))","v":0},{"$f":"IF($O52=0,0,IF($O52>5,0,1))","v":0},{"$f":"IF(AND(G52<>\"\",P52=1),2,0)","v":0},0,0,0,0,0,{"$f":"IF(年暦!H47=\"\",\"\",年暦!H47)","v":"遠足予備日"}]
[]
[{"$f":"IF(AND(D54=0,O54<>0),1,IF(AND(D54<>0,O54=0),1,IF(O54>6,1,\"\")))","v":""},{"$f":"IF(SUM(V54:AA55)<>0,1,\"\")","v":""},{"$f":"IF(SUM(A54:B55)<>0,\"error\",\"\")","v":""},{"$f":"年暦!F49","v":0},23,{"$f":"年暦!F50","v":"土"},null,null,null,null,null,null,{"$f":"IF(D54=0,0,1)","v":0},{"$f":"IF(年暦!G50=\"\",\"\",年暦!G50)","v":""},{"$f":"年暦!G49","v":0},{"$f":"IF($O54=0,0,IF($O54>0,0,1))","v":0},{"$f":"IF($O54=0,0,IF($O54>1,0,1))","v":0},{"$f":"IF($O54=0,0,IF($O54>2,0,1))","v":0},{"$f":"IF($O54=0,0,IF($O54>3,0,1))","v":0},{"$f":"IF($O54=0,0,IF($O54>4,0,1))","v":0},{"$f":"IF($O54=0,0,IF($O54>5,0,1))","v":0},{"$f":"IF(AND(G54<>\"\",P54=1),2,0)","v":0},0,0,0,0,0,{"$f":"IF(年暦!H49=\"\",\"\",年暦!H49)","v":"郡PTA定期委員会"}]
[]
[{"$f":"IF(AND(D56=0,O56<>0),1,IF(AND(D56<>0,O56=0),1,IF(O56>6,1,\"\")))","v":""},{"$f":"IF(SUM(V56:AA57)<>0,1,\"\")","v":""},{"$f":"IF(SUM(A56:B57)<>0,\"error\",\"\")","v":""},{"$f":"年暦!F51","v":0},24,{"$f":"年暦!F52","v":"日"},null,null,null,null,null,null,{"$f":"IF(D56=0,0,1)","v":0},{"$f":"IF(年暦!G52=\"\",\"\",年暦!G52)","v":""},{"$f":"年暦!G51","v":0},{"$f":"IF($O56=0,0,IF($O56>0,0,1))","v":0},{"$f":"IF($O56=0,0,IF($O56>1,0,1))","v":0},{"$f":"IF($O56=0,0,IF($O56>2,0,1))","v":0},{"$f":"IF($O56=0,0,IF($O56>3,0,1))","v":0},{"$f":"IF($O56=0,0,IF($O56>4,0,1))","v":0},{"$f":"IF($O56=0,0,IF($O56>5,0,1))","v":0},{"$f":"IF(AND(G56<>\"\",P56=1),2,0)","v":0},0,0,0,0,0,{"$f":"IF(年暦!H51=\"\",\"\",年暦!H51)","v":"中信小学生陸上大会"}]
[]
[{"$f":"IF(AND(D58=0,O58<>0),1,IF(AND(D58<>0,O58=0),1,IF(O58>6,1,\"\")))","v":""},{"$f":"IF(SUM(V58:AA59)<>0,1,\"\")","v":""},{"$f":"IF(SUM(A58:B59)<>0,\"error\",\"\")","v":""},{"$f":"年暦!F53","v":25},25,{"$f":"年暦!F54","v":"月"},null,null,null,null,null,null,{"$f":"IF(D58=0,0,1)","v":1},{"$f":"IF(年暦!G54=\"\",\"\",年暦!G54)","v":"○"},{"$f":"年暦!G53","v":6},{"$f":"IF($O58=0,0,IF($O58>0,0,1))","v":0},{"$f":"IF($O58=0,0,IF($O58>1,0,1))","v":0},{"$f":"IF($O58=0,0,IF($O58>2,0,1))","v":0},{"$f":"IF($O58=0,0,IF($O58>3,0,1))","v":0},{"$f":"IF($O58=0,0,IF($O58>4,0,1))","v":0},{"$f":"IF($O58=0,0,IF($O58>5,0,1))","v":0},{"$f":"IF(AND(G58<>\"\",P58=1),2,0)","v":0},0,0,0,0,0,{"$f":"IF(年暦!H53=\"\",\"\",年暦!H53)","v":"\n"}]
[]
[{"$f":"IF(AND(D60=0,O60<>0),1,IF(AND(D60<>0,O60=0),1,IF(O60>6,1,\"\")))","v":""},{"$f":"IF(SUM(V60:AA61)<>0,1,\"\")","v":""},{"$f":"IF(SUM(A60:B61)<>0,\"error\",\"\")","v":""},{"$f":"年暦!F55","v":26},26,{"$f":"年暦!F56","v":"火"},null,null,null,null,null,null,{"$f":"IF(D60=0,0,1)","v":1},{"$f":"IF(年暦!G56=\"\",\"\",年暦!G56)","v":"○"},{"$f":"年暦!G55","v":6},{"$f":"IF($O60=0,0,IF($O60>0,0,1))","v":0},{"$f":"IF($O60=0,0,IF($O60>1,0,1))","v":0},{"$f":"IF($O60=0,0,IF($O60>2,0,1))","v":0},{"$f":"IF($O60=0,0,IF($O60>3,0,1))","v":0},{"$f":"IF($O60=0,0,IF($O60>4,0,1))","v":0},{"$f":"IF($O60=0,0,IF($O60>5,0,1))","v":0},{"$f":"IF(AND(G60<>\"\",P60=1),2,0)","v":0},0,0,0,0,0,{"$f":"IF(年暦!H55=\"\",\"\",年暦!H55)","v":"耳鼻科検診"}]
[]
[{"$f":"IF(AND(D62=0,O62<>0),1,IF(AND(D62<>0,O62=0),1,IF(O62>6,1,\"\")))","v":""},{"$f":"IF(SUM(V62:AA63)<>0,1,\"\")","v":""},{"$f":"IF(SUM(A62:B63)<>0,\"error\",\"\")","v":""},{"$f":"年暦!F57","v":27},27,{"$f":"年暦!F58","v":"水"},null,null,null,null,null,null,{"$f":"IF(D62=0,0,1)","v":1},{"$f":"IF(年暦!G58=\"\",\"\",年暦!G58)","v":"○"},{"$f":"年暦!G57","v":5},{"$f":"IF($O62=0,0,IF($O62>0,0,1))","v":0},{"$f":"IF($O62=0,0,IF($O62>1,0,1))","v":0},{"$f":"IF($O62=0,0,IF($O62>2,0,1))","v":0},{"$f":"IF($O62=0,0,IF($O62>3,0,1))","v":0},{"$f":"IF($O62=0,0,IF($O62>4,0,1))","v":0},{"$f":"IF($O62=0,0,IF($O62>5,0,1))","v":1},{"$f":"IF(AND(G62<>\"\",P62=1),2,0)","v":0},0,0,0,0,0,{"$f":"IF(年暦!H57=\"\",\"\",年暦!H57)","v":"参観日②"}]
[]
[{"$f":"IF(AND(D64=0,O64<>0),1,IF(AND(D64<>0,O64=0),1,IF(O64>6,1,\"\")))","v":""},{"$f":"IF(SUM(V64:AA65)<>0,1,\"\")","v":""},{"$f":"IF(SUM(A64:B65)<>0,\"error\",\"\")","v":""},{"$f":"年暦!F59","v":28},28,{"$f":"年暦!F60","v":"木"},null,null,null,null,null,null,{"$f":"IF(D64=0,0,1)","v":1},{"$f":"IF(年暦!G60=\"\",\"\",年暦!G60)","v":"○"},{"$f":"年暦!G59","v":6},{"$f":"IF($O64=0,0,IF($O64>0,0,1))","v":0},{"$f":"IF($O64=0,0,IF($O64>1,0,1))","v":0},{"$f":"IF($O64=0,0,IF($O64>2,0,1))","v":0},{"$f":"IF($O64=0,0,IF($O64>3,0,1))","v":0},{"$f":"IF($O64=0,0,IF($O64>4,0,1))","v":0},{"$f":"IF($O64=0,0,IF($O64>5,0,1))","v":0},{"$f":"IF(AND(G64<>\"\",P64=1),2,0)","v":0},0,0,0,0,0,{"$f":"IF(年暦!H59=\"\",\"\",年暦!H59)","v":""}]
[]
[{"$f":"IF(AND(D66=0,O66<>0),1,IF(AND(D66<>0,O66=0),1,IF(O66>6,1,\"\")))","v":""},{"$f":"IF(SUM(V66:AA67)<>0,1,\"\")","v":""},{"$f":"IF(SUM(A66:B67)<>0,\"error\",\"\")","v":""},{"$f":"年暦!F61","v":29},29,{"$f":"年暦!F62","v":"金"},null,null,null,null,null,null,{"$f":"IF(D66=0,0,1)","v":1},{"$f":"IF(年暦!G62=\"\",\"\",年暦!G62)","v":"○"},{"$f":"年暦!G61","v":6},{"$f":"IF($O66=0,0,IF($O66>0,0,1))","v":0},{"$f":"IF($O66=0,0,IF($O66>1,0,1))","v":0},{"$f":"IF($O66=0,0,IF($O66>2,0,1))","v":0},{"$f":"IF($O66=0,0,IF($O66>3,0,1))","v":0},{"$f":"IF($O66=0,0,IF($O66>4,0,1))","v":0},{"$f":"IF($O66=0,0,IF($O66>5,0,1))","v":0},{"$f":"IF(AND(G66<>\"\",P66=1),2,0)","v":0},0,0,0,0,0,{"$f":"IF(年暦!H61=\"\",\"\",年暦!H61)","v":""}]
[]
[{"$f":"IF(AND(D68=0,O68<>0),1,IF(AND(D68<>0,O68=0),1,IF(O68>6,1,\"\")))","v":""},{"$f":"IF(SUM(V68:AA69)<>0,1,\"\")","v":""},{"$f":"IF(SUM(A68:B69)<>0,\"error\",\"\")","v":""},{"$f":"年暦!F63","v":0},30,{"$f":"年暦!F64","v":"土"},null,null,null,null,null,null,{"$f":"IF(D68=0,0,1)","v":0},{"$f":"IF(年暦!G64=\"\",\"\",年暦!G64)","v":""},{"$f":"年暦!G63","v":0},{"$f":"IF($O68=0,0,IF($O68>0,0,1))","v":0},{"$f":"IF($O68=0,0,IF($O68>1,0,1))","v":0},{"$f":"IF($O68=0,0,IF($O68>2,0,1))","v":0},{"$f":"IF($O68=0,0,IF($O68>3,0,1))","v":0},{"$f":"IF($O68=0,0,IF($O68>4,0,1))","v":0},{"$f":"IF($O68=0,0,IF($O68>5,0,1))","v":0},{"$f":"IF(AND(G68<>\"\",P68=1),2,0)","v":0},0,0,0,0,0,{"$f":"IF(年暦!H63=\"\",\"\",年暦!H63)","v":""}]
[]
[{"$f":"IF(AND(D70=0,O70<>0),1,IF(AND(D70<>0,O70=0),1,IF(O70>6,1,\"\")))","v":""},{"$f":"IF(SUM(V70:AA71)<>0,1,\"\")","v":""},{"$f":"IF(SUM(A70:B71)<>0,\"error\",\"\")","v":""},{"$f":"年暦!F65","v":0},31,{"$f":"年暦!F66","v":"日"},null,null,null,null,null,null,{"$f":"IF(D70=0,0,1)","v":0},{"$f":"IF(年暦!G66=\"\",\"\",年暦!G66)","v":""},{"$f":"年暦!G65","v":0},{"$f":"IF($O70=0,0,IF($O70>0,0,1))","v":0},{"$f":"IF($O70=0,0,IF($O70>1,0,1))","v":0},{"$f":"IF($O70=0,0,IF($O70>2,0,1))","v":0},{"$f":"IF($O70=0,0,IF($O70>3,0,1))","v":0},{"$f":"IF($O70=0,0,IF($O70>4,0,1))","v":0},{"$f":"IF($O70=0,0,IF($O70>5,0,1))","v":0},{"$f":"IF(AND(G70<>\"\",P70=1),2,0)","v":0},0,0,0,0,0,{"$f":"IF(年暦!H65=\"\",\"\",年暦!H65)","v":""}]
[]
[]
[]
[null,null,null,null,"日","曜","○","●","児","ク","学","△","登校","給食","時数","授業時数確認",null,null,null,null,null,"誤入力確認",null,null,null,null,null,"行　事　等"]
[null,null,null,null,null,null,{"$f":"COUNTIF($G$10:$L$71,G74)","v":0},0,0,0,0,0,{"$f":"SUM(M10:M72)","v":18},{"$f":"COUNTIF(N10:N71,\"○\")","v":16},{"$f":"SUM(O10:O72)","v":103}]
[]
[null,null,null,null,null,null,null,"小計",null,null,"累計",null,null,null,null,null,null,null,null,null,null,null,null,null,null,null,null,null,null,null,"小計",null,null,"累計",null,null,null,null,null,"小計",null,null,"累計"]
[null,{"$f":"SUM(AE78,AE79,AE80,AN78,AN79,AN80)","v":0},{"$f":"IF(H79<>B78,\"error\",\"\")","v":"error"},null,"登校日数",null,null,{"$f":"M75","v":18},null,null,{"$f":"H78+'4'!K76:N76","v":36},null,null,null,null,null,null,null,null,null,null,null,null,null,null,null,null,"教科，道徳，総合",null,null,{"$f":"G75","v":0},null,null,{"$f":"AE78+'4'!AH76:AJ76","v":0},null,null,"クラブ",null,null,{"$f":"J75","v":0},null,null,{"$f":"AN78+'4'!AQ76:AS76","v":0}]
[null,null,null,null,"授業時数",null,null,{"$f":"O75","v":103},null,null,{"$f":"H79+'4'!K77:N77","v":197},null,null,null,null,null,null,null,null,null,null,null,null,null,null,null,null,"行事",null,null,{"$f":"H75","v":0},null,null,{"$f":"AE79+'4'!AH77:AJ77","v":2},null,null,"学級",null,null,{"$f":"K75","v":0},null,null,{"$f":"AN79+'4'!AQ77:AS77","v":1}]
[null,null,null,null,"給食日数",null,null,{"$f":"N75","v":16},null,null,{"$f":"H80+'4'!K78:N78","v":33},null,null,null,null,null,null,null,null,null,null,null,null,null,null,null,null,"児童会",null,null,{"$f":"I75","v":0},null,null,{"$f":"AE80+'4'!AH78:AJ78","v":0},null,null,"学校裁量",null,null,{"$f":"L75","v":0},null,null,{"$f":"AN80+'4'!AQ78:AS78","v":0}]

{"sheet":"6","index":2,"n_rows":78,"n_cols":43,"rows_kept":78,"cut":false,"hidden":false,"merged":[[9,26,10,26],[9,15,10,15],[9,16,10,16],[9,17,10,17],[23,27,24,44],[15,27,16,44],[13,27,14,44],[11,27,12,44],[21,27,22,44],[19,27,20,44],[23,25,24,25],[23,26,24,26],[13,21,14,21],[13,22,14,22],[11,22,12,22],[9,18,10,18],[11,15,12,15],[11,16,12,16],[11,17,12,17],[11,18,12,18],[13,15,14,15],[13,16,14,16],[13,17,14,17],[13,18,14,18],[67,23,68,23],[67,24,68,24],[67,25,68,25],[67,26,68,26],[9,27,10,44],[8,15,8,20],[8,21,8,26],[9,23,10,23],[9,24,10,24],[9,25,10,25],[65,21,66,21],[65,22,66,22],[65,23,66,23],[65,24,66,24],[55,23,56,23],[55,24,56,24],[55,25,56,25],[55,26,56,26],[57,25,58,25],[57,26,58,26],[49,23,50,23],[49,24,50,24],[57,21,58,21],[57,22,58,22],[71,15,71,20],[71,21,71,26],[65,25,66,25],[65,26,66,26],[67,21,68,21],[67,22,68,22],[61,25,62,25],[61,26,62,26],[59,21,60,21],[59,22,60,22],[61,21,62,21],[61,22,62,22],[61,23,62,23],[61,24,62,24],[59,23,60,23],[59,24,60,24],[59,25,60,25],[59,26,60,26],[59,15,60,15],[59,16,60,16],[59,17,60,17],[59,18,60,18],[63,15,64,15],[63,16,64,16],[47,26,48,26],[47,23,48,23],[47,24,48,24],[43,25,44,25],[43,26,44,26],[43,21,44,21],[43,22,44,22],[57,23,58,23],[57,24,58,24],[53,23,54,23],[53,24,54,24],[45,25,46,25],[45,26,46,26],[51,25,52,25],[51,26,52,26],[49,25,50,25],[49,26,50,26],[45,23,46,23],[45,24,46,24],[53,26,54,26],[33,25,34,25],[33,26,34,26],[35,25,36,25],[35,26,36,26],[39,25,40,25],[39,26,40,26],[37,23,38,23],[37,24,38,24],[33,21,34,21],[33,22,34,22],[33,23,34,23],[33,24,34,24],[35,21,36,21],[35,22,36,22],[35,23,36,23],[35,24,36,24],[39,21,40,21],[39,22,40,22],[39,23,40,23],[39,24,40,24],[27,22,28,22],[29,21,30,21],[29,22,30,22],[29,23,30,23],[29,24,30,24],[27,23,28,23],[27,24,28,24],[23,23,24,23],[23,24,24,24],[25,21,26,21],[25,22,26,22],[29,25,30,25],[29,26,30,26],[25,23,26,23],[25,24,26,24],[27,25,28,25],[27,26,28,26],[25,25,26,25],[25,26,26,26],[11,26,12,26],[13,23,14,23],[13,24,14,24],[13,25,14,25],[13,26,14,26],[11,24,12,24],[11,25,12,25],[17,23,18,23],[15,24,16,24],[15,25,16,25],[15,26,16,26],[17,24,18,24],[17,25,18,25],[17,26,18,26],[19,25,20,25],[19,26,20,26],[63,1,64,1],[51,1,52,1],[53,1,54,1],[39,1,40,1],[41,1,42,1],[43,1,44,1],[45,1,46,1],[35,1,36,1],[37,1,38,1],[65,1,66,1],[67,1,68,1],[9,21,10,21],[33,1,34,1],[63,2,64,2],[65,2,66,2],[67,2,68,2],[27,21,28,21],[55,1,56,1],[57,1,58,1],[59,1,60,1],[61,1,62,1],[23,1,24,1],[25,1,26,1],[27,1,28,1],[29,1,30,1],[31,1,32,1],[49,1,50,1],[9,1,10,1],[11,1,12,1],[13,1,14,1],[15,1,16,1],[17,1,18,1],[19,1,20,1],[21,1,22,1],[51,2,52,2],[53,2,54,2],[55,2,56,2],[57,2,58,2],[59,2,60,2],[27,2,28,2],[29,2,30,2],[31,2,32,2],[33,2,34,2],[47,1,48,1],[61,2,62,2],[39,2,40,2],[41,2,42,2],[43,2,44,2],[45,2,46,2],[47,2,48,2],[49,2,50,2],[35,2,36,2],[37,2,38,2],[13,2,14,2],[11,21,12,21],[9,13,10,13],[11,13,12,13],[13,13,14,13],[9,12,10,12],[11,12,12,12],[13,12,14,12],[11,4,12,4],[9,4,10,4],[11,3,12,3],[9,3,10,3],[9,2,10,2],[11,2,12,2],[13,4,14,4],[13,3,14,3],[9,10,10,10],[9,11,10,11],[9,14,10,14],[11,11,12,11],[11,14,12,14],[9,9,10,9],[13,11,14,11],[13,14,14,14],[27,4,28,4],[25,4,26,4],[23,4,24,4],[21,4,22,4],[23,3,24,3],[21,3,22,3],[15,3,16,3],[15,2,16,2],[17,2,18,2],[19,2,20,2],[21,2,22,2],[23,2,24,2],[25,2,26,2],[19,4,20,4],[17,4,18,4],[15,4,16,4],[19,3,20,3],[17,3,18,3],[35,3,36,3],[33,3,34,3],[31,3,32,3],[29,3,30,3],[27,3,28,3],[25,3,26,3],[47,3,48,3],[45,3,46,3],[43,3,44,3],[41,3,42,3],[39,3,40,3],[37,3,38,3],[59,3,60,3],[57,3,58,3],[55,3,56,3],[53,3,54,3],[51,3,52,3],[49,3,50,3],[67,4,68,4],[65,4,66,4],[63,4,64,4],[61,4,62,4],[67,3,68,3],[65,3,66,3],[63,3,64,3],[61,3,62,3],[51,4,52,4],[49,4,50,4],[47,4,48,4],[45,4,46,4],[59,4,60,4],[57,4,58,4],[55,4,56,4],[53,4,54,4],[35,4,36,4],[33,4,34,4],[31,4,32,4],[29,4,30,4],[43,4,44,4],[41,4,42,4],[39,4,40,4],[37,4,38,4],[9,7,10,7],[9,8,10,8],[11,5,12,5],[11,6,12,6],[11,7,12,7],[11,8,12,8],[9,5,10,5],[9,6,10,6],[15,5,16,5],[15,6,16,6],[15,7,16,7],[15,8,16,8],[13,5,14,5],[13,6,14,6],[13,7,14,7],[13,8,14,8],[19,5,20,5],[19,6,20,6],[19,7,20,7],[19,8,20,8],[17,5,18,5],[17,6,18,6],[17,7,18,7],[17,8,18,8],[23,5,24,5],[23,6,24,6],[23,7,24,7],[23,8,24,8],[21,5,22,5],[21,6,22,6],[21,7,22,7],[21,8,22,8],[27,5,28,5],[27,6,28,6],[27,7,28,7],[27,8,28,8],[25,5,26,5],[25,6,26,6],[25,7,26,7],[25,8,26,8],[31,5,32,5],[31,6,32,6],[31,7,32,7],[31,8,32,8],[29,5,30,5],[29,6,30,6],[29,7,30,7],[29,8,30,8],[35,5,36,5],[35,6,36,6],[35,7,36,7],[35,8,36,8],[33,5,34,5],[33,6,34,6],[33,7,34,7],[33,8,34,8],[39,5,40,5],[39,6,40,6],[39,7,40,7],[39,8,40,8],[37,5,38,5],[37,6,38,6],[37,7,38,7],[37,8,38,8],[43,5,44,5],[43,6,44,6],[43,7,44,7],[43,8,44,8],[41,5,42,5],[41,6,42,6],[41,7,42,7],[41,8,42,8],[47,5,48,5],[47,6,48,6],[47,7,48,7],[47,8,48,8],[45,5,46,5],[45,6,46,6],[45,7,46,7],[45,8,46,8],[49,5,50,5],[49,6,50,6],[49,7,50,7],[49,8,50,8],[55,5,56,5],[55,6,56,6],[55,7,56,7],[55,8,56,8],[53,5,54,5],[53,6,54,6],[53,7,54,7],[53,8,54,8],[63,5,64,5],[63,6,64,6],[63,7,64,7],[63,8,64,8],[61,5,62,5],[61,6,62,6],[61,7,62,7],[61,8,62,8],[51,5,52,5],[51,6,52,6],[51,7,52,7],[51,8,52,8],[67,5,68,5],[67,6,68,6],[67,7,68,7],[67,8,68,8],[65,5,66,5],[65,6,66,6],[65,7,66,7],[11,9,12,9],[11,10,12,10],[13,9,14,9],[13,10,14,10],[59,9,60,9],[59,10,60,10],[67,9,68,9],[67,10,68,10],[59,5,60,5],[59,6,60,6],[59,7,60,7],[59,8,60,8],[57,5,58,5],[57,6,58,6],[57,7,58,7],[57,8,58,8],[65,8,66,8],[17,15,18,15],[17,16,18,16],[17,17,18,17],[17,18,18,18],[17,9,18,9],[17,10,18,10],[17,11,18,11],[17,14,18,14],[17,13,18,13],[17,12,18,12],[15,15,16,15],[15,16,16,16],[15,17,16,17],[15,18,16,18],[15,9,16,9],[15,10,16,10],[15,11,16,11],[15,14,16,14],[15,13,16,13],[15,12,16,12],[19,16,20,16],[19,17,20,17],[19,18,20,18],[19,9,20,9],[19,10,20,10],[19,11,20,11],[19,14,20,14],[19,13,20,13],[19,12,20,12],[19,15,20,15],[21,15,22,15],[21,16,22,16],[21,17,22,17],[21,18,22,18],[21,9,22,9],[21,10,22,10],[21,11,22,11],[21,14,22,14],[21,13,22,13],[21,12,22,12],[23,15,24,15],[23,16,24,16],[23,17,24,17],[23,18,24,18],[23,9,24,9],[23,10,24,10],[23,11,24,11],[23,14,24,14],[23,13,24,13],[23,12,24,12],[25,15,26,15],[25,16,26,16],[25,17,26,17],[25,18,26,18],[25,9,26,9],[25,10,26,10],[25,11,26,11],[25,14,26,14],[25,13,26,13],[25,12,26,12],[27,15,28,15],[27,16,28,16],[27,17,28,17],[27,18,28,18],[27,9,28,9],[27,10,28,10],[27,11,28,11],[27,14,28,14],[27,13,28,13],[27,12,28,12],[29,15,30,15],[29,16,30,16],[29,17,30,17],[29,18,30,18],[29,9,30,9],[29,10,30,10],[29,11,30,11],[29,14,30,14],[29,13,30,13],[29,12,30,12],[31,15,32,15],[31,16,32,16],[31,17,32,17],[31,18,32,18],[31,9,32,9],[31,10,32,10],[31,11,32,11],[31,14,32,14],[31,13,32,13],[31,12,32,12],[33,15,34,15],[33,16,34,16],[33,17,34,17],[33,18,34,18],[33,9,34,9],[33,10,34,10],[33,11,34,11],[33,14,34,14],[33,13,34,13],[33,12,34,12],[35,15,36,15],[35,16,36,16],[35,17,36,17],[35,18,36,18],[35,9,36,9],[35,10,36,10],[35,11,36,11],[35,14,36,14],[35,13,36,13],[35,12,36,12],[37,15,38,15],[37,16,38,16],[37,17,38,17],[37,18,38,18],[37,9,38,9],[37,10,38,10],[37,11,38,11],[37,14,38,14],[37,13,38,13],[37,12,38,12],[39,15,40,15],[39,16,40,16],[39,17,40,17],[39,18,40,18],[39,9,40,9],[39,10,40,10],[39,11,40,11],[39,14,40,14],[39,13,40,13],[39,12,40,12],[41,15,42,15],[41,16,42,16],[41,17,42,17],[41,18,42,18],[41,9,42,9],[41,10,42,10],[41,11,42,11],[41,14,42,14],[41,13,42,13],[41,12,42,12],[43,15,44,15],[43,16,44,16],[43,17,44,17],[43,18,44,18],[43,9,44,9],[43,10,44,10],[43,11,44,11],[43,14,44,14],[43,13,44,13],[43,12,44,12],[45,15,46,15],[45,16,46,16],[45,17,46,17],[45,18,46,18],[45,9,46,9],[45,10,46,10],[45,11,46,11],[45,14,46,14],[45,13,46,13],[45,12,46,12],[47,15,48,15],[47,16,48,16],[47,17,48,17],[47,18,48,18],[47,9,48,9],[47,10,48,10],[47,11,48,11],[47,14,48,14],[47,13,48,13],[47,12,48,12],[49,15,50,15],[49,16,50,16],[49,17,50,17],[49,18,50,18],[49,9,50,9],[49,10,50,10],[49,11,50,11],[49,14,50,14],[49,13,50,13],[49,12,50,12],[51,15,52,15],[51,16,52,16],[51,17,52,17],[51,18,52,18],[51,9,52,9],[51,10,52,10],[51,11,52,11],[51,14,52,14],[51,13,52,13],[51,12,52,12],[53,15,54,15],[53,16,54,16],[53,17,54,17],[53,18,54,18],[53,9,54,9],[53,10,54,10],[53,11,54,11],[53,14,54,14],[53,13,54,13],[53,12,54,12],[55,15,56,15],[55,16,56,16],[55,17,56,17],[55,18,56,18],[55,9,56,9],[55,10,56,10],[55,11,56,11],[55,14,56,14],[55,13,56,13],[55,12,56,12],[57,15,58,15],[57,16,58,16],[57,17,58,17],[57,18,58,18],[57,9,58,9],[57,10,58,10],[57,11,58,11],[57,14,58,14],[57,13,58,13],[57,12,58,12],[59,12,60,12],[61,15,62,15],[61,16,62,16],[61,17,62,17],[61,18,62,18],[61,9,62,9],[61,10,62,10],[61,11,62,11],[61,14,62,14],[61,13,62,13],[61,12,62,12],[59,11,60,11],[59,14,60,14],[59,13,60,13],[63,17,64,17],[63,18,64,18],[63,9,64,9],[63,10,64,10],[63,11,64,11],[63,14,64,14],[63,13,64,13],[63,12,64,12],[65,9,66,9],[65,10,66,10],[65,11,66,11],[65,14,66,14],[65,13,66,13],[65,12,66,12],[67,11,68,11],[67,14,68,14],[67,13,68,13],[67,12,68,12],[67,15,68,15],[67,16,68,16],[67,17,68,17],[67,18,68,18],[65,15,66,15],[65,16,66,16],[65,17,66,17],[65,18,66,18],[9,19,10,19],[15,19,16,19],[15,20,16,20],[13,19,14,19],[13,20,14,20],[9,20,10,20],[11,19,12,19],[9,22,10,22],[15,23,16,23],[17,19,18,19],[17,20,18,20],[15,21,16,21],[15,22,16,22],[17,21,18,21],[17,22,18,22],[19,21,20,21],[11,20,12,20],[11,23,12,23],[21,23,22,23],[21,24,22,24],[21,25,22,25],[21,26,22,26],[19,23,20,23],[21,21,22,21],[21,22,22,22],[23,19,24,19],[23,20,24,20],[21,19,22,19],[21,20,22,20],[23,21,24,21],[23,22,24,22],[19,22,20,22],[19,24,20,24],[19,19,20,19],[19,20,20,20],[35,19,36,19],[35,20,36,20],[29,19,30,19],[29,20,30,20],[27,19,28,19],[27,20,28,20],[25,19,26,19],[25,20,26,20],[33,19,34,19],[33,20,34,20],[45,19,46,19],[45,20,46,20],[43,19,44,19],[43,20,44,20],[37,25,38,25],[37,26,38,26],[41,19,42,19],[41,20,42,20],[37,21,38,21],[37,22,38,22],[39,19,40,19],[39,20,40,20],[37,19,38,19],[37,20,38,20],[41,21,42,21],[41,22,42,22],[45,21,46,21],[45,22,46,22],[41,23,42,23],[41,24,42,24],[41,25,42,25],[41,26,42,26],[43,23,44,23],[43,24,44,24],[49,19,50,19],[49,20,50,20],[47,19,48,19],[47,20,48,20],[47,21,48,21],[47,22,48,22],[49,21,50,21],[49,22,50,22],[53,25,54,25],[51,19,52,19],[51,20,52,20],[51,21,52,21],[51,22,52,22],[51,23,52,23],[51,24,52,24],[47,25,48,25],[67,19,68,19],[67,20,68,20],[65,19,66,19],[65,20,66,20],[57,19,58,19],[57,20,58,20],[53,21,54,21],[53,22,54,22],[55,19,56,19],[55,20,56,20],[53,19,54,19],[53,20,54,20],[55,21,56,21],[55,22,56,22],[63,25,64,25],[63,26,64,26],[63,19,64,19],[63,20,64,20],[63,21,64,21],[63,22,64,22],[17,0,18,0],[19,0,20,0],[21,0,22,0],[23,0,24,0],[49,0,50,0],[51,0,52,0],[53,0,54,0],[55,0,56,0],[41,0,42,0],[43,0,44,0],[45,0,46,0],[47,0,48,0],[63,23,64,23],[63,24,64,24],[61,19,62,19],[61,20,62,20],[59,19,60,19],[59,20,60,20],[9,0,10,0],[11,0,12,0],[13,0,14,0],[15,0,16,0],[33,0,34,0],[35,0,36,0],[37,0,38,0],[39,0,40,0],[25,0,26,0],[27,0,28,0],[29,0,30,0],[31,0,32,0],[65,0,66,0],[67,0,68,0],[57,0,58,0],[59,0,60,0],[61,0,62,0],[63,0,64,0],[27,45,28,45],[29,45,30,45],[31,45,32,45],[33,45,34,45],[43,27,44,44],[67,45,68,45],[59,45,60,45],[61,45,62,45],[63,45,64,45],[65,45,66,45],[51,45,52,45],[53,45,54,45],[55,45,56,45],[57,45,58,45],[53,27,54,44],[59,27,60,44],[51,27,52,44],[49,27,50,44],[19,45,20,45],[21,45,22,45],[23,45,24,45],[25,45,26,45],[43,45,44,45],[45,45,46,45],[47,45,48,45],[49,45,50,45],[35,45,36,45],[37,45,38,45],[39,45,40,45],[41,45,42,45],[47,27,48,44],[45,27,46,44],[67,27,68,44],[65,27,66,44],[63,27,64,44],[61,27,62,44],[57,27,58,44],[55,27,56,44],[35,27,36,44],[33,27,34,44],[31,27,32,44],[29,27,30,44],[27,27,28,44],[25,27,26,44],[6,4,6,44],[5,4,5,44],[3,36,3,37],[3,33,3,34],[3,30,3,31],[3,27,3,28],[3,10,3,11],[3,7,3,8],[3,4,3,5],[7,4,7,44],[31,26,32,26],[31,19,32,19],[31,20,32,20],[31,21,32,21],[31,22,32,22],[31,23,32,23],[31,24,32,24],[31,25,32,25],[17,27,18,44],[77,4,77,6],[76,4,76,6],[77,10,77,13],[76,10,76,13],[74,27,74,29],[74,10,74,13],[77,27,77,29],[76,27,76,29],[75,27,75,29],[74,4,74,6],[74,7,74,9],[77,7,77,9],[76,7,76,9],[75,7,75,9],[75,4,75,6],[75,10,75,13],[75,42,75,44],[77,39,77,41],[76,39,76,41],[75,39,75,41],[74,42,74,44],[74,39,74,41],[74,36,74,38],[8,27,8,44],[41,27,42,44],[39,27,40,44],[37,27,38,44],[77,33,77,35],[76,33,76,35],[75,33,75,35],[77,30,77,32],[76,30,76,32],[75,30,75,32],[77,42,77,44],[76,42,76,44],[77,36,77,38],[76,36,76,38],[75,36,75,38],[74,33,74,35],[74,30,74,32]]}
[]
[]
[]
[null,null,null,null,"q",null,null,"w",null,null,"e",null,null,null,null,null,null,null,null,null,null,null,null,null,null,null,null,"r",null,null,"t",null,null,"y",null,null,"u"]
[]
[null,null,null,null,"○：教科，道徳，総合　　●：行事　　児：児童会　　ク：クラブ　　学：学級　　△：学裁"]
[null,null,null,null,{"$f":"CONCATENATE(年暦!J4,\"　　　予　定　表\")","v":"6　　　月　　　予　定　表"}]
[null,null,null,null,"○：教科，道徳，総合　　●：行事　　児：児童会　　ク：クラブ　　学：学級　　△：学裁"]
[null,null,null,null,"日","曜",1,2,3,4,5,6,"登校","給食","時数","授業時数確認",null,null,null,null,null,"誤入力確認",null,null,null,null,null,"行　事　等"]
[{"$f":"IF(AND(D10=0,O10<>0),1,IF(AND(D10<>0,O10=0),1,IF(O10>6,1,\"\")))","v":""},{"$f":"IF(SUM(V10:AA11)<>0,1,\"\")","v":""},{"$f":"IF(SUM(A10:B11)<>0,\"error\",\"\")","v":""},{"$f":"年暦!J5","v":1},1,{"$f":"年暦!J6","v":"月"},null,null,null,null,null,null,{"$f":"IF(D10=0,0,1)","v":1},{"$f":"IF(年暦!K6=\"\",\"\",年暦!K6)","v":"○"},{"$f":"年暦!K5","v":6},{"$f":"IF($O10=0,0,IF($O10>0,0,1))","v":0},{"$f":"IF($O10=0,0,IF($O10>1,0,1))","v":0},{"$f":"IF($O10=0,0,IF($O10>2,0,1))","v":0},{"$f":"IF($O10=0,0,IF($O10>3,0,1))","v":0},{"$f":"IF($O10=0,0,IF($O10>4,0,1))","v":0},{"$f":"IF($O10=0,0,IF($O10>5,0,1))","v":0},{"$f":"IF(AND(G10<>\"\",P10=1),2,0)","v":0},0,0,0,0,0,{"$f":"IF(年暦!L5=\"\",\"\",年暦!L5)","v":"歯と口の健康週間（５日まで）"}]
[]
[{"$f":"IF(AND(D12=0,O12<>0),1,IF(AND(D12<>0,O12=0),1,IF(O12>6,1,\"\")))","v":""},{"$f":"IF(SUM(V12:AA13)<>0,1,\"\")","v":""},{"$f":"IF(SUM(A12:B13)<>0,\"error\",\"\")","v":""},{"$f":"年暦!J7","v":2},2,{"$f":"年暦!J8","v":"火"},null,null,null,null,null,null,{"$f":"IF(D12=0,0,1)","v":1},{"$f":"IF(年暦!K8=\"\",\"\",年暦!K8)","v":"○"},{"$f":"年暦!K7","v":6},{"$f":"IF($O12=0,0,IF($O12>0,0,1))","v":0},{"$f":"IF($O12=0,0,IF($O12>1,0,1))","v":0},{"$f":"IF($O12=0,0,IF($O12>2,0,1))","v":0},{"$f":"IF($O12=0,0,IF($O12>3,0,1))","v":0},{"$f":"IF($O12=0,0,IF($O12>4,0,1))","v":0},{"$f":"IF($O12=0,0,IF($O12>5,0,1))","v":0},{"$f":"IF(AND(G12<>\"\",P12=1),2,0)","v":0},0,0,0,0,0,{"$f":"IF(年暦!L7=\"\",\"\",年暦!L7)","v":""}]
[]
[{"$f":"IF(AND(D14=0,O14<>0),1,IF(AND(D14<>0,O14=0),1,IF(O14>6,1,\"\")))","v":""},{"$f":"IF(SUM(V14:AA15)<>0,1,\"\")","v":""},{"$f":"IF(SUM(A14:B15)<>0,\"error\",\"\")","v":""},{"$f":"年暦!J9","v":3},3,{"$f":"年暦!J10","v":"水"},null,null,null,null,null,null,{"$f":"IF(D14=0,0,1)","v":1},{"$f":"IF(年暦!K10=\"\",\"\",年暦!K10)","v":"○"},{"$f":"年暦!K9","v":5},{"$f":"IF($O14=0,0,IF($O14>0,0,1))","v":0},{"$f":"IF($O14=0,0,IF($O14>1,0,1))","v":0},{"$f":"IF($O14=0,0,IF($O14>2,0,1))","v":0},{"$f":"IF($O14=0,0,IF($O14>3,0,1))","v":0},{"$f":"IF($O14=0,0,IF($O14>4,0,1))","v":0},{"$f":"IF($O14=0,0,IF($O14>5,0,1))","v":1},{"$f":"IF(AND(G14<>\"\",P14=1),2,0)","v":0},0,0,0,0,0,{"$f":"IF(年暦!L9=\"\",\"\",年暦!L9)","v":"血液検査（６年）"}]
[]
[{"$f":"IF(AND(D16=0,O16<>0),1,IF(AND(D16<>0,O16=0),1,IF(O16>6,1,\"\")))","v":""},{"$f":"IF(SUM(V16:AA17)<>0,1,\"\")","v":""},{"$f":"IF(SUM(A16:B17)<>0,\"error\",\"\")","v":""},{"$f":"年暦!J11","v":4},4,{"$f":"年暦!J12","v":"木"},null,null,null,null,null,null,{"$f":"IF(D16=0,0,1)","v":1},{"$f":"IF(年暦!K12=\"\",\"\",年暦!K12)","v":"○"},{"$f":"年暦!K11","v":6},{"$f":"IF($O16=0,0,IF($O16>0,0,1))","v":0},{"$f":"IF($O16=0,0,IF($O16>1,0,1))","v":0},{"$f":"IF($O16=0,0,IF($O16>2,0,1))","v":0},{"$f":"IF($O16=0,0,IF($O16>3,0,1))","v":0},{"$f":"IF($O16=0,0,IF($O16>4,0,1))","v":0},{"$f":"IF($O16=0,0,IF($O16>5,0,1))","v":0},{"$f":"IF(AND(G16<>\"\",P16=1),2,0)","v":0},0,0,0,0,0,{"$f":"IF(年暦!L11=\"\",\"\",年暦!L11)","v":"防犯教室"}]
[]
[{"$f":"IF(AND(D18=0,O18<>0),1,IF(AND(D18<>0,O18=0),1,IF(O18>6,1,\"\")))","v":""},{"$f":"IF(SUM(V18:AA19)<>0,1,\"\")","v":""},{"$f":"IF(SUM(A18:B19)<>0,\"error\",\"\")","v":""},{"$f":"年暦!J13","v":5},5,{"$f":"年暦!J14","v":"金"},null,null,null,null,null,null,{"$f":"IF(D18=0,0,1)","v":1},{"$f":"IF(年暦!K14=\"\",\"\",年暦!K14)","v":"○"},{"$f":"年暦!K13","v":6},{"$f":"IF($O18=0,0,IF($O18>0,0,1))","v":0},{"$f":"IF($O18=0,0,IF($O18>1,0,1))","v":0},{"$f":"IF($O18=0,0,IF($O18>2,0,1))","v":0},{"$f":"IF($O18=0,0,IF($O18>3,0,1))","v":0},{"$f":"IF($O18=0,0,IF($O18>4,0,1))","v":0},{"$f":"IF($O18=0,0,IF($O18>5,0,1))","v":0},{"$f":"IF(AND(G18<>\"\",P18=1),2,0)","v":0},0,0,0,0,0,{"$f":"IF(年暦!L13=\"\",\"\",年暦!L13)","v":"プール清掃\n福祉交流学習（１年）①"}]
[]
[{"$f":"IF(AND(D20=0,O20<>0),1,IF(AND(D20<>0,O20=0),1,IF(O20>6,1,\"\")))","v":""},{"$f":"IF(SUM(V20:AA21)<>0,1,\"\")","v":""},{"$f":"IF(SUM(A20:B21)<>0,\"error\",\"\")","v":""},{"$f":"年暦!J15","v":0},6,{"$f":"年暦!J16","v":"土"},null,null,null,null,null,null,{"$f":"IF(D20=0,0,1)","v":0},{"$f":"IF(年暦!K16=\"\",\"\",年暦!K16)","v":""},{"$f":"年暦!K15","v":0},{"$f":"IF($O20=0,0,IF($O20>0,0,1))","v":0},{"$f":"IF($O20=0,0,IF($O20>1,0,1))","v":0},{"$f":"IF($O20=0,0,IF($O20>2,0,1))","v":0},{"$f":"IF($O20=0,0,IF($O20>3,0,1))","v":0},{"$f":"IF($O20=0,0,IF($O20>4,0,1))","v":0},{"$f":"IF($O20=0,0,IF($O20>5,0,1))","v":0},{"$f":"IF(AND(G20<>\"\",P20=1),2,0)","v":0},0,0,0,0,0,{"$f":"IF(年暦!L15=\"\",\"\",年暦!L15)","v":""}]
[]
[{"$f":"IF(AND(D22=0,O22<>0),1,IF(AND(D22<>0,O22=0),1,IF(O22>6,1,\"\")))","v":""},{"$f":"IF(SUM(V22:AA23)<>0,1,\"\")","v":""},{"$f":"IF(SUM(A22:B23)<>0,\"error\",\"\")","v":""},{"$f":"年暦!J17","v":0},7,{"$f":"年暦!J18","v":"日"},null,null,null,null,null,null,{"$f":"IF(D22=0,0,1)","v":0},{"$f":"IF(年暦!K18=\"\",\"\",年暦!K18)","v":""},{"$f":"年暦!K17","v":0},{"$f":"IF($O22=0,0,IF($O22>0,0,1))","v":0},{"$f":"IF($O22=0,0,IF($O22>1,0,1))","v":0},{"$f":"IF($O22=0,0,IF($O22>2,0,1))","v":0},{"$f":"IF($O22=0,0,IF($O22>3,0,1))","v":0},{"$f":"IF($O22=0,0,IF($O22>4,0,1))","v":0},{"$f":"IF($O22=0,0,IF($O22>5,0,1))","v":0},{"$f":"IF(AND(G22<>\"\",P22=1),2,0)","v":0},0,0,0,0,0,{"$f":"IF(年暦!L17=\"\",\"\",年暦!L17)","v":""}]
[]
[{"$f":"IF(AND(D24=0,O24<>0),1,IF(AND(D24<>0,O24=0),1,IF(O24>6,1,\"\")))","v":""},{"$f":"IF(SUM(V24:AA25)<>0,1,\"\")","v":""},{"$f":"IF(SUM(A24:B25)<>0,\"error\",\"\")","v":""},{"$f":"年暦!J19","v":8},8,{"$f":"年暦!J20","v":"月"},null,null,null,null,null,null,{"$f":"IF(D24=0,0,1)","v":1},{"$f":"IF(年暦!K20=\"\",\"\",年暦!K20)","v":"○"},{"$f":"年暦!K19","v":6},{"$f":"IF($O24=0,0,IF($O24>0,0,1))","v":0},{"$f":"IF($O24=0,0,IF($O24>1,0,1))","v":0},{"$f":"IF($O24=0,0,IF($O24>2,0,1))","v":0},{"$f":"IF($O24=0,0,IF($O24>3,0,1))","v":0},{"$f":"IF($O24=0,0,IF($O24>4,0,1))","v":0},{"$f":"IF($O24=0,0,IF($O24>5,0,1))","v":0},{"$f":"IF(AND(G24<>\"\",P24=1),2,0)","v":0},0,0,0,0,0,{"$f":"IF(年暦!L19=\"\",\"\",年暦!L19)","v":"福祉交流学習（３年）①"}]
[]
[{"$f":"IF(AND(D26=0,O26<>0),1,IF(AND(D26<>0,O26=0),1,IF(O26>6,1,\"\")))","v":""},{"$f":"IF(SUM(V26:AA27)<>0,1,\"\")","v":""},{"$f":"IF(SUM(A26:B27)<>0,\"error\",\"\")","v":""},{"$f":"年暦!J21","v":9},9,{"$f":"年暦!J22","v":"火"},null,null,null,null,null,null,{"$f":"IF(D26=0,0,1)","v":1},{"$f":"IF(年暦!K22=\"\",\"\",年暦!K22)","v":"○"},{"$f":"年暦!K21","v":6},{"$f":"IF($O26=0,0,IF($O26>0,0,1))","v":0},{"$f":"IF($O26=0,0,IF($O26>1,0,1))","v":0},{"$f":"IF($O26=0,0,IF($O26>2,0,1))","v":0},{"$f":"IF($O26=0,0,IF($O26>3,0,1))","v":0},{"$f":"IF($O26=0,0,IF($O26>4,0,1))","v":0},{"$f":"IF($O26=0,0,IF($O26>5,0,1))","v":0},{"$f":"IF(AND(G26<>\"\",P26=1),2,0)","v":0},0,0,0,0,0,{"$f":"IF(年暦!L21=\"\",\"\",年暦!L21)","v":"発育測定（５・６年）\n福祉交流学習（２年）①"}]
[]
[{"$f":"IF(AND(D28=0,O28<>0),1,IF(AND(D28<>0,O28=0),1,IF(O28>6,1,\"\")))","v":""},{"$f":"IF(SUM(V28:AA29)<>0,1,\"\")","v":""},{"$f":"IF(SUM(A28:B29)<>0,\"error\",\"\")","v":""},{"$f":"年暦!J23","v":10},10,{"$f":"年暦!J24","v":"水"},null,null,null,null,null,null,{"$f":"IF(D28=0,0,1)","v":1},{"$f":"IF(年暦!K24=\"\",\"\",年暦!K24)","v":"○"},{"$f":"年暦!K23","v":5},{"$f":"IF($O28=0,0,IF($O28>0,0,1))","v":0},{"$f":"IF($O28=0,0,IF($O28>1,0,1))","v":0},{"$f":"IF($O28=0,0,IF($O28>2,0,1))","v":0},{"$f":"IF($O28=0,0,IF($O28>3,0,1))","v":0},{"$f":"IF($O28=0,0,IF($O28>4,0,1))","v":0},{"$f":"IF($O28=0,0,IF($O28>5,0,1))","v":1},{"$f":"IF(AND(G28<>\"\",P28=1),2,0)","v":0},0,0,0,0,0,{"$f":"IF(年暦!L23=\"\",\"\",年暦!L23)","v":"発育測定（１・２年）"}]
[]
[{"$f":"IF(AND(D30=0,O30<>0),1,IF(AND(D30<>0,O30=0),1,IF(O30>6,1,\"\")))","v":""},{"$f":"IF(SUM(V30:AA31)<>0,1,\"\")","v":""},{"$f":"IF(SUM(A30:B31)<>0,\"error\",\"\")","v":""},{"$f":"年暦!J25","v":11},11,{"$f":"年暦!J26","v":"木"},null,null,null,null,null,null,{"$f":"IF(D30=0,0,1)","v":1},{"$f":"IF(年暦!K26=\"\",\"\",年暦!K26)","v":"○"},{"$f":"年暦!K25","v":6},{"$f":"IF($O30=0,0,IF($O30>0,0,1))","v":0},{"$f":"IF($O30=0,0,IF($O30>1,0,1))","v":0},{"$f":"IF($O30=0,0,IF($O30>2,0,1))","v":0},{"$f":"IF($O30=0,0,IF($O30>3,0,1))","v":0},{"$f":"IF($O30=0,0,IF($O30>4,0,1))","v":0},{"$f":"IF($O30=0,0,IF($O30>5,0,1))","v":0},{"$f":"IF(AND(G30<>\"\",P30=1),2,0)","v":0},0,0,0,0,0,{"$f":"IF(年暦!L25=\"\",\"\",年暦!L25)","v":"発育測定（３・４年）"}]
[]
[{"$f":"IF(AND(D32=0,O32<>0),1,IF(AND(D32<>0,O32=0),1,IF(O32>6,1,\"\")))","v":""},{"$f":"IF(SUM(V32:AA33)<>0,1,\"\")","v":""},{"$f":"IF(SUM(A32:B33)<>0,\"error\",\"\")","v":""},{"$f":"年暦!J27","v":12},12,{"$f":"年暦!J28","v":"金"},null,null,null,null,null,null,{"$f":"IF(D32=0,0,1)","v":1},{"$f":"IF(年暦!K28=\"\",\"\",年暦!K28)","v":"○"},{"$f":"年暦!K27","v":6},{"$f":"IF($O32=0,0,IF($O32>0,0,1))","v":0},{"$f":"IF($O32=0,0,IF($O32>1,0,1))","v":0},{"$f":"IF($O32=0,0,IF($O32>2,0,1))","v":0},{"$f":"IF($O32=0,0,IF($O32>3,0,1))","v":0},{"$f":"IF($O32=0,0,IF($O32>4,0,1))","v":0},{"$f":"IF($O32=0,0,IF($O32>5,0,1))","v":0},{"$f":"IF(AND(G32<>\"\",P32=1),2,0)","v":0},0,0,0,0,0,{"$f":"IF(年暦!L27=\"\",\"\",年暦!L27)","v":"内科検診（１・２年）\n福祉交流学習（４年）①"}]
[]
[{"$f":"IF(AND(D34=0,O34<>0),1,IF(AND(D34<>0,O34=0),1,IF(O34>6,1,\"\")))","v":""},{"$f":"IF(SUM(V34:AA35)<>0,1,\"\")","v":""},{"$f":"IF(SUM(A34:B35)<>0,\"error\",\"\")","v":""},{"$f":"年暦!J29","v":0},13,{"$f":"年暦!J30","v":"土"},null,null,null,null,null,null,{"$f":"IF(D34=0,0,1)","v":0},{"$f":"IF(年暦!K30=\"\",\"\",年暦!K30)","v":""},{"$f":"年暦!K29","v":0},{"$f":"IF($O34=0,0,IF($O34>0,0,1))","v":0},{"$f":"IF($O34=0,0,IF($O34>1,0,1))","v":0},{"$f":"IF($O34=0,0,IF($O34>2,0,1))","v":0},{"$f":"IF($O34=0,0,IF($O34>3,0,1))","v":0},{"$f":"IF($O34=0,0,IF($O34>4,0,1))","v":0},{"$f":"IF($O34=0,0,IF($O34>5,0,1))","v":0},{"$f":"IF(AND(G34<>\"\",P34=1),2,0)","v":0},0,0,0,0,0,{"$f":"IF(年暦!L29=\"\",\"\",年暦!L29)","v":"（中体連塩筑大会①）"}]
[]
[{"$f":"IF(AND(D36=0,O36<>0),1,IF(AND(D36<>0,O36=0),1,IF(O36>6,1,\"\")))","v":""},{"$f":"IF(SUM(V36:AA37)<>0,1,\"\")","v":""},{"$f":"IF(SUM(A36:B37)<>0,\"error\",\"\")","v":""},{"$f":"年暦!J31","v":0},14,{"$f":"年暦!J32","v":"日"},null,null,null,null,null,null,{"$f":"IF(D36=0,0,1)","v":0},{"$f":"IF(年暦!K32=\"\",\"\",年暦!K32)","v":""},{"$f":"年暦!K31","v":0},{"$f":"IF($O36=0,0,IF($O36>0,0,1))","v":0},{"$f":"IF($O36=0,0,IF($O36>1,0,1))","v":0},{"$f":"IF($O36=0,0,IF($O36>2,0,1))","v":0},{"$f":"IF($O36=0,0,IF($O36>3,0,1))","v":0},{"$f":"IF($O36=0,0,IF($O36>4,0,1))","v":0},{"$f":"IF($O36=0,0,IF($O36>5,0,1))","v":0},{"$f":"IF(AND(G36<>\"\",P36=1),2,0)","v":0},0,0,0,0,0,{"$f":"IF(年暦!L31=\"\",\"\",年暦!L31)","v":"（中体連塩筑大会②）"}]
[]
[{"$f":"IF(AND(D38=0,O38<>0),1,IF(AND(D38<>0,O38=0),1,IF(O38>6,1,\"\")))","v":""},{"$f":"IF(SUM(V38:AA39)<>0,1,\"\")","v":""},{"$f":"IF(SUM(A38:B39)<>0,\"error\",\"\")","v":""},{"$f":"年暦!J33","v":15},15,{"$f":"年暦!J34","v":"月"},null,null,null,null,null,null,{"$f":"IF(D38=0,0,1)","v":1},{"$f":"IF(年暦!K34=\"\",\"\",年暦!K34)","v":"○"},{"$f":"年暦!K33","v":6},{"$f":"IF($O38=0,0,IF($O38>0,0,1))","v":0},{"$f":"IF($O38=0,0,IF($O38>1,0,1))","v":0},{"$f":"IF($O38=0,0,IF($O38>2,0,1))","v":0},{"$f":"IF($O38=0,0,IF($O38>3,0,1))","v":0},{"$f":"IF($O38=0,0,IF($O38>4,0,1))","v":0},{"$f":"IF($O38=0,0,IF($O38>5,0,1))","v":0},{"$f":"IF(AND(G38<>\"\",P38=1),2,0)","v":0},0,0,0,0,0,{"$f":"IF(年暦!L33=\"\",\"\",年暦!L33)","v":"音楽会特別時間割開始"}]
[]
[{"$f":"IF(AND(D40=0,O40<>0),1,IF(AND(D40<>0,O40=0),1,IF(O40>6,1,\"\")))","v":""},{"$f":"IF(SUM(V40:AA41)<>0,1,\"\")","v":""},{"$f":"IF(SUM(A40:B41)<>0,\"error\",\"\")","v":""},{"$f":"年暦!J35","v":16},16,{"$f":"年暦!J36","v":"火"},null,null,null,null,null,null,{"$f":"IF(D40=0,0,1)","v":1},{"$f":"IF(年暦!K36=\"\",\"\",年暦!K36)","v":"○"},{"$f":"年暦!K35","v":6},{"$f":"IF($O40=0,0,IF($O40>0,0,1))","v":0},{"$f":"IF($O40=0,0,IF($O40>1,0,1))","v":0},{"$f":"IF($O40=0,0,IF($O40>2,0,1))","v":0},{"$f":"IF($O40=0,0,IF($O40>3,0,1))","v":0},{"$f":"IF($O40=0,0,IF($O40>4,0,1))","v":0},{"$f":"IF($O40=0,0,IF($O40>5,0,1))","v":0},{"$f":"IF(AND(G40<>\"\",P40=1),2,0)","v":0},0,0,0,0,0,{"$f":"IF(年暦!L35=\"\",\"\",年暦!L35)","v":"年長児と交流①\n内科検診（３・４年）"}]
[]
[{"$f":"IF(AND(D42=0,O42<>0),1,IF(AND(D42<>0,O42=0),1,IF(O42>6,1,\"\")))","v":""},{"$f":"IF(SUM(V42:AA43)<>0,1,\"\")","v":""},{"$f":"IF(SUM(A42:B43)<>0,\"error\",\"\")","v":""},{"$f":"年暦!J37","v":17},17,{"$f":"年暦!J38","v":"水"},null,null,null,null,null,null,{"$f":"IF(D42=0,0,1)","v":1},{"$f":"IF(年暦!K38=\"\",\"\",年暦!K38)","v":"○"},{"$f":"年暦!K37","v":4},{"$f":"IF($O42=0,0,IF($O42>0,0,1))","v":0},{"$f":"IF($O42=0,0,IF($O42>1,0,1))","v":0},{"$f":"IF($O42=0,0,IF($O42>2,0,1))","v":0},{"$f":"IF($O42=0,0,IF($O42>3,0,1))","v":0},{"$f":"IF($O42=0,0,IF($O42>4,0,1))","v":1},{"$f":"IF($O42=0,0,IF($O42>5,0,1))","v":1},{"$f":"IF(AND(G42<>\"\",P42=1),2,0)","v":0},0,0,0,0,0,{"$f":"IF(年暦!L37=\"\",\"\",年暦!L37)","v":"自主研修の日①"}]
[]
[{"$f":"IF(AND(D44=0,O44<>0),1,IF(AND(D44<>0,O44=0),1,IF(O44>6,1,\"\")))","v":""},{"$f":"IF(SUM(V44:AA45)<>0,1,\"\")","v":""},{"$f":"IF(SUM(A44:B45)<>0,\"error\",\"\")","v":""},{"$f":"年暦!J39","v":18},18,{"$f":"年暦!J40","v":"木"},null,null,null,null,null,null,{"$f":"IF(D44=0,0,1)","v":1},{"$f":"IF(年暦!K40=\"\",\"\",年暦!K40)","v":"○"},{"$f":"年暦!K39","v":6},{"$f":"IF($O44=0,0,IF($O44>0,0,1))","v":0},{"$f":"IF($O44=0,0,IF($O44>1,0,1))","v":0},{"$f":"IF($O44=0,0,IF($O44>2,0,1))","v":0},{"$f":"IF($O44=0,0,IF($O44>3,0,1))","v":0},{"$f":"IF($O44=0,0,IF($O44>4,0,1))","v":0},{"$f":"IF($O44=0,0,IF($O44>5,0,1))","v":0},{"$f":"IF(AND(G44<>\"\",P44=1),2,0)","v":0},0,0,0,0,0,{"$f":"IF(年暦!L39=\"\",\"\",年暦!L39)","v":"内科検診（５・６年）"}]
[]
[{"$f":"IF(AND(D46=0,O46<>0),1,IF(AND(D46<>0,O46=0),1,IF(O46>6,1,\"\")))","v":""},{"$f":"IF(SUM(V46:AA47)<>0,1,\"\")","v":""},{"$f":"IF(SUM(A46:B47)<>0,\"error\",\"\")","v":""},{"$f":"年暦!J41","v":19},19,{"$f":"年暦!J42","v":"金"},null,null,null,null,null,null,{"$f":"IF(D46=0,0,1)","v":1},{"$f":"IF(年暦!K42=\"\",\"\",年暦!K42)","v":"○"},{"$f":"年暦!K41","v":6},{"$f":"IF($O46=0,0,IF($O46>0,0,1))","v":0},{"$f":"IF($O46=0,0,IF($O46>1,0,1))","v":0},{"$f":"IF($O46=0,0,IF($O46>2,0,1))","v":0},{"$f":"IF($O46=0,0,IF($O46>3,0,1))","v":0},{"$f":"IF($O46=0,0,IF($O46>4,0,1))","v":0},{"$f":"IF($O46=0,0,IF($O46>5,0,1))","v":0},{"$f":"IF(AND(G46<>\"\",P46=1),2,0)","v":0},0,0,0,0,0,{"$f":"IF(年暦!L41=\"\",\"\",年暦!L41)","v":"漢字検定①"}]
[]
[{"$f":"IF(AND(D48=0,O48<>0),1,IF(AND(D48<>0,O48=0),1,IF(O48>6,1,\"\")))","v":""},{"$f":"IF(SUM(V48:AA49)<>0,1,\"\")","v":""},{"$f":"IF(SUM(A48:B49)<>0,\"error\",\"\")","v":""},{"$f":"年暦!J43","v":0},20,{"$f":"年暦!J44","v":"土"},null,null,null,null,null,null,{"$f":"IF(D48=0,0,1)","v":0},{"$f":"IF(年暦!K44=\"\",\"\",年暦!K44)","v":""},{"$f":"年暦!K43","v":0},{"$f":"IF($O48=0,0,IF($O48>0,0,1))","v":0},{"$f":"IF($O48=0,0,IF($O48>1,0,1))","v":0},{"$f":"IF($O48=0,0,IF($O48>2,0,1))","v":0},{"$f":"IF($O48=0,0,IF($O48>3,0,1))","v":0},{"$f":"IF($O48=0,0,IF($O48>4,0,1))","v":0},{"$f":"IF($O48=0,0,IF($O48>5,0,1))","v":0},{"$f":"IF(AND(G48<>\"\",P48=1),2,0)","v":0},0,0,0,0,0,{"$f":"IF(年暦!L43=\"\",\"\",年暦!L43)","v":""}]
[]
[{"$f":"IF(AND(D50=0,O50<>0),1,IF(AND(D50<>0,O50=0),1,IF(O50>6,1,\"\")))","v":""},{"$f":"IF(SUM(V50:AA51)<>0,1,\"\")","v":""},{"$f":"IF(SUM(A50:B51)<>0,\"error\",\"\")","v":""},{"$f":"年暦!J45","v":0},21,{"$f":"年暦!J46","v":"日"},null,null,null,null,null,null,{"$f":"IF(D50=0,0,1)","v":0},{"$f":"IF(年暦!K46=\"\",\"\",年暦!K46)","v":""},{"$f":"年暦!K45","v":0},{"$f":"IF($O50=0,0,IF($O50>0,0,1))","v":0},{"$f":"IF($O50=0,0,IF($O50>1,0,1))","v":0},{"$f":"IF($O50=0,0,IF($O50>2,0,1))","v":0},{"$f":"IF($O50=0,0,IF($O50>3,0,1))","v":0},{"$f":"IF($O50=0,0,IF($O50>4,0,1))","v":0},{"$f":"IF($O50=0,0,IF($O50>5,0,1))","v":0},{"$f":"IF(AND(G50<>\"\",P50=1),2,0)","v":0},0,0,0,0,0,{"$f":"IF(年暦!L45=\"\",\"\",年暦!L45)","v":"長野県小学生陸上大会"}]
[]
[{"$f":"IF(AND(D52=0,O52<>0),1,IF(AND(D52<>0,O52=0),1,IF(O52>6,1,\"\")))","v":""},{"$f":"IF(SUM(V52:AA53)<>0,1,\"\")","v":""},{"$f":"IF(SUM(A52:B53)<>0,\"error\",\"\")","v":""},{"$f":"年暦!J47","v":22},22,{"$f":"年暦!J48","v":"月"},null,null,null,null,null,null,{"$f":"IF(D52=0,0,1)","v":1},{"$f":"IF(年暦!K48=\"\",\"\",年暦!K48)","v":"○"},{"$f":"年暦!K47","v":6},{"$f":"IF($O52=0,0,IF($O52>0,0,1))","v":0},{"$f":"IF($O52=0,0,IF($O52>1,0,1))","v":0},{"$f":"IF($O52=0,0,IF($O52>2,0,1))","v":0},{"$f":"IF($O52=0,0,IF($O52>3,0,1))","v":0},{"$f":"IF($O52=0,0,IF($O52>4,0,1))","v":0},{"$f":"IF($O52=0,0,IF($O52>5,0,1))","v":0},{"$f":"IF(AND(G52<>\"\",P52=1),2,0)","v":0},0,0,0,0,0,{"$f":"IF(年暦!L47=\"\",\"\",年暦!L47)","v":"プール開き"}]
[]
[{"$f":"IF(AND(D54=0,O54<>0),1,IF(AND(D54<>0,O54=0),1,IF(O54>6,1,\"\")))","v":""},{"$f":"IF(SUM(V54:AA55)<>0,1,\"\")","v":""},{"$f":"IF(SUM(A54:B55)<>0,\"error\",\"\")","v":""},{"$f":"年暦!J49","v":23},23,{"$f":"年暦!J50","v":"火"},null,null,null,null,null,null,{"$f":"IF(D54=0,0,1)","v":1},{"$f":"IF(年暦!K50=\"\",\"\",年暦!K50)","v":"○"},{"$f":"年暦!K49","v":6},{"$f":"IF($O54=0,0,IF($O54>0,0,1))","v":0},{"$f":"IF($O54=0,0,IF($O54>1,0,1))","v":0},{"$f":"IF($O54=0,0,IF($O54>2,0,1))","v":0},{"$f":"IF($O54=0,0,IF($O54>3,0,1))","v":0},{"$f":"IF($O54=0,0,IF($O54>4,0,1))","v":0},{"$f":"IF($O54=0,0,IF($O54>5,0,1))","v":0},{"$f":"IF(AND(G54<>\"\",P54=1),2,0)","v":0},0,0,0,0,0,{"$f":"IF(年暦!L49=\"\",\"\",年暦!L49)","v":"運動器検診（５年）"}]
[]
[{"$f":"IF(AND(D56=0,O56<>0),1,IF(AND(D56<>0,O56=0),1,IF(O56>6,1,\"\")))","v":""},{"$f":"IF(SUM(V56:AA57)<>0,1,\"\")","v":""},{"$f":"IF(SUM(A56:B57)<>0,\"error\",\"\")","v":""},{"$f":"年暦!J51","v":24},24,{"$f":"年暦!J52","v":"水"},null,null,null,null,null,null,{"$f":"IF(D56=0,0,1)","v":1},{"$f":"IF(年暦!K52=\"\",\"\",年暦!K52)","v":"○"},{"$f":"年暦!K51","v":5},{"$f":"IF($O56=0,0,IF($O56>0,0,1))","v":0},{"$f":"IF($O56=0,0,IF($O56>1,0,1))","v":0},{"$f":"IF($O56=0,0,IF($O56>2,0,1))","v":0},{"$f":"IF($O56=0,0,IF($O56>3,0,1))","v":0},{"$f":"IF($O56=0,0,IF($O56>4,0,1))","v":0},{"$f":"IF($O56=0,0,IF($O56>5,0,1))","v":1},{"$f":"IF(AND(G56<>\"\",P56=1),2,0)","v":0},0,0,0,0,0,{"$f":"IF(年暦!L51=\"\",\"\",年暦!L51)","v":""}]
[]
[{"$f":"IF(AND(D58=0,O58<>0),1,IF(AND(D58<>0,O58=0),1,IF(O58>6,1,\"\")))","v":""},{"$f":"IF(SUM(V58:AA59)<>0,1,\"\")","v":""},{"$f":"IF(SUM(A58:B59)<>0,\"error\",\"\")","v":""},{"$f":"年暦!J53","v":25},25,{"$f":"年暦!J54","v":"木"},null,null,null,null,null,null,{"$f":"IF(D58=0,0,1)","v":1},{"$f":"IF(年暦!K54=\"\",\"\",年暦!K54)","v":"○"},{"$f":"年暦!K53","v":6},{"$f":"IF($O58=0,0,IF($O58>0,0,1))","v":0},{"$f":"IF($O58=0,0,IF($O58>1,0,1))","v":0},{"$f":"IF($O58=0,0,IF($O58>2,0,1))","v":0},{"$f":"IF($O58=0,0,IF($O58>3,0,1))","v":0},{"$f":"IF($O58=0,0,IF($O58>4,0,1))","v":0},{"$f":"IF($O58=0,0,IF($O58>5,0,1))","v":0},{"$f":"IF(AND(G58<>\"\",P58=1),2,0)","v":0},0,0,0,0,0,{"$f":"IF(年暦!L53=\"\",\"\",年暦!L53)","v":""}]
[]
[{"$f":"IF(AND(D60=0,O60<>0),1,IF(AND(D60<>0,O60=0),1,IF(O60>6,1,\"\")))","v":""},{"$f":"IF(SUM(V60:AA61)<>0,1,\"\")","v":""},{"$f":"IF(SUM(A60:B61)<>0,\"error\",\"\")","v":""},{"$f":"年暦!J55","v":26},26,{"$f":"年暦!J56","v":"金"},null,null,null,null,null,null,{"$f":"IF(D60=0,0,1)","v":1},{"$f":"IF(年暦!K56=\"\",\"\",年暦!K56)","v":"×"},{"$f":"年暦!K55","v":5},{"$f":"IF($O60=0,0,IF($O60>0,0,1))","v":0},{"$f":"IF($O60=0,0,IF($O60>1,0,1))","v":0},{"$f":"IF($O60=0,0,IF($O60>2,0,1))","v":0},{"$f":"IF($O60=0,0,IF($O60>3,0,1))","v":0},{"$f":"IF($O60=0,0,IF($O60>4,0,1))","v":0},{"$f":"IF($O60=0,0,IF($O60>5,0,1))","v":1},{"$f":"IF(AND(G60<>\"\",P60=1),2,0)","v":0},0,0,0,0,0,{"$f":"IF(年暦!L55=\"\",\"\",年暦!L55)","v":"音楽会"}]
[]
[{"$f":"IF(AND(D62=0,O62<>0),1,IF(AND(D62<>0,O62=0),1,IF(O62>6,1,\"\")))","v":""},{"$f":"IF(SUM(V62:AA63)<>0,1,\"\")","v":""},{"$f":"IF(SUM(A62:B63)<>0,\"error\",\"\")","v":""},{"$f":"年暦!J57","v":0},27,{"$f":"年暦!J58","v":"土"},null,null,null,null,null,null,{"$f":"IF(D62=0,0,1)","v":0},{"$f":"IF(年暦!K58=\"\",\"\",年暦!K58)","v":""},{"$f":"年暦!K57","v":0},{"$f":"IF($O62=0,0,IF($O62>0,0,1))","v":0},{"$f":"IF($O62=0,0,IF($O62>1,0,1))","v":0},{"$f":"IF($O62=0,0,IF($O62>2,0,1))","v":0},{"$f":"IF($O62=0,0,IF($O62>3,0,1))","v":0},{"$f":"IF($O62=0,0,IF($O62>4,0,1))","v":0},{"$f":"IF($O62=0,0,IF($O62>5,0,1))","v":0},{"$f":"IF(AND(G62<>\"\",P62=1),2,0)","v":0},0,0,0,0,0,{"$f":"IF(年暦!L57=\"\",\"\",年暦!L57)","v":"（中体連中信大会①）"}]
[]
[{"$f":"IF(AND(D64=0,O64<>0),1,IF(AND(D64<>0,O64=0),1,IF(O64>6,1,\"\")))","v":""},{"$f":"IF(SUM(V64:AA65)<>0,1,\"\")","v":""},{"$f":"IF(SUM(A64:B65)<>0,\"error\",\"\")","v":""},{"$f":"年暦!J59","v":0},28,{"$f":"年暦!J60","v":"日"},null,null,null,null,null,null,{"$f":"IF(D64=0,0,1)","v":0},{"$f":"IF(年暦!K60=\"\",\"\",年暦!K60)","v":""},{"$f":"年暦!K59","v":0},{"$f":"IF($O64=0,0,IF($O64>0,0,1))","v":0},{"$f":"IF($O64=0,0,IF($O64>1,0,1))","v":0},{"$f":"IF($O64=0,0,IF($O64>2,0,1))","v":0},{"$f":"IF($O64=0,0,IF($O64>3,0,1))","v":0},{"$f":"IF($O64=0,0,IF($O64>4,0,1))","v":0},{"$f":"IF($O64=0,0,IF($O64>5,0,1))","v":0},{"$f":"IF(AND(G64<>\"\",P64=1),2,0)","v":0},0,0,0,0,0,{"$f":"IF(年暦!L59=\"\",\"\",年暦!L59)","v":"（中体連中信大会②）"}]
[]
[{"$f":"IF(AND(D66=0,O66<>0),1,IF(AND(D66<>0,O66=0),1,IF(O66>6,1,\"\")))","v":""},{"$f":"IF(SUM(V66:AA67)<>0,1,\"\")","v":""},{"$f":"IF(SUM(A66:B67)<>0,\"error\",\"\")","v":""},{"$f":"年暦!J61","v":29},29,{"$f":"年暦!J62","v":"月"},null,null,null,null,null,null,{"$f":"IF(D66=0,0,1)","v":1},{"$f":"IF(年暦!K62=\"\",\"\",年暦!K62)","v":"○"},{"$f":"年暦!K61","v":6},{"$f":"IF($O66=0,0,IF($O66>0,0,1))","v":0},{"$f":"IF($O66=0,0,IF($O66>1,0,1))","v":0},{"$f":"IF($O66=0,0,IF($O66>2,0,1))","v":0},{"$f":"IF($O66=0,0,IF($O66>3,0,1))","v":0},{"$f":"IF($O66=0,0,IF($O66>4,0,1))","v":0},{"$f":"IF($O66=0,0,IF($O66>5,0,1))","v":0},{"$f":"IF(AND(G66<>\"\",P66=1),2,0)","v":0},0,0,0,0,0,{"$f":"IF(年暦!L61=\"\",\"\",年暦!L61)","v":""}]
[]
[{"$f":"IF(AND(D68=0,O68<>0),1,IF(AND(D68<>0,O68=0),1,IF(O68>6,1,\"\")))","v":""},{"$f":"IF(SUM(V68:AA69)<>0,1,\"\")","v":""},{"$f":"IF(SUM(A68:B69)<>0,\"error\",\"\")","v":""},{"$f":"年暦!J63","v":30},30,{"$f":"年暦!J64","v":"火"},null,null,null,null,null,null,{"$f":"IF(D68=0,0,1)","v":1},{"$f":"IF(年暦!K64=\"\",\"\",年暦!K64)","v":"○"},{"$f":"年暦!K63","v":6},{"$f":"IF($O68=0,0,IF($O68>0,0,1))","v":0},{"$f":"IF($O68=0,0,IF($O68>1,0,1))","v":0},{"$f":"IF($O68=0,0,IF($O68>2,0,1))","v":0},{"$f":"IF($O68=0,0,IF($O68>3,0,1))","v":0},{"$f":"IF($O68=0,0,IF($O68>4,0,1))","v":0},{"$f":"IF($O68=0,0,IF($O68>5,0,1))","v":0},{"$f":"IF(AND(G68<>\"\",P68=1),2,0)","v":0},0,0,0,0,0,{"$f":"IF(年暦!L63=\"\",\"\",年暦!L63)","v":""}]
[]
[]
[]
[null,null,null,null,"日","曜","○","●","児","ク","学","△","登校","給食","時数","授業時数確認",null,null,null,null,null,"誤入力確認",null,null,null,null,null,"行　事　等"]
[null,null,null,null,null,null,{"$f":"COUNTIF($G$10:$L$69,G72)","v":0},0,0,0,0,0,{"$f":"SUM(M10:M70)","v":22},{"$f":"COUNTIF(N10:N69,\"○\")","v":21},{"$f":"SUM(O10:O70)","v":126}]
[]
[null,null,null,null,null,null,null,"小計",null,null,"累計",null,null,null,null,null,null,null,null,null,null,null,null,null,null,null,null,null,null,null,"小計",null,null,"累計",null,null,null,null,null,"小計",null,null,"累計"]
[null,{"$f":"SUM(AE76,AE77,AE78,AN76,AN77,AN78)","v":0},{"$f":"IF(H77<>B76,\"error\",\"\")","v":"error"},null,"登校日数",null,null,{"$f":"M73","v":22},null,null,{"$f":"H76+'5'!K78:N78","v":58},null,null,null,null,null,null,null,null,null,null,null,null,null,null,null,null,"教科，道徳，総合",null,null,{"$f":"G73","v":0},null,null,{"$f":"AE76+'5'!AH78:AJ78","v":0},null,null,"クラブ",null,null,{"$f":"J73","v":0},null,null,{"$f":"AN76+'5'!AQ78:AS78","v":0}]
[null,null,null,null,"授業時数",null,null,{"$f":"O73","v":126},null,null,{"$f":"H77+'5'!K79:N79","v":323},null,null,null,null,null,null,null,null,null,null,null,null,null,null,null,null,"行事",null,null,{"$f":"H73","v":0},null,null,{"$f":"AE77+'5'!AH79:AJ79","v":2},null,null,"学級",null,null,{"$f":"K73","v":0},null,null,{"$f":"AN77+'5'!AQ79:AS79","v":1}]
[null,null,null,null,"給食日数",null,null,{"$f":"N73","v":21},null,null,{"$f":"H78+'5'!K80:N80","v":54},null,null,null,null,null,null,null,null,null,null,null,null,null,null,null,null,"児童会",null,null,{"$f":"I73","v":0},null,null,{"$f":"AE78+'5'!AH80:AJ80","v":0},null,null,"学校裁量",null,null,{"$f":"L73","v":0},null,null,{"$f":"AN78+'5'!AQ80:AS80","v":0}]

{"sheet":"7","index":3,"n_rows":80,"n_cols":43,"rows_kept":80,"cut":false,"hidden":false,"merged":[[79,42,79,44],[78,42,78,44],[77,42,77,44],[79,39,79,41],[78,39,78,41],[77,39,77,41],[77,27,77,29],[79,33,79,35],[78,33,78,35],[77,33,77,35],[79,30,79,32],[78,30,78,32],[77,30,77,32],[79,4,79,6],[78,4,78,6],[79,10,79,13],[78,10,78,13],[79,27,79,29],[78,27,78,29],[76,27,76,29],[76,10,76,13],[7,4,7,44],[77,4,77,6],[77,10,77,13],[76,42,76,44],[76,39,76,41],[76,36,76,38],[8,27,8,44],[41,27,42,44],[79,36,79,38],[78,36,78,38],[77,36,77,38],[76,4,76,6],[76,7,76,9],[79,7,79,9],[78,7,78,9],[77,7,77,9],[76,33,76,35],[76,30,76,32],[6,4,6,44],[5,4,5,44],[3,36,3,37],[3,33,3,34],[3,30,3,31],[3,27,3,28],[3,10,3,11],[3,7,3,8],[3,4,3,5],[27,27,28,44],[25,27,26,44],[39,27,40,44],[37,27,38,44],[35,27,36,44],[33,27,34,44],[67,27,68,44],[65,27,66,44],[63,27,64,44],[61,27,62,44],[31,27,32,44],[29,27,30,44],[47,27,48,44],[43,45,44,45],[45,45,46,45],[47,45,48,45],[49,45,50,45],[43,27,44,44],[67,45,68,45],[59,45,60,45],[61,45,62,45],[63,45,64,45],[65,45,66,45],[45,27,46,44],[57,27,58,44],[55,27,56,44],[53,27,54,44],[59,27,60,44],[51,45,52,45],[53,45,54,45],[55,45,56,45],[57,45,58,45],[51,27,52,44],[49,27,50,44],[31,45,32,45],[33,45,34,45],[35,45,36,45],[37,45,38,45],[39,45,40,45],[41,45,42,45],[19,45,20,45],[21,45,22,45],[23,45,24,45],[25,45,26,45],[27,45,28,45],[29,45,30,45],[65,0,66,0],[67,0,68,0],[57,0,58,0],[59,0,60,0],[61,0,62,0],[63,0,64,0],[45,0,46,0],[47,0,48,0],[49,0,50,0],[51,0,52,0],[53,0,54,0],[55,0,56,0],[33,0,34,0],[35,0,36,0],[37,0,38,0],[39,0,40,0],[41,0,42,0],[43,0,44,0],[21,0,22,0],[23,0,24,0],[25,0,26,0],[27,0,28,0],[29,0,30,0],[31,0,32,0],[67,19,68,19],[67,20,68,20],[65,19,66,19],[65,20,66,20],[9,0,10,0],[11,0,12,0],[13,0,14,0],[15,0,16,0],[17,0,18,0],[19,0,20,0],[53,19,54,19],[41,19,42,19],[41,20,42,20],[33,19,34,19],[33,20,34,20],[25,19,26,19],[25,20,26,20],[11,20,12,20],[65,17,66,17],[65,18,66,18],[67,15,68,15],[67,16,68,16],[67,17,68,17],[67,18,68,18],[63,25,64,25],[63,26,64,26],[63,19,64,19],[63,20,64,20],[63,21,64,21],[63,22,64,22],[63,23,64,23],[63,24,64,24],[53,20,54,20],[55,21,56,21],[55,22,56,22],[61,19,62,19],[61,20,62,20],[59,19,60,19],[59,20,60,20],[53,24,54,24],[53,25,54,25],[53,26,54,26],[57,19,58,19],[57,20,58,20],[53,21,54,21],[53,22,54,22],[55,19,56,19],[55,20,56,20],[51,19,52,19],[51,20,52,20],[49,19,50,19],[49,20,50,20],[45,19,46,19],[45,20,46,20],[43,19,44,19],[43,20,44,20],[47,19,48,19],[47,20,48,20],[39,19,40,19],[39,20,40,20],[37,19,38,19],[37,20,38,20],[39,21,40,21],[39,22,40,22],[35,19,36,19],[35,20,36,20],[47,21,48,21],[47,22,48,22],[43,21,44,21],[43,22,44,22],[41,21,42,21],[41,22,42,22],[29,24,30,24],[27,23,28,23],[27,24,28,24],[37,21,38,21],[37,22,38,22],[29,25,30,25],[29,26,30,26],[31,23,32,23],[31,24,32,24],[37,23,38,23],[37,24,38,24],[35,22,36,22],[35,23,36,23],[35,24,36,24],[33,25,34,25],[33,26,34,26],[35,25,36,25],[35,26,36,26],[37,26,38,26],[31,26,32,26],[27,26,28,26],[27,22,28,22],[29,22,30,22],[29,23,30,23],[23,19,24,19],[23,20,24,20],[21,19,22,19],[21,20,22,20],[25,21,26,21],[25,22,26,22],[19,25,20,25],[25,25,26,25],[37,25,38,25],[33,21,34,21],[33,22,34,22],[33,23,34,23],[33,24,34,24],[29,19,30,19],[29,20,30,20],[27,19,28,19],[27,20,28,20],[31,25,32,25],[31,19,32,19],[31,20,32,20],[31,21,32,21],[31,22,32,22],[27,25,28,25],[19,19,20,19],[17,27,18,44],[21,23,22,23],[21,24,22,24],[21,25,22,25],[21,26,22,26],[19,23,20,23],[19,24,20,24],[17,23,18,23],[21,21,22,21],[21,22,22,22],[9,22,10,22],[15,24,16,24],[15,25,16,25],[15,26,16,26],[17,24,18,24],[17,25,18,25],[17,26,18,26],[15,21,16,21],[15,22,16,22],[15,23,16,23],[11,21,12,21],[9,21,10,21],[11,26,12,26],[13,21,14,21],[13,22,14,22],[13,23,14,23],[13,24,14,24],[13,25,14,25],[13,26,14,26],[11,22,12,22],[11,24,12,24],[11,25,12,25],[11,23,12,23],[19,20,20,20],[17,19,18,19],[17,20,18,20],[9,19,10,19],[15,19,16,19],[15,20,16,20],[13,19,14,19],[13,20,14,20],[9,20,10,20],[11,19,12,19],[67,9,68,9],[67,10,68,10],[67,11,68,11],[67,14,68,14],[67,13,68,13],[67,12,68,12],[63,17,64,17],[63,18,64,18],[65,9,66,9],[65,10,66,10],[65,11,66,11],[65,14,66,14],[65,13,66,13],[65,12,66,12],[65,15,66,15],[65,16,66,16],[61,18,62,18],[63,9,64,9],[63,10,64,10],[63,11,64,11],[63,14,64,14],[63,13,64,13],[63,12,64,12],[63,15,64,15],[63,16,64,16],[61,9,62,9],[61,10,62,10],[61,11,62,11],[61,14,62,14],[61,13,62,13],[61,12,62,12],[61,15,62,15],[61,16,62,16],[61,17,62,17],[57,18,58,18],[59,9,60,9],[59,10,60,10],[59,11,60,11],[59,14,60,14],[59,13,60,13],[59,12,60,12],[59,15,60,15],[59,16,60,16],[59,17,60,17],[59,18,60,18],[57,9,58,9],[57,10,58,10],[57,11,58,11],[57,14,58,14],[57,13,58,13],[57,12,58,12],[57,15,58,15],[57,16,58,16],[57,17,58,17],[53,18,54,18],[55,9,56,9],[55,10,56,10],[55,11,56,11],[55,14,56,14],[55,13,56,13],[55,12,56,12],[55,15,56,15],[55,16,56,16],[55,17,56,17],[55,18,56,18],[53,9,54,9],[53,10,54,10],[53,11,54,11],[53,14,54,14],[53,13,54,13],[53,12,54,12],[53,15,54,15],[53,16,54,16],[53,17,54,17],[49,18,50,18],[51,9,52,9],[51,10,52,10],[51,11,52,11],[51,14,52,14],[51,13,52,13],[51,12,52,12],[51,15,52,15],[51,16,52,16],[51,17,52,17],[51,18,52,18],[49,9,50,9],[49,10,50,10],[49,11,50,11],[49,14,50,14],[49,13,50,13],[49,12,50,12],[49,15,50,15],[49,16,50,16],[49,17,50,17],[45,18,46,18],[47,9,48,9],[47,10,48,10],[47,11,48,11],[47,14,48,14],[47,13,48,13],[47,12,48,12],[47,15,48,15],[47,16,48,16],[47,17,48,17],[47,18,48,18],[45,9,46,9],[45,10,46,10],[45,11,46,11],[45,14,46,14],[45,13,46,13],[45,12,46,12],[45,15,46,15],[45,16,46,16],[45,17,46,17],[41,18,42,18],[43,9,44,9],[43,10,44,10],[43,11,44,11],[43,14,44,14],[43,13,44,13],[43,12,44,12],[43,15,44,15],[43,16,44,16],[43,17,44,17],[43,18,44,18],[41,9,42,9],[41,10,42,10],[41,11,42,11],[41,14,42,14],[41,13,42,13],[41,12,42,12],[41,15,42,15],[41,16,42,16],[41,17,42,17],[37,18,38,18],[39,9,40,9],[39,10,40,10],[39,11,40,11],[39,14,40,14],[39,13,40,13],[39,12,40,12],[39,15,40,15],[39,16,40,16],[39,17,40,17],[39,18,40,18],[37,9,38,9],[37,10,38,10],[37,11,38,11],[37,14,38,14],[37,13,38,13],[37,12,38,12],[37,15,38,15],[37,16,38,16],[37,17,38,17],[33,18,34,18],[35,9,36,9],[35,10,36,10],[35,11,36,11],[35,14,36,14],[35,13,36,13],[35,12,36,12],[35,15,36,15],[35,16,36,16],[35,17,36,17],[35,18,36,18],[33,9,34,9],[33,10,34,10],[33,11,34,11],[33,14,34,14],[33,13,34,13],[33,12,34,12],[33,15,34,15],[33,16,34,16],[33,17,34,17],[29,18,30,18],[31,9,32,9],[31,10,32,10],[31,11,32,11],[31,14,32,14],[31,13,32,13],[31,12,32,12],[31,15,32,15],[31,16,32,16],[31,17,32,17],[31,18,32,18],[29,9,30,9],[29,10,30,10],[29,11,30,11],[29,14,30,14],[29,13,30,13],[29,12,30,12],[29,15,30,15],[29,16,30,16],[29,17,30,17],[25,18,26,18],[27,9,28,9],[27,10,28,10],[27,11,28,11],[27,14,28,14],[27,13,28,13],[27,12,28,12],[27,15,28,15],[27,16,28,16],[27,17,28,17],[27,18,28,18],[25,9,26,9],[25,10,26,10],[25,11,26,11],[25,14,26,14],[25,13,26,13],[25,12,26,12],[25,15,26,15],[25,16,26,16],[25,17,26,17],[21,18,22,18],[23,9,24,9],[23,10,24,10],[23,11,24,11],[23,14,24,14],[23,13,24,13],[23,12,24,12],[23,15,24,15],[23,16,24,16],[23,17,24,17],[23,18,24,18],[21,9,22,9],[21,10,22,10],[21,11,22,11],[21,14,22,14],[21,13,22,13],[21,12,22,12],[21,15,22,15],[21,16,22,16],[21,17,22,17],[17,18,18,18],[19,9,20,9],[19,10,20,10],[19,11,20,11],[19,14,20,14],[19,13,20,13],[19,12,20,12],[19,15,20,15],[19,16,20,16],[19,17,20,17],[19,18,20,18],[17,9,18,9],[17,10,18,10],[17,11,18,11],[17,14,18,14],[17,13,18,13],[17,12,18,12],[17,15,18,15],[17,16,18,16],[17,17,18,17],[13,17,14,17],[13,18,14,18],[15,9,16,9],[15,10,16,10],[15,11,16,11],[15,14,16,14],[15,13,16,13],[15,12,16,12],[15,15,16,15],[15,16,16,16],[13,9,14,9],[13,10,14,10],[13,11,14,11],[13,14,14,14],[13,15,14,15],[13,16,14,16],[15,17,16,17],[15,18,16,18],[13,13,14,13],[13,12,14,12],[9,18,10,18],[11,9,12,9],[11,10,12,10],[11,11,12,11],[11,14,12,14],[11,15,12,15],[11,16,12,16],[11,17,12,17],[11,18,12,18],[9,9,10,9],[9,10,10,10],[9,11,10,11],[9,14,10,14],[9,13,10,13],[11,13,12,13],[9,12,10,12],[11,12,12,12],[9,15,10,15],[9,16,10,16],[9,17,10,17],[67,5,68,5],[67,6,68,6],[67,7,68,7],[67,8,68,8],[65,5,66,5],[65,6,66,6],[65,7,66,7],[61,5,62,5],[61,6,62,6],[61,7,62,7],[61,8,62,8],[65,8,66,8],[63,5,64,5],[63,6,64,6],[63,7,64,7],[63,8,64,8],[57,5,58,5],[57,6,58,6],[57,7,58,7],[57,8,58,8],[59,5,60,5],[59,6,60,6],[59,7,60,7],[59,8,60,8],[53,5,54,5],[53,6,54,6],[53,7,54,7],[53,8,54,8],[55,5,56,5],[55,6,56,6],[55,7,56,7],[55,8,56,8],[49,5,50,5],[49,6,50,6],[49,7,50,7],[49,8,50,8],[51,5,52,5],[51,6,52,6],[51,7,52,7],[51,8,52,8],[45,5,46,5],[45,6,46,6],[45,7,46,7],[45,8,46,8],[47,5,48,5],[47,6,48,6],[47,7,48,7],[47,8,48,8],[43,6,44,6],[43,7,44,7],[43,8,44,8],[37,5,38,5],[37,6,38,6],[37,7,38,7],[37,8,38,8],[39,5,40,5],[39,6,40,6],[39,7,40,7],[39,8,40,8],[23,5,24,5],[23,6,24,6],[23,7,24,7],[23,8,24,8],[33,5,34,5],[33,6,34,6],[33,7,34,7],[33,8,34,8],[27,7,28,7],[27,8,28,8],[29,5,30,5],[29,6,30,6],[29,7,30,7],[29,8,30,8],[31,5,32,5],[31,6,32,6],[31,7,32,7],[31,8,32,8],[27,6,28,6],[9,7,10,7],[9,8,10,8],[11,5,12,5],[11,6,12,6],[11,7,12,7],[9,6,10,6],[21,5,22,5],[21,6,22,6],[21,7,22,7],[21,8,22,8],[17,5,18,5],[17,6,18,6],[17,7,18,7],[17,8,18,8],[19,5,20,5],[19,6,20,6],[19,7,20,7],[19,8,20,8],[13,6,14,6],[13,7,14,7],[13,8,14,8],[15,5,16,5],[15,6,16,6],[15,7,16,7],[67,4,68,4],[65,4,66,4],[63,4,64,4],[61,4,62,4],[59,4,60,4],[57,4,58,4],[59,3,60,3],[57,3,58,3],[55,3,56,3],[55,4,56,4],[67,3,68,3],[65,3,66,3],[63,3,64,3],[61,3,62,3],[15,4,16,4],[19,3,20,3],[17,3,18,3],[15,3,16,3],[33,4,34,4],[23,4,24,4],[53,4,54,4],[51,4,52,4],[49,4,50,4],[47,4,48,4],[45,4,46,4],[31,4,32,4],[29,4,30,4],[27,4,28,4],[25,4,26,4],[43,3,44,3],[41,3,42,3],[39,3,40,3],[37,3,38,3],[51,3,52,3],[49,3,50,3],[47,3,48,3],[45,3,46,3],[35,3,36,3],[9,2,10,2],[11,2,12,2],[13,2,14,2],[13,3,14,3],[11,4,12,4],[9,4,10,4],[11,3,12,3],[9,3,10,3],[9,5,10,5],[13,4,14,4],[13,5,14,5],[15,8,16,8],[65,2,66,2],[55,2,56,2],[11,8,12,8],[23,2,24,2],[25,2,26,2],[27,2,28,2],[29,2,30,2],[15,2,16,2],[17,2,18,2],[19,2,20,2],[21,2,22,2],[21,4,22,4],[19,4,20,4],[17,4,18,4],[27,3,28,3],[25,3,26,3],[23,3,24,3],[21,3,22,3],[25,5,26,5],[25,6,26,6],[25,7,26,7],[25,8,26,8],[27,5,28,5],[55,1,56,1],[57,1,58,1],[59,1,60,1],[61,1,62,1],[47,1,48,1],[63,1,64,1],[57,2,58,2],[59,2,60,2],[61,2,62,2],[47,2,48,2],[49,2,50,2],[51,2,52,2],[53,2,54,2],[63,2,64,2],[53,3,54,3],[43,4,44,4],[41,4,42,4],[39,4,40,4],[37,4,38,4],[35,4,36,4],[67,2,68,2],[9,1,10,1],[11,1,12,1],[13,1,14,1],[15,1,16,1],[17,1,18,1],[19,1,20,1],[21,1,22,1],[31,1,32,1],[33,1,34,1],[35,1,36,1],[37,1,38,1],[23,1,24,1],[25,1,26,1],[27,1,28,1],[29,1,30,1],[65,1,66,1],[67,1,68,1],[43,25,44,25],[43,26,44,26],[51,1,52,1],[53,1,54,1],[39,1,40,1],[41,1,42,1],[43,1,44,1],[45,1,46,1],[49,1,50,1],[39,25,40,25],[39,26,40,26],[41,23,42,23],[41,24,42,24],[41,25,42,25],[41,26,42,26],[39,23,40,23],[39,24,40,24],[43,23,44,23],[43,24,44,24],[53,23,54,23],[45,25,46,25],[45,26,46,26],[45,22,46,22],[45,23,46,23],[27,21,28,21],[29,21,30,21],[35,21,36,21],[39,2,40,2],[41,2,42,2],[43,2,44,2],[45,2,46,2],[31,2,32,2],[33,2,34,2],[35,2,36,2],[37,2,38,2],[45,21,46,21],[33,3,34,3],[31,3,32,3],[29,3,30,3],[35,5,36,5],[35,6,36,6],[35,7,36,7],[35,8,36,8],[41,5,42,5],[41,6,42,6],[41,7,42,7],[41,8,42,8],[43,5,44,5],[25,26,26,26],[17,21,18,21],[17,22,18,22],[23,21,24,21],[23,22,24,22],[19,21,20,21],[19,22,20,22],[23,23,24,23],[23,24,24,24],[23,25,24,25],[23,26,24,26],[25,23,26,23],[25,24,26,24],[19,26,20,26],[45,24,46,24],[49,25,50,25],[49,26,50,26],[49,21,50,21],[49,22,50,22],[51,21,52,21],[51,22,52,22],[47,25,48,25],[47,26,48,26],[47,23,48,23],[47,24,48,24],[49,23,50,23],[49,24,50,24],[51,23,52,23],[51,24,52,24],[51,25,52,25],[51,26,52,26],[59,25,60,25],[59,26,60,26],[55,23,56,23],[55,24,56,24],[55,25,56,25],[55,26,56,26],[57,25,58,25],[57,26,58,26],[57,21,58,21],[57,22,58,22],[57,23,58,23],[57,24,58,24],[73,15,73,20],[73,21,73,26],[65,25,66,25],[65,26,66,26],[67,21,68,21],[67,22,68,22],[67,23,68,23],[11,27,12,44],[21,27,22,44],[19,27,20,44],[69,27,70,44],[65,22,66,22],[65,23,66,23],[65,24,66,24],[61,25,62,25],[61,26,62,26],[59,21,60,21],[59,22,60,22],[61,21,62,21],[61,22,62,22],[61,23,62,23],[61,24,62,24],[59,23,60,23],[59,24,60,24],[9,27,10,44],[8,15,8,20],[8,21,8,26],[9,23,10,23],[9,24,10,24],[9,25,10,25],[9,26,10,26],[69,5,70,5],[69,6,70,6],[69,7,70,7],[69,8,70,8],[15,27,16,44],[13,27,14,44],[67,24,68,24],[67,25,68,25],[67,26,68,26],[65,21,66,21],[69,9,70,9],[69,10,70,10],[69,11,70,11],[69,12,70,12],[23,27,24,44],[69,25,70,25],[69,26,70,26],[69,45,70,45],[69,21,70,21],[69,22,70,22],[69,23,70,23],[69,24,70,24],[69,0,70,0],[69,1,70,1],[69,2,70,2],[69,3,70,3],[69,4,70,4],[69,17,70,17],[69,18,70,18],[69,19,70,19],[69,20,70,20],[69,13,70,13],[69,14,70,14],[69,15,70,15],[69,16,70,16]]}
[]
[]
[]
[null,null,null,null,"q",null,null,"w",null,null,"e",null,null,null,null,null,null,null,null,null,null,null,null,null,null,null,null,"r",null,null,"t",null,null,"y",null,null,"u"]
[]
[null,null,null,null,"○：教科，道徳，総合　　●：行事　　児：児童会　　ク：クラブ　　学：学級　　△：学裁"]
[null,null,null,null,{"$f":"CONCATENATE(年暦!N4,\"　　　予　定　表\")","v":"7　　　月　　　予　定　表"}]
[null,null,null,null,"○：教科，道徳，総合　　●：行事　　児：児童会　　ク：クラブ　　学：学級　　△：学裁"]
[null,null,null,null,"日","曜",1,2,3,4,5,6,"登校","給食","時数","授業時数確認",null,null,null,null,null,"誤入力確認",null,null,null,null,null,"行　事　等"]
[{"$f":"IF(AND(D10=0,O10<>0),1,IF(AND(D10<>0,O10=0),1,IF(O10>6,1,\"\")))","v":""},{"$f":"IF(SUM(V10:AA11)<>0,1,\"\")","v":""},{"$f":"IF(SUM(A10:B11)<>0,\"error\",\"\")","v":""},{"$f":"年暦!N5","v":1},1,{"$f":"年暦!N6","v":"水"},null,null,null,null,null,null,{"$f":"IF(D10=0,0,1)","v":1},{"$f":"IF(年暦!O6=\"\",\"\",年暦!O6)","v":"○"},{"$f":"年暦!O5","v":5},{"$f":"IF($O10=0,0,IF($O10>0,0,1))","v":0},{"$f":"IF($O10=0,0,IF($O10>1,0,1))","v":0},{"$f":"IF($O10=0,0,IF($O10>2,0,1))","v":0},{"$f":"IF($O10=0,0,IF($O10>3,0,1))","v":0},{"$f":"IF($O10=0,0,IF($O10>4,0,1))","v":0},{"$f":"IF($O10=0,0,IF($O10>5,0,1))","v":1},{"$f":"IF(AND(G10<>\"\",P10=1),2,0)","v":0},0,0,0,0,0,{"$f":"IF(年暦!P5=\"\",\"\",年暦!P5)","v":""}]
[]
[{"$f":"IF(AND(D12=0,O12<>0),1,IF(AND(D12<>0,O12=0),1,IF(O12>6,1,\"\")))","v":""},{"$f":"IF(SUM(V12:AA13)<>0,1,\"\")","v":""},{"$f":"IF(SUM(A12:B13)<>0,\"error\",\"\")","v":""},{"$f":"年暦!N7","v":2},2,{"$f":"年暦!N8","v":"木"},null,null,null,null,null,null,{"$f":"IF(D12=0,0,1)","v":1},{"$f":"IF(年暦!O8=\"\",\"\",年暦!O8)","v":"○"},{"$f":"年暦!O7","v":6},{"$f":"IF($O12=0,0,IF($O12>0,0,1))","v":0},{"$f":"IF($O12=0,0,IF($O12>1,0,1))","v":0},{"$f":"IF($O12=0,0,IF($O12>2,0,1))","v":0},{"$f":"IF($O12=0,0,IF($O12>3,0,1))","v":0},{"$f":"IF($O12=0,0,IF($O12>4,0,1))","v":0},{"$f":"IF($O12=0,0,IF($O12>5,0,1))","v":0},{"$f":"IF(AND(G12<>\"\",P12=1),2,0)","v":0},0,0,0,0,0,{"$f":"IF(年暦!P7=\"\",\"\",年暦!P7)","v":"地区児童会②"}]
[]
[{"$f":"IF(AND(D14=0,O14<>0),1,IF(AND(D14<>0,O14=0),1,IF(O14>6,1,\"\")))","v":""},{"$f":"IF(SUM(V14:AA15)<>0,1,\"\")","v":""},{"$f":"IF(SUM(A14:B15)<>0,\"error\",\"\")","v":""},{"$f":"年暦!N9","v":3},3,{"$f":"年暦!N10","v":"金"},null,null,null,null,null,null,{"$f":"IF(D14=0,0,1)","v":1},{"$f":"IF(年暦!O10=\"\",\"\",年暦!O10)","v":"○"},{"$f":"年暦!O9","v":6},{"$f":"IF($O14=0,0,IF($O14>0,0,1))","v":0},{"$f":"IF($O14=0,0,IF($O14>1,0,1))","v":0},{"$f":"IF($O14=0,0,IF($O14>2,0,1))","v":0},{"$f":"IF($O14=0,0,IF($O14>3,0,1))","v":0},{"$f":"IF($O14=0,0,IF($O14>4,0,1))","v":0},{"$f":"IF($O14=0,0,IF($O14>5,0,1))","v":0},{"$f":"IF(AND(G14<>\"\",P14=1),2,0)","v":0},0,0,0,0,0,{"$f":"IF(年暦!P9=\"\",\"\",年暦!P9)","v":""}]
[]
[{"$f":"IF(AND(D16=0,O16<>0),1,IF(AND(D16<>0,O16=0),1,IF(O16>6,1,\"\")))","v":""},{"$f":"IF(SUM(V16:AA17)<>0,1,\"\")","v":""},{"$f":"IF(SUM(A16:B17)<>0,\"error\",\"\")","v":""},{"$f":"年暦!N11","v":0},4,{"$f":"年暦!N12","v":"土"},null,null,null,null,null,null,{"$f":"IF(D16=0,0,1)","v":0},{"$f":"IF(年暦!O12=\"\",\"\",年暦!O12)","v":""},{"$f":"年暦!O11","v":0},{"$f":"IF($O16=0,0,IF($O16>0,0,1))","v":0},{"$f":"IF($O16=0,0,IF($O16>1,0,1))","v":0},{"$f":"IF($O16=0,0,IF($O16>2,0,1))","v":0},{"$f":"IF($O16=0,0,IF($O16>3,0,1))","v":0},{"$f":"IF($O16=0,0,IF($O16>4,0,1))","v":0},{"$f":"IF($O16=0,0,IF($O16>5,0,1))","v":0},{"$f":"IF(AND(G16<>\"\",P16=1),2,0)","v":0},0,0,0,0,0,{"$f":"IF(年暦!P11=\"\",\"\",年暦!P11)","v":""}]
[]
[{"$f":"IF(AND(D18=0,O18<>0),1,IF(AND(D18<>0,O18=0),1,IF(O18>6,1,\"\")))","v":""},{"$f":"IF(SUM(V18:AA19)<>0,1,\"\")","v":""},{"$f":"IF(SUM(A18:B19)<>0,\"error\",\"\")","v":""},{"$f":"年暦!N13","v":0},5,{"$f":"年暦!N14","v":"日"},null,null,null,null,null,null,{"$f":"IF(D18=0,0,1)","v":0},{"$f":"IF(年暦!O14=\"\",\"\",年暦!O14)","v":""},{"$f":"年暦!O13","v":0},{"$f":"IF($O18=0,0,IF($O18>0,0,1))","v":0},{"$f":"IF($O18=0,0,IF($O18>1,0,1))","v":0},{"$f":"IF($O18=0,0,IF($O18>2,0,1))","v":0},{"$f":"IF($O18=0,0,IF($O18>3,0,1))","v":0},{"$f":"IF($O18=0,0,IF($O18>4,0,1))","v":0},{"$f":"IF($O18=0,0,IF($O18>5,0,1))","v":0},{"$f":"IF(AND(G18<>\"\",P18=1),2,0)","v":0},0,0,0,0,0,{"$f":"IF(年暦!P13=\"\",\"\",年暦!P13)","v":""}]
[]
[{"$f":"IF(AND(D20=0,O20<>0),1,IF(AND(D20<>0,O20=0),1,IF(O20>6,1,\"\")))","v":""},{"$f":"IF(SUM(V20:AA21)<>0,1,\"\")","v":""},{"$f":"IF(SUM(A20:B21)<>0,\"error\",\"\")","v":""},{"$f":"年暦!N15","v":6},6,{"$f":"年暦!N16","v":"月"},null,null,null,null,null,null,{"$f":"IF(D20=0,0,1)","v":1},{"$f":"IF(年暦!O16=\"\",\"\",年暦!O16)","v":"○"},{"$f":"年暦!O15","v":6},{"$f":"IF($O20=0,0,IF($O20>0,0,1))","v":0},{"$f":"IF($O20=0,0,IF($O20>1,0,1))","v":0},{"$f":"IF($O20=0,0,IF($O20>2,0,1))","v":0},{"$f":"IF($O20=0,0,IF($O20>3,0,1))","v":0},{"$f":"IF($O20=0,0,IF($O20>4,0,1))","v":0},{"$f":"IF($O20=0,0,IF($O20>5,0,1))","v":0},{"$f":"IF(AND(G20<>\"\",P20=1),2,0)","v":0},0,0,0,0,0,{"$f":"IF(年暦!P15=\"\",\"\",年暦!P15)","v":""}]
[]
[{"$f":"IF(AND(D22=0,O22<>0),1,IF(AND(D22<>0,O22=0),1,IF(O22>6,1,\"\")))","v":""},{"$f":"IF(SUM(V22:AA23)<>0,1,\"\")","v":""},{"$f":"IF(SUM(A22:B23)<>0,\"error\",\"\")","v":""},{"$f":"年暦!N17","v":7},7,{"$f":"年暦!N18","v":"火"},null,null,null,null,null,null,{"$f":"IF(D22=0,0,1)","v":1},{"$f":"IF(年暦!O18=\"\",\"\",年暦!O18)","v":"○"},{"$f":"年暦!O17","v":6},{"$f":"IF($O22=0,0,IF($O22>0,0,1))","v":0},{"$f":"IF($O22=0,0,IF($O22>1,0,1))","v":0},{"$f":"IF($O22=0,0,IF($O22>2,0,1))","v":0},{"$f":"IF($O22=0,0,IF($O22>3,0,1))","v":0},{"$f":"IF($O22=0,0,IF($O22>4,0,1))","v":0},{"$f":"IF($O22=0,0,IF($O22>5,0,1))","v":0},{"$f":"IF(AND(G22<>\"\",P22=1),2,0)","v":0},0,0,0,0,0,{"$f":"IF(年暦!P17=\"\",\"\",年暦!P17)","v":""}]
[]
[{"$f":"IF(AND(D24=0,O24<>0),1,IF(AND(D24<>0,O24=0),1,IF(O24>6,1,\"\")))","v":""},{"$f":"IF(SUM(V24:AA25)<>0,1,\"\")","v":""},{"$f":"IF(SUM(A24:B25)<>0,\"error\",\"\")","v":""},{"$f":"年暦!N19","v":8},8,{"$f":"年暦!N20","v":"水"},null,null,null,null,null,null,{"$f":"IF(D24=0,0,1)","v":1},{"$f":"IF(年暦!O20=\"\",\"\",年暦!O20)","v":"○"},{"$f":"年暦!O19","v":5},{"$f":"IF($O24=0,0,IF($O24>0,0,1))","v":0},{"$f":"IF($O24=0,0,IF($O24>1,0,1))","v":0},{"$f":"IF($O24=0,0,IF($O24>2,0,1))","v":0},{"$f":"IF($O24=0,0,IF($O24>3,0,1))","v":0},{"$f":"IF($O24=0,0,IF($O24>4,0,1))","v":0},{"$f":"IF($O24=0,0,IF($O24>5,0,1))","v":1},{"$f":"IF(AND(G24<>\"\",P24=1),2,0)","v":0},0,0,0,0,0,{"$f":"IF(年暦!P19=\"\",\"\",年暦!P19)","v":"５年キャンプ①"}]
[]
[{"$f":"IF(AND(D26=0,O26<>0),1,IF(AND(D26<>0,O26=0),1,IF(O26>6,1,\"\")))","v":""},{"$f":"IF(SUM(V26:AA27)<>0,1,\"\")","v":""},{"$f":"IF(SUM(A26:B27)<>0,\"error\",\"\")","v":""},{"$f":"年暦!N21","v":9},9,{"$f":"年暦!N22","v":"木"},null,null,null,null,null,null,{"$f":"IF(D26=0,0,1)","v":1},{"$f":"IF(年暦!O22=\"\",\"\",年暦!O22)","v":"○"},{"$f":"年暦!O21","v":6},{"$f":"IF($O26=0,0,IF($O26>0,0,1))","v":0},{"$f":"IF($O26=0,0,IF($O26>1,0,1))","v":0},{"$f":"IF($O26=0,0,IF($O26>2,0,1))","v":0},{"$f":"IF($O26=0,0,IF($O26>3,0,1))","v":0},{"$f":"IF($O26=0,0,IF($O26>4,0,1))","v":0},{"$f":"IF($O26=0,0,IF($O26>5,0,1))","v":0},{"$f":"IF(AND(G26<>\"\",P26=1),2,0)","v":0},0,0,0,0,0,{"$f":"IF(年暦!P21=\"\",\"\",年暦!P21)","v":"５年キャンプ②"}]
[]
[{"$f":"IF(AND(D28=0,O28<>0),1,IF(AND(D28<>0,O28=0),1,IF(O28>6,1,\"\")))","v":""},{"$f":"IF(SUM(V28:AA29)<>0,1,\"\")","v":""},{"$f":"IF(SUM(A28:B29)<>0,\"error\",\"\")","v":""},{"$f":"年暦!N23","v":10},10,{"$f":"年暦!N24","v":"金"},null,null,null,null,null,null,{"$f":"IF(D28=0,0,1)","v":1},{"$f":"IF(年暦!O24=\"\",\"\",年暦!O24)","v":"○"},{"$f":"年暦!O23","v":6},{"$f":"IF($O28=0,0,IF($O28>0,0,1))","v":0},{"$f":"IF($O28=0,0,IF($O28>1,0,1))","v":0},{"$f":"IF($O28=0,0,IF($O28>2,0,1))","v":0},{"$f":"IF($O28=0,0,IF($O28>3,0,1))","v":0},{"$f":"IF($O28=0,0,IF($O28>4,0,1))","v":0},{"$f":"IF($O28=0,0,IF($O28>5,0,1))","v":0},{"$f":"IF(AND(G28<>\"\",P28=1),2,0)","v":0},0,0,0,0,0,{"$f":"IF(年暦!P23=\"\",\"\",年暦!P23)","v":"５年計画休業"}]
[]
[{"$f":"IF(AND(D30=0,O30<>0),1,IF(AND(D30<>0,O30=0),1,IF(O30>6,1,\"\")))","v":""},{"$f":"IF(SUM(V30:AA31)<>0,1,\"\")","v":""},{"$f":"IF(SUM(A30:B31)<>0,\"error\",\"\")","v":""},{"$f":"年暦!N25","v":0},11,{"$f":"年暦!N26","v":"土"},null,null,null,null,null,null,{"$f":"IF(D30=0,0,1)","v":0},{"$f":"IF(年暦!O26=\"\",\"\",年暦!O26)","v":""},{"$f":"年暦!O25","v":0},{"$f":"IF($O30=0,0,IF($O30>0,0,1))","v":0},{"$f":"IF($O30=0,0,IF($O30>1,0,1))","v":0},{"$f":"IF($O30=0,0,IF($O30>2,0,1))","v":0},{"$f":"IF($O30=0,0,IF($O30>3,0,1))","v":0},{"$f":"IF($O30=0,0,IF($O30>4,0,1))","v":0},{"$f":"IF($O30=0,0,IF($O30>5,0,1))","v":0},{"$f":"IF(AND(G30<>\"\",P30=1),2,0)","v":0},0,0,0,0,0,{"$f":"IF(年暦!P25=\"\",\"\",年暦!P25)","v":""}]
[]
[{"$f":"IF(AND(D32=0,O32<>0),1,IF(AND(D32<>0,O32=0),1,IF(O32>6,1,\"\")))","v":""},{"$f":"IF(SUM(V32:AA33)<>0,1,\"\")","v":""},{"$f":"IF(SUM(A32:B33)<>0,\"error\",\"\")","v":""},{"$f":"年暦!N27","v":0},12,{"$f":"年暦!N28","v":"日"},null,null,null,null,null,null,{"$f":"IF(D32=0,0,1)","v":0},{"$f":"IF(年暦!O28=\"\",\"\",年暦!O28)","v":""},{"$f":"年暦!O27","v":0},{"$f":"IF($O32=0,0,IF($O32>0,0,1))","v":0},{"$f":"IF($O32=0,0,IF($O32>1,0,1))","v":0},{"$f":"IF($O32=0,0,IF($O32>2,0,1))","v":0},{"$f":"IF($O32=0,0,IF($O32>3,0,1))","v":0},{"$f":"IF($O32=0,0,IF($O32>4,0,1))","v":0},{"$f":"IF($O32=0,0,IF($O32>5,0,1))","v":0},{"$f":"IF(AND(G32<>\"\",P32=1),2,0)","v":0},0,0,0,0,0,{"$f":"IF(年暦!P27=\"\",\"\",年暦!P27)","v":""}]
[]
[{"$f":"IF(AND(D34=0,O34<>0),1,IF(AND(D34<>0,O34=0),1,IF(O34>6,1,\"\")))","v":""},{"$f":"IF(SUM(V34:AA35)<>0,1,\"\")","v":""},{"$f":"IF(SUM(A34:B35)<>0,\"error\",\"\")","v":""},{"$f":"年暦!N29","v":13},13,{"$f":"年暦!N30","v":"月"},null,null,null,null,null,null,{"$f":"IF(D34=0,0,1)","v":1},{"$f":"IF(年暦!O30=\"\",\"\",年暦!O30)","v":"○"},{"$f":"年暦!O29","v":6},{"$f":"IF($O34=0,0,IF($O34>0,0,1))","v":0},{"$f":"IF($O34=0,0,IF($O34>1,0,1))","v":0},{"$f":"IF($O34=0,0,IF($O34>2,0,1))","v":0},{"$f":"IF($O34=0,0,IF($O34>3,0,1))","v":0},{"$f":"IF($O34=0,0,IF($O34>4,0,1))","v":0},{"$f":"IF($O34=0,0,IF($O34>5,0,1))","v":0},{"$f":"IF(AND(G34<>\"\",P34=1),2,0)","v":0},0,0,0,0,0,{"$f":"IF(年暦!P29=\"\",\"\",年暦!P29)","v":"学期末清掃（21日まで）"}]
[]
[{"$f":"IF(AND(D36=0,O36<>0),1,IF(AND(D36<>0,O36=0),1,IF(O36>6,1,\"\")))","v":""},{"$f":"IF(SUM(V36:AA37)<>0,1,\"\")","v":""},{"$f":"IF(SUM(A36:B37)<>0,\"error\",\"\")","v":""},{"$f":"年暦!N31","v":14},14,{"$f":"年暦!N32","v":"火"},null,null,null,null,null,null,{"$f":"IF(D36=0,0,1)","v":1},{"$f":"IF(年暦!O32=\"\",\"\",年暦!O32)","v":"○"},{"$f":"年暦!O31","v":6},{"$f":"IF($O36=0,0,IF($O36>0,0,1))","v":0},{"$f":"IF($O36=0,0,IF($O36>1,0,1))","v":0},{"$f":"IF($O36=0,0,IF($O36>2,0,1))","v":0},{"$f":"IF($O36=0,0,IF($O36>3,0,1))","v":0},{"$f":"IF($O36=0,0,IF($O36>4,0,1))","v":0},{"$f":"IF($O36=0,0,IF($O36>5,0,1))","v":0},{"$f":"IF(AND(G36<>\"\",P36=1),2,0)","v":0},0,0,0,0,0,{"$f":"IF(年暦!P31=\"\",\"\",年暦!P31)","v":""}]
[]
[{"$f":"IF(AND(D38=0,O38<>0),1,IF(AND(D38<>0,O38=0),1,IF(O38>6,1,\"\")))","v":""},{"$f":"IF(SUM(V38:AA39)<>0,1,\"\")","v":""},{"$f":"IF(SUM(A38:B39)<>0,\"error\",\"\")","v":""},{"$f":"年暦!N33","v":15},15,{"$f":"年暦!N34","v":"水"},null,null,null,null,null,null,{"$f":"IF(D38=0,0,1)","v":1},{"$f":"IF(年暦!O34=\"\",\"\",年暦!O34)","v":"○"},{"$f":"年暦!O33","v":5},{"$f":"IF($O38=0,0,IF($O38>0,0,1))","v":0},{"$f":"IF($O38=0,0,IF($O38>1,0,1))","v":0},{"$f":"IF($O38=0,0,IF($O38>2,0,1))","v":0},{"$f":"IF($O38=0,0,IF($O38>3,0,1))","v":0},{"$f":"IF($O38=0,0,IF($O38>4,0,1))","v":0},{"$f":"IF($O38=0,0,IF($O38>5,0,1))","v":1},{"$f":"IF(AND(G38<>\"\",P38=1),2,0)","v":0},0,0,0,0,0,{"$f":"IF(年暦!P33=\"\",\"\",年暦!P33)","v":""}]
[]
[{"$f":"IF(AND(D40=0,O40<>0),1,IF(AND(D40<>0,O40=0),1,IF(O40>6,1,\"\")))","v":""},{"$f":"IF(SUM(V40:AA41)<>0,1,\"\")","v":""},{"$f":"IF(SUM(A40:B41)<>0,\"error\",\"\")","v":""},{"$f":"年暦!N35","v":16},16,{"$f":"年暦!N36","v":"木"},null,null,null,null,null,null,{"$f":"IF(D40=0,0,1)","v":1},{"$f":"IF(年暦!O36=\"\",\"\",年暦!O36)","v":"○"},{"$f":"年暦!O35","v":6},{"$f":"IF($O40=0,0,IF($O40>0,0,1))","v":0},{"$f":"IF($O40=0,0,IF($O40>1,0,1))","v":0},{"$f":"IF($O40=0,0,IF($O40>2,0,1))","v":0},{"$f":"IF($O40=0,0,IF($O40>3,0,1))","v":0},{"$f":"IF($O40=0,0,IF($O40>4,0,1))","v":0},{"$f":"IF($O40=0,0,IF($O40>5,0,1))","v":0},{"$f":"IF(AND(G40<>\"\",P40=1),2,0)","v":0},0,0,0,0,0,{"$f":"IF(年暦!P35=\"\",\"\",年暦!P35)","v":"水泳参観日①\n学級PTA\nＰＴＡ評議員会②"}]
[]
[{"$f":"IF(AND(D42=0,O42<>0),1,IF(AND(D42<>0,O42=0),1,IF(O42>6,1,\"\")))","v":""},{"$f":"IF(SUM(V42:AA43)<>0,1,\"\")","v":""},{"$f":"IF(SUM(A42:B43)<>0,\"error\",\"\")","v":""},{"$f":"年暦!N37","v":17},17,{"$f":"年暦!N38","v":"金"},null,null,null,null,null,null,{"$f":"IF(D42=0,0,1)","v":1},{"$f":"IF(年暦!O38=\"\",\"\",年暦!O38)","v":"○"},{"$f":"年暦!O37","v":5},{"$f":"IF($O42=0,0,IF($O42>0,0,1))","v":0},{"$f":"IF($O42=0,0,IF($O42>1,0,1))","v":0},{"$f":"IF($O42=0,0,IF($O42>2,0,1))","v":0},{"$f":"IF($O42=0,0,IF($O42>3,0,1))","v":0},{"$f":"IF($O42=0,0,IF($O42>4,0,1))","v":0},{"$f":"IF($O42=0,0,IF($O42>5,0,1))","v":1},{"$f":"IF(AND(G42<>\"\",P42=1),2,0)","v":0},0,0,0,0,0,{"$f":"IF(年暦!P37=\"\",\"\",年暦!P37)","v":"水泳参観日②\n学級事務の日①"}]
[]
[{"$f":"IF(AND(D44=0,O44<>0),1,IF(AND(D44<>0,O44=0),1,IF(O44>6,1,\"\")))","v":""},{"$f":"IF(SUM(V44:AA45)<>0,1,\"\")","v":""},{"$f":"IF(SUM(A44:B45)<>0,\"error\",\"\")","v":""},{"$f":"年暦!N39","v":0},18,{"$f":"年暦!N40","v":"土"},null,null,null,null,null,null,{"$f":"IF(D44=0,0,1)","v":0},{"$f":"IF(年暦!O40=\"\",\"\",年暦!O40)","v":""},{"$f":"年暦!O39","v":0},{"$f":"IF($O44=0,0,IF($O44>0,0,1))","v":0},{"$f":"IF($O44=0,0,IF($O44>1,0,1))","v":0},{"$f":"IF($O44=0,0,IF($O44>2,0,1))","v":0},{"$f":"IF($O44=0,0,IF($O44>3,0,1))","v":0},{"$f":"IF($O44=0,0,IF($O44>4,0,1))","v":0},{"$f":"IF($O44=0,0,IF($O44>5,0,1))","v":0},{"$f":"IF(AND(G44<>\"\",P44=1),2,0)","v":0},0,0,0,0,0,{"$f":"IF(年暦!P39=\"\",\"\",年暦!P39)","v":"郡P研修会\n（中体連県大会①）"}]
[]
[{"$f":"IF(AND(D46=0,O46<>0),1,IF(AND(D46<>0,O46=0),1,IF(O46>6,1,\"\")))","v":""},{"$f":"IF(SUM(V46:AA47)<>0,1,\"\")","v":""},{"$f":"IF(SUM(A46:B47)<>0,\"error\",\"\")","v":""},{"$f":"年暦!N41","v":0},19,{"$f":"年暦!N42","v":"日"},null,null,null,null,null,null,{"$f":"IF(D46=0,0,1)","v":0},{"$f":"IF(年暦!O42=\"\",\"\",年暦!O42)","v":""},{"$f":"年暦!O41","v":0},{"$f":"IF($O46=0,0,IF($O46>0,0,1))","v":0},{"$f":"IF($O46=0,0,IF($O46>1,0,1))","v":0},{"$f":"IF($O46=0,0,IF($O46>2,0,1))","v":0},{"$f":"IF($O46=0,0,IF($O46>3,0,1))","v":0},{"$f":"IF($O46=0,0,IF($O46>4,0,1))","v":0},{"$f":"IF($O46=0,0,IF($O46>5,0,1))","v":0},{"$f":"IF(AND(G46<>\"\",P46=1),2,0)","v":0},0,0,0,0,0,{"$f":"IF(年暦!P41=\"\",\"\",年暦!P41)","v":"（中体連県大会②）"}]
[]
[{"$f":"IF(AND(D48=0,O48<>0),1,IF(AND(D48<>0,O48=0),1,IF(O48>6,1,\"\")))","v":""},{"$f":"IF(SUM(V48:AA49)<>0,1,\"\")","v":""},{"$f":"IF(SUM(A48:B49)<>0,\"error\",\"\")","v":""},{"$f":"年暦!N43","v":20},20,{"$f":"年暦!N44","v":"月"},null,null,null,null,null,null,{"$f":"IF(D48=0,0,1)","v":1},{"$f":"IF(年暦!O44=\"\",\"\",年暦!O44)","v":"○"},{"$f":"年暦!O43","v":5},{"$f":"IF($O48=0,0,IF($O48>0,0,1))","v":0},{"$f":"IF($O48=0,0,IF($O48>1,0,1))","v":0},{"$f":"IF($O48=0,0,IF($O48>2,0,1))","v":0},{"$f":"IF($O48=0,0,IF($O48>3,0,1))","v":0},{"$f":"IF($O48=0,0,IF($O48>4,0,1))","v":0},{"$f":"IF($O48=0,0,IF($O48>5,0,1))","v":1},{"$f":"IF(AND(G48<>\"\",P48=1),2,0)","v":0},0,0,0,0,0,{"$f":"IF(年暦!P43=\"\",\"\",年暦!P43)","v":"水泳参観日③\n学級事務の日②"}]
[]
[{"$f":"IF(AND(D50=0,O50<>0),1,IF(AND(D50<>0,O50=0),1,IF(O50>6,1,\"\")))","v":""},{"$f":"IF(SUM(V50:AA51)<>0,1,\"\")","v":""},{"$f":"IF(SUM(A50:B51)<>0,\"error\",\"\")","v":""},{"$f":"年暦!N45","v":21},21,{"$f":"年暦!N46","v":"火"},null,null,null,null,null,null,{"$f":"IF(D50=0,0,1)","v":1},{"$f":"IF(年暦!O46=\"\",\"\",年暦!O46)","v":"○"},{"$f":"年暦!O45","v":6},{"$f":"IF($O50=0,0,IF($O50>0,0,1))","v":0},{"$f":"IF($O50=0,0,IF($O50>1,0,1))","v":0},{"$f":"IF($O50=0,0,IF($O50>2,0,1))","v":0},{"$f":"IF($O50=0,0,IF($O50>3,0,1))","v":0},{"$f":"IF($O50=0,0,IF($O50>4,0,1))","v":0},{"$f":"IF($O50=0,0,IF($O50>5,0,1))","v":0},{"$f":"IF(AND(G50<>\"\",P50=1),2,0)","v":0},0,0,0,0,0,{"$f":"IF(年暦!P45=\"\",\"\",年暦!P45)","v":""}]
[]
[{"$f":"IF(AND(D52=0,O52<>0),1,IF(AND(D52<>0,O52=0),1,IF(O52>6,1,\"\")))","v":""},{"$f":"IF(SUM(V52:AA53)<>0,1,\"\")","v":""},{"$f":"IF(SUM(A52:B53)<>0,\"error\",\"\")","v":""},{"$f":"年暦!N47","v":22},22,{"$f":"年暦!N48","v":"水"},null,null,null,null,null,null,{"$f":"IF(D52=0,0,1)","v":1},{"$f":"IF(年暦!O48=\"\",\"\",年暦!O48)","v":"○"},{"$f":"年暦!O47","v":5},{"$f":"IF($O52=0,0,IF($O52>0,0,1))","v":0},{"$f":"IF($O52=0,0,IF($O52>1,0,1))","v":0},{"$f":"IF($O52=0,0,IF($O52>2,0,1))","v":0},{"$f":"IF($O52=0,0,IF($O52>3,0,1))","v":0},{"$f":"IF($O52=0,0,IF($O52>4,0,1))","v":0},{"$f":"IF($O52=0,0,IF($O52>5,0,1))","v":1},{"$f":"IF(AND(G52<>\"\",P52=1),2,0)","v":0},0,0,0,0,0,{"$f":"IF(年暦!P47=\"\",\"\",年暦!P47)","v":"１学期終業式"}]
[]
[{"$f":"IF(AND(D54=0,O54<>0),1,IF(AND(D54<>0,O54=0),1,IF(O54>6,1,\"\")))","v":""},{"$f":"IF(SUM(V54:AA55)<>0,1,\"\")","v":""},{"$f":"IF(SUM(A54:B55)<>0,\"error\",\"\")","v":""},{"$f":"年暦!N49","v":0},23,{"$f":"年暦!N50","v":"木"},null,null,null,null,null,null,{"$f":"IF(D54=0,0,1)","v":0},{"$f":"IF(年暦!O50=\"\",\"\",年暦!O50)","v":""},{"$f":"年暦!O49","v":0},{"$f":"IF($O54=0,0,IF($O54>0,0,1))","v":0},{"$f":"IF($O54=0,0,IF($O54>1,0,1))","v":0},{"$f":"IF($O54=0,0,IF($O54>2,0,1))","v":0},{"$f":"IF($O54=0,0,IF($O54>3,0,1))","v":0},{"$f":"IF($O54=0,0,IF($O54>4,0,1))","v":0},{"$f":"IF($O54=0,0,IF($O54>5,0,1))","v":0},{"$f":"IF(AND(G54<>\"\",P54=1),2,0)","v":0},0,0,0,0,0,{"$f":"IF(年暦!P49=\"\",\"\",年暦!P49)","v":"夏休み（8/20まで）　　\n海の日"}]
[]
[{"$f":"IF(AND(D56=0,O56<>0),1,IF(AND(D56<>0,O56=0),1,IF(O56>6,1,\"\")))","v":""},{"$f":"IF(SUM(V56:AA57)<>0,1,\"\")","v":""},{"$f":"IF(SUM(A56:B57)<>0,\"error\",\"\")","v":""},{"$f":"年暦!N51","v":0},24,{"$f":"年暦!N52","v":"金"},null,null,null,null,null,null,{"$f":"IF(D56=0,0,1)","v":0},{"$f":"IF(年暦!O52=\"\",\"\",年暦!O52)","v":""},{"$f":"年暦!O51","v":0},{"$f":"IF($O56=0,0,IF($O56>0,0,1))","v":0},{"$f":"IF($O56=0,0,IF($O56>1,0,1))","v":0},{"$f":"IF($O56=0,0,IF($O56>2,0,1))","v":0},{"$f":"IF($O56=0,0,IF($O56>3,0,1))","v":0},{"$f":"IF($O56=0,0,IF($O56>4,0,1))","v":0},{"$f":"IF($O56=0,0,IF($O56>5,0,1))","v":0},{"$f":"IF(AND(G56<>\"\",P56=1),2,0)","v":0},0,0,0,0,0,{"$f":"IF(年暦!P51=\"\",\"\",年暦!P51)","v":"スポーツの日\n東京オリンピック開会式"}]
[]
[{"$f":"IF(AND(D58=0,O58<>0),1,IF(AND(D58<>0,O58=0),1,IF(O58>6,1,\"\")))","v":""},{"$f":"IF(SUM(V58:AA59)<>0,1,\"\")","v":""},{"$f":"IF(SUM(A58:B59)<>0,\"error\",\"\")","v":""},{"$f":"年暦!N53","v":0},25,{"$f":"年暦!N54","v":"土"},null,null,null,null,null,null,{"$f":"IF(D58=0,0,1)","v":0},{"$f":"IF(年暦!O54=\"\",\"\",年暦!O54)","v":""},{"$f":"年暦!O53","v":0},{"$f":"IF($O58=0,0,IF($O58>0,0,1))","v":0},{"$f":"IF($O58=0,0,IF($O58>1,0,1))","v":0},{"$f":"IF($O58=0,0,IF($O58>2,0,1))","v":0},{"$f":"IF($O58=0,0,IF($O58>3,0,1))","v":0},{"$f":"IF($O58=0,0,IF($O58>4,0,1))","v":0},{"$f":"IF($O58=0,0,IF($O58>5,0,1))","v":0},{"$f":"IF(AND(G58<>\"\",P58=1),2,0)","v":0},0,0,0,0,0,{"$f":"IF(年暦!P53=\"\",\"\",年暦!P53)","v":""}]
[]
[{"$f":"IF(AND(D60=0,O60<>0),1,IF(AND(D60<>0,O60=0),1,IF(O60>6,1,\"\")))","v":""},{"$f":"IF(SUM(V60:AA61)<>0,1,\"\")","v":""},{"$f":"IF(SUM(A60:B61)<>0,\"error\",\"\")","v":""},{"$f":"年暦!N55","v":0},26,{"$f":"年暦!N56","v":"日"},null,null,null,null,null,null,{"$f":"IF(D60=0,0,1)","v":0},{"$f":"IF(年暦!O56=\"\",\"\",年暦!O56)","v":""},{"$f":"年暦!O55","v":0},{"$f":"IF($O60=0,0,IF($O60>0,0,1))","v":0},{"$f":"IF($O60=0,0,IF($O60>1,0,1))","v":0},{"$f":"IF($O60=0,0,IF($O60>2,0,1))","v":0},{"$f":"IF($O60=0,0,IF($O60>3,0,1))","v":0},{"$f":"IF($O60=0,0,IF($O60>4,0,1))","v":0},{"$f":"IF($O60=0,0,IF($O60>5,0,1))","v":0},{"$f":"IF(AND(G60<>\"\",P60=1),2,0)","v":0},0,0,0,0,0,{"$f":"IF(年暦!P55=\"\",\"\",年暦!P55)","v":""}]
[]
[{"$f":"IF(AND(D62=0,O62<>0),1,IF(AND(D62<>0,O62=0),1,IF(O62>6,1,\"\")))","v":""},{"$f":"IF(SUM(V62:AA63)<>0,1,\"\")","v":""},{"$f":"IF(SUM(A62:B63)<>0,\"error\",\"\")","v":""},{"$f":"年暦!N57","v":0},27,{"$f":"年暦!N58","v":"月"},null,null,null,null,null,null,{"$f":"IF(D62=0,0,1)","v":0},{"$f":"IF(年暦!O58=\"\",\"\",年暦!O58)","v":""},{"$f":"年暦!O57","v":0},{"$f":"IF($O62=0,0,IF($O62>0,0,1))","v":0},{"$f":"IF($O62=0,0,IF($O62>1,0,1))","v":0},{"$f":"IF($O62=0,0,IF($O62>2,0,1))","v":0},{"$f":"IF($O62=0,0,IF($O62>3,0,1))","v":0},{"$f":"IF($O62=0,0,IF($O62>4,0,1))","v":0},{"$f":"IF($O62=0,0,IF($O62>5,0,1))","v":0},{"$f":"IF(AND(G62<>\"\",P62=1),2,0)","v":0},0,0,0,0,0,{"$f":"IF(年暦!P57=\"\",\"\",年暦!P57)","v":""}]
[]
[{"$f":"IF(AND(D64=0,O64<>0),1,IF(AND(D64<>0,O64=0),1,IF(O64>6,1,\"\")))","v":""},{"$f":"IF(SUM(V64:AA65)<>0,1,\"\")","v":""},{"$f":"IF(SUM(A64:B65)<>0,\"error\",\"\")","v":""},{"$f":"年暦!N59","v":0},28,{"$f":"年暦!N60","v":"火"},null,null,null,null,null,null,{"$f":"IF(D64=0,0,1)","v":0},{"$f":"IF(年暦!O60=\"\",\"\",年暦!O60)","v":""},{"$f":"年暦!O59","v":0},{"$f":"IF($O64=0,0,IF($O64>0,0,1))","v":0},{"$f":"IF($O64=0,0,IF($O64>1,0,1))","v":0},{"$f":"IF($O64=0,0,IF($O64>2,0,1))","v":0},{"$f":"IF($O64=0,0,IF($O64>3,0,1))","v":0},{"$f":"IF($O64=0,0,IF($O64>4,0,1))","v":0},{"$f":"IF($O64=0,0,IF($O64>5,0,1))","v":0},{"$f":"IF(AND(G64<>\"\",P64=1),2,0)","v":0},0,0,0,0,0,{"$f":"IF(年暦!P59=\"\",\"\",年暦!P59)","v":""}]
[]
[{"$f":"IF(AND(D66=0,O66<>0),1,IF(AND(D66<>0,O66=0),1,IF(O66>6,1,\"\")))","v":""},{"$f":"IF(SUM(V66:AA67)<>0,1,\"\")","v":""},{"$f":"IF(SUM(A66:B67)<>0,\"error\",\"\")","v":""},{"$f":"年暦!N61","v":0},29,{"$f":"年暦!N62","v":"水"},null,null,null,null,null,null,{"$f":"IF(D66=0,0,1)","v":0},{"$f":"IF(年暦!O62=\"\",\"\",年暦!O62)","v":""},{"$f":"年暦!O61","v":0},{"$f":"IF($O66=0,0,IF($O66>0,0,1))","v":0},{"$f":"IF($O66=0,0,IF($O66>1,0,1))","v":0},{"$f":"IF($O66=0,0,IF($O66>2,0,1))","v":0},{"$f":"IF($O66=0,0,IF($O66>3,0,1))","v":0},{"$f":"IF($O66=0,0,IF($O66>4,0,1))","v":0},{"$f":"IF($O66=0,0,IF($O66>5,0,1))","v":0},{"$f":"IF(AND(G66<>\"\",P66=1),2,0)","v":0},0,0,0,0,0,{"$f":"IF(年暦!P61=\"\",\"\",年暦!P61)","v":""}]
[]
[{"$f":"IF(AND(D68=0,O68<>0),1,IF(AND(D68<>0,O68=0),1,IF(O68>6,1,\"\")))","v":""},{"$f":"IF(SUM(V68:AA69)<>0,1,\"\")","v":""},{"$f":"IF(SUM(A68:B69)<>0,\"error\",\"\")","v":""},{"$f":"年暦!N63","v":0},30,{"$f":"年暦!N64","v":"木"},null,null,null,null,null,null,{"$f":"IF(D68=0,0,1)","v":0},{"$f":"IF(年暦!O64=\"\",\"\",年暦!O64)","v":""},{"$f":"年暦!O63","v":0},{"$f":"IF($O68=0,0,IF($O68>0,0,1))","v":0},{"$f":"IF($O68=0,0,IF($O68>1,0,1))","v":0},{"$f":"IF($O68=0,0,IF($O68>2,0,1))","v":0},{"$f":"IF($O68=0,0,IF($O68>3,0,1))","v":0},{"$f":"IF($O68=0,0,IF($O68>4,0,1))","v":0},{"$f":"IF($O68=0,0,IF($O68>5,0,1))","v":0},{"$f":"IF(AND(G68<>\"\",P68=1),2,0)","v":0},0,0,0,0,0,{"$f":"IF(年暦!P63=\"\",\"\",年暦!P63)","v":""}]
[]
[{"$f":"IF(AND(D70=0,O70<>0),1,IF(AND(D70<>0,O70=0),1,IF(O70>6,1,\"\")))","v":""},{"$f":"IF(SUM(V70:AA71)<>0,1,\"\")","v":""},{"$f":"IF(SUM(A70:B71)<>0,\"error\",\"\")","v":""},{"$f":"年暦!N65","v":0},31,{"$f":"年暦!N66","v":"金"},null,null,null,null,null,null,{"$f":"IF(D70=0,0,1)","v":0},{"$f":"IF(年暦!O66=\"\",\"\",年暦!O66)","v":""},{"$f":"年暦!O65","v":0},{"$f":"IF($O70=0,0,IF($O70>0,0,1))","v":0},{"$f":"IF($O70=0,0,IF($O70>1,0,1))","v":0},{"$f":"IF($O70=0,0,IF($O70>2,0,1))","v":0},{"$f":"IF($O70=0,0,IF($O70>3,0,1))","v":0},{"$f":"IF($O70=0,0,IF($O70>4,0,1))","v":0},{"$f":"IF($O70=0,0,IF($O70>5,0,1))","v":0},{"$f":"IF(AND(G70<>\"\",P70=1),2,0)","v":0},0,0,0,0,0,{"$f":"IF(年暦!P65=\"\",\"\",年暦!P65)","v":"　　　　　　"}]
[]
[]
[]
[null,null,null,null,"日","曜","○","●","児","ク","学","△","登校","給食","時数","授業時数確認",null,null,null,null,null,"誤入力確認",null,null,null,null,null,"行　事　等"]
[null,null,null,null,null,null,{"$f":"COUNTIF($G$10:$L$71,G74)","v":0},0,0,0,0,0,{"$f":"SUM(M10:M72)","v":16},{"$f":"COUNTIF(N10:N71,\"○\")","v":16},{"$f":"SUM(O10:O72)","v":90}]
[]
[null,null,null,null,null,null,null,"小計",null,null,"累計",null,null,null,null,null,null,null,null,null,null,null,null,null,null,null,null,null,null,null,"小計",null,null,"累計",null,null,null,null,null,"小計",null,null,"累計"]
[null,{"$f":"SUM(AE78,AE79,AE80,AN78,AN79,AN80)","v":0},{"$f":"IF(H79<>B78,\"error\",\"\")","v":"error"},null,"登校日数",null,null,{"$f":"M75","v":16},null,null,{"$f":"H78+'6'!K76:N76","v":74},null,null,null,null,null,null,null,null,null,null,null,null,null,null,null,null,"教科，道徳，総合",null,null,{"$f":"G75","v":0},null,null,{"$f":"AE78+'6'!AH76:AJ76","v":0},null,null,"クラブ",null,null,{"$f":"J75","v":0},null,null,{"$f":"AN78+'6'!AQ76:AS76","v":0}]
[null,null,null,null,"授業時数",null,null,{"$f":"O75","v":90},null,null,{"$f":"H79+'6'!K77:N77","v":413},null,null,null,null,null,null,null,null,null,null,null,null,null,null,null,null,"行事",null,null,{"$f":"H75","v":0},null,null,{"$f":"AE79+'6'!AH77:AJ77","v":2},null,null,"学級",null,null,{"$f":"K75","v":0},null,null,{"$f":"AN79+'6'!AQ77:AS77","v":1}]
[null,null,null,null,"給食日数",null,null,{"$f":"N75","v":16},null,null,{"$f":"H80+'6'!K78:N78","v":70},null,null,null,null,null,null,null,null,null,null,null,null,null,null,null,null,"児童会",null,null,{"$f":"I75","v":0},null,null,{"$f":"AE80+'6'!AH78:AJ78","v":0},null,null,"学校裁量",null,null,{"$f":"L75","v":0},null,null,{"$f":"AN80+'6'!AQ78:AS78","v":0}]

{"sheet":"8","index":4,"n_rows":80,"n_cols":43,"rows_kept":80,"cut":false,"hidden":false,"merged":[[69,25,70,25],[69,26,70,26],[69,27,70,44],[69,45,70,45],[69,19,70,19],[69,20,70,20],[69,21,70,21],[69,22,70,22],[69,23,70,23],[69,24,70,24],[69,13,70,13],[69,14,70,14],[69,15,70,15],[69,16,70,16],[69,17,70,17],[69,18,70,18],[69,7,70,7],[69,8,70,8],[69,9,70,9],[69,10,70,10],[69,11,70,11],[69,12,70,12],[21,27,22,44],[19,27,20,44],[23,27,24,44],[69,0,70,0],[69,1,70,1],[69,2,70,2],[69,3,70,3],[69,4,70,4],[69,5,70,5],[69,6,70,6],[67,23,68,23],[67,24,68,24],[67,25,68,25],[67,26,68,26],[45,26,46,26],[51,25,52,25],[51,26,52,26],[49,25,50,25],[49,26,50,26],[45,23,46,23],[45,24,46,24],[43,23,44,23],[43,24,44,24],[47,25,48,25],[9,26,10,26],[9,15,10,15],[9,16,10,16],[9,17,10,17],[15,27,16,44],[13,27,14,44],[11,27,12,44],[11,24,12,24],[11,25,12,25],[9,18,10,18],[9,27,10,44],[11,26,12,26],[13,21,14,21],[13,22,14,22],[13,23,14,23],[13,24,14,24],[13,25,14,25],[13,26,14,26],[11,22,12,22],[11,15,12,15],[11,16,12,16],[11,17,12,17],[11,18,12,18],[13,15,14,15],[8,15,8,20],[8,21,8,26],[9,23,10,23],[9,24,10,24],[9,25,10,25],[65,21,66,21],[65,22,66,22],[65,23,66,23],[65,24,66,24],[55,23,56,23],[55,24,56,24],[55,25,56,25],[55,26,56,26],[57,25,58,25],[57,26,58,26],[49,23,50,23],[49,24,50,24],[57,21,58,21],[57,22,58,22],[57,23,58,23],[57,24,58,24],[53,23,54,23],[53,24,54,24],[45,25,46,25],[73,15,73,20],[73,21,73,26],[65,25,66,25],[65,26,66,26],[67,21,68,21],[67,22,68,22],[61,25,62,25],[61,26,62,26],[59,21,60,21],[59,22,60,22],[61,21,62,21],[61,22,62,22],[61,23,62,23],[61,24,62,24],[59,23,60,23],[59,24,60,24],[59,25,60,25],[59,26,60,26],[59,15,60,15],[59,16,60,16],[59,17,60,17],[59,18,60,18],[61,15,62,15],[61,16,62,16],[43,25,44,25],[43,26,44,26],[43,21,44,21],[43,22,44,22],[41,21,42,21],[41,22,42,22],[45,21,46,21],[45,22,46,22],[41,23,42,23],[41,24,42,24],[41,25,42,25],[41,26,42,26],[25,21,26,21],[25,22,26,22],[39,21,40,21],[39,22,40,22],[39,23,40,23],[39,24,40,24],[33,25,34,25],[33,26,34,26],[35,25,36,25],[35,26,36,26],[39,25,40,25],[39,26,40,26],[37,23,38,23],[37,24,38,24],[33,21,34,21],[33,22,34,22],[33,23,34,23],[33,24,34,24],[35,21,36,21],[35,22,36,22],[35,23,36,23],[35,24,36,24],[39,1,40,1],[41,1,42,1],[43,1,44,1],[45,1,46,1],[49,1,50,1],[23,25,24,25],[23,26,24,26],[29,25,30,25],[29,26,30,26],[25,23,26,23],[25,24,26,24],[27,25,28,25],[27,26,28,26],[25,25,26,25],[25,26,26,26],[27,21,28,21],[27,22,28,22],[29,21,30,21],[29,22,30,22],[29,23,30,23],[29,24,30,24],[27,23,28,23],[27,24,28,24],[23,23,24,23],[65,1,66,1],[67,1,68,1],[9,21,10,21],[9,22,10,22],[55,1,56,1],[57,1,58,1],[59,1,60,1],[61,1,62,1],[23,1,24,1],[25,1,26,1],[27,1,28,1],[29,1,30,1],[31,1,32,1],[33,1,34,1],[63,2,64,2],[65,2,66,2],[67,2,68,2],[9,1,10,1],[11,1,12,1],[13,1,14,1],[15,1,16,1],[17,1,18,1],[47,1,48,1],[63,1,64,1],[19,1,20,1],[21,1,22,1],[51,2,52,2],[53,2,54,2],[55,2,56,2],[57,2,58,2],[59,2,60,2],[61,2,62,2],[39,2,40,2],[41,2,42,2],[43,2,44,2],[45,2,46,2],[47,2,48,2],[49,2,50,2],[27,2,28,2],[29,2,30,2],[31,2,32,2],[33,2,34,2],[35,2,36,2],[37,2,38,2],[35,1,36,1],[37,1,38,1],[51,1,52,1],[53,1,54,1],[13,2,14,2],[11,21,12,21],[9,13,10,13],[11,13,12,13],[13,13,14,13],[9,12,10,12],[11,12,12,12],[13,12,14,12],[11,4,12,4],[9,4,10,4],[11,3,12,3],[9,3,10,3],[9,2,10,2],[11,2,12,2],[13,4,14,4],[13,3,14,3],[9,10,10,10],[9,11,10,11],[9,14,10,14],[11,11,12,11],[11,14,12,14],[9,9,10,9],[13,18,14,18],[27,4,28,4],[25,4,26,4],[23,4,24,4],[21,4,22,4],[23,3,24,3],[21,3,22,3],[15,3,16,3],[15,2,16,2],[17,2,18,2],[19,2,20,2],[21,2,22,2],[23,2,24,2],[25,2,26,2],[19,4,20,4],[17,4,18,4],[15,4,16,4],[19,3,20,3],[17,3,18,3],[35,3,36,3],[33,3,34,3],[31,3,32,3],[29,3,30,3],[27,3,28,3],[25,3,26,3],[47,3,48,3],[45,3,46,3],[43,3,44,3],[41,3,42,3],[39,3,40,3],[37,3,38,3],[59,3,60,3],[57,3,58,3],[55,3,56,3],[53,3,54,3],[51,3,52,3],[49,3,50,3],[67,4,68,4],[65,4,66,4],[63,4,64,4],[61,4,62,4],[67,3,68,3],[65,3,66,3],[63,3,64,3],[61,3,62,3],[51,4,52,4],[49,4,50,4],[47,4,48,4],[45,4,46,4],[59,4,60,4],[57,4,58,4],[55,4,56,4],[53,4,54,4],[35,4,36,4],[33,4,34,4],[31,4,32,4],[29,4,30,4],[43,4,44,4],[41,4,42,4],[39,4,40,4],[37,4,38,4],[9,7,10,7],[9,8,10,8],[11,5,12,5],[11,6,12,6],[11,7,12,7],[11,8,12,8],[9,5,10,5],[9,6,10,6],[15,5,16,5],[15,6,16,6],[15,7,16,7],[15,8,16,8],[13,5,14,5],[13,6,14,6],[13,7,14,7],[13,8,14,8],[19,5,20,5],[19,6,20,6],[19,7,20,7],[19,8,20,8],[17,5,18,5],[17,6,18,6],[17,7,18,7],[17,8,18,8],[23,5,24,5],[23,6,24,6],[23,7,24,7],[23,8,24,8],[21,5,22,5],[21,6,22,6],[21,7,22,7],[21,8,22,8],[27,5,28,5],[27,6,28,6],[27,7,28,7],[27,8,28,8],[25,5,26,5],[25,6,26,6],[25,7,26,7],[25,8,26,8],[31,5,32,5],[31,6,32,6],[31,7,32,7],[31,8,32,8],[29,5,30,5],[29,6,30,6],[29,7,30,7],[29,8,30,8],[35,5,36,5],[35,6,36,6],[35,7,36,7],[35,8,36,8],[33,5,34,5],[33,6,34,6],[33,7,34,7],[33,8,34,8],[39,5,40,5],[39,6,40,6],[39,7,40,7],[39,8,40,8],[37,5,38,5],[37,6,38,6],[37,7,38,7],[37,8,38,8],[43,5,44,5],[43,6,44,6],[43,7,44,7],[43,8,44,8],[41,5,42,5],[41,6,42,6],[41,7,42,7],[41,8,42,8],[47,5,48,5],[47,6,48,6],[47,7,48,7],[47,8,48,8],[45,5,46,5],[45,6,46,6],[45,7,46,7],[45,8,46,8],[61,5,62,5],[61,6,62,6],[61,7,62,7],[61,8,62,8],[51,5,52,5],[51,6,52,6],[51,7,52,7],[51,8,52,8],[49,5,50,5],[49,6,50,6],[49,7,50,7],[49,8,50,8],[55,5,56,5],[55,6,56,6],[55,7,56,7],[55,8,56,8],[53,5,54,5],[53,6,54,6],[53,7,54,7],[53,8,54,8],[67,5,68,5],[67,6,68,6],[67,7,68,7],[67,8,68,8],[65,5,66,5],[65,6,66,6],[65,7,66,7],[11,9,12,9],[11,10,12,10],[59,9,60,9],[59,10,60,10],[59,5,60,5],[59,6,60,6],[59,7,60,7],[59,8,60,8],[57,5,58,5],[57,6,58,6],[57,7,58,7],[57,8,58,8],[65,8,66,8],[63,5,64,5],[63,6,64,6],[63,7,64,7],[63,8,64,8],[59,11,60,11],[59,14,60,14],[59,13,60,13],[59,12,60,12],[65,9,66,9],[65,10,66,10],[65,11,66,11],[13,16,14,16],[13,17,14,17],[13,9,14,9],[13,10,14,10],[13,11,14,11],[13,14,14,14],[15,15,16,15],[15,16,16,16],[15,17,16,17],[19,15,20,15],[19,16,20,16],[19,17,20,17],[23,15,24,15],[23,16,24,16],[23,17,24,17],[27,15,28,15],[27,16,28,16],[15,18,16,18],[15,9,16,9],[15,10,16,10],[15,11,16,11],[15,14,16,14],[15,13,16,13],[15,12,16,12],[17,15,18,15],[17,16,18,16],[17,17,18,17],[17,18,18,18],[17,9,18,9],[17,10,18,10],[17,11,18,11],[17,14,18,14],[17,13,18,13],[17,12,18,12],[19,18,20,18],[19,9,20,9],[19,10,20,10],[19,11,20,11],[19,14,20,14],[19,13,20,13],[19,12,20,12],[21,15,22,15],[21,16,22,16],[21,17,22,17],[21,18,22,18],[21,9,22,9],[21,10,22,10],[21,11,22,11],[21,14,22,14],[21,13,22,13],[21,12,22,12],[23,18,24,18],[23,9,24,9],[23,10,24,10],[23,11,24,11],[23,14,24,14],[23,13,24,13],[23,12,24,12],[25,15,26,15],[25,16,26,16],[25,17,26,17],[25,18,26,18],[25,9,26,9],[25,10,26,10],[25,11,26,11],[25,14,26,14],[25,13,26,13],[25,12,26,12],[27,17,28,17],[27,18,28,18],[27,9,28,9],[27,10,28,10],[27,11,28,11],[27,14,28,14],[27,13,28,13],[27,12,28,12],[29,15,30,15],[29,16,30,16],[29,17,30,17],[29,18,30,18],[29,9,30,9],[29,10,30,10],[29,11,30,11],[29,14,30,14],[29,13,30,13],[29,12,30,12],[31,15,32,15],[31,16,32,16],[31,17,32,17],[31,18,32,18],[31,9,32,9],[31,10,32,10],[31,11,32,11],[31,14,32,14],[31,13,32,13],[31,12,32,12],[33,15,34,15],[33,16,34,16],[33,17,34,17],[33,18,34,18],[33,9,34,9],[33,10,34,10],[33,11,34,11],[33,14,34,14],[33,13,34,13],[33,12,34,12],[35,15,36,15],[35,16,36,16],[35,17,36,17],[35,18,36,18],[35,9,36,9],[35,10,36,10],[35,11,36,11],[35,14,36,14],[35,13,36,13],[35,12,36,12],[37,15,38,15],[37,16,38,16],[37,17,38,17],[37,18,38,18],[37,9,38,9],[37,10,38,10],[37,11,38,11],[37,14,38,14],[37,13,38,13],[37,12,38,12],[39,15,40,15],[39,16,40,16],[39,17,40,17],[39,18,40,18],[39,9,40,9],[39,10,40,10],[39,11,40,11],[39,14,40,14],[39,13,40,13],[39,12,40,12],[41,15,42,15],[41,16,42,16],[41,17,42,17],[41,18,42,18],[41,9,42,9],[41,10,42,10],[41,11,42,11],[41,14,42,14],[41,13,42,13],[41,12,42,12],[43,15,44,15],[43,16,44,16],[43,17,44,17],[43,18,44,18],[43,9,44,9],[43,10,44,10],[43,11,44,11],[43,14,44,14],[43,13,44,13],[43,12,44,12],[45,15,46,15],[45,16,46,16],[45,17,46,17],[45,18,46,18],[45,9,46,9],[45,10,46,10],[45,11,46,11],[45,14,46,14],[45,13,46,13],[45,12,46,12],[47,15,48,15],[47,16,48,16],[47,17,48,17],[47,18,48,18],[47,9,48,9],[47,10,48,10],[47,11,48,11],[47,14,48,14],[47,13,48,13],[47,12,48,12],[49,15,50,15],[49,16,50,16],[49,17,50,17],[49,18,50,18],[49,9,50,9],[49,10,50,10],[49,11,50,11],[49,14,50,14],[49,13,50,13],[49,12,50,12],[51,15,52,15],[51,16,52,16],[51,17,52,17],[51,18,52,18],[51,9,52,9],[51,10,52,10],[51,11,52,11],[51,14,52,14],[51,13,52,13],[51,12,52,12],[53,15,54,15],[53,16,54,16],[53,17,54,17],[53,18,54,18],[53,9,54,9],[53,10,54,10],[53,11,54,11],[53,14,54,14],[53,13,54,13],[53,12,54,12],[55,15,56,15],[55,16,56,16],[55,17,56,17],[55,18,56,18],[55,9,56,9],[55,10,56,10],[55,11,56,11],[55,14,56,14],[55,13,56,13],[55,12,56,12],[57,15,58,15],[57,16,58,16],[57,17,58,17],[57,18,58,18],[57,9,58,9],[57,10,58,10],[57,11,58,11],[57,14,58,14],[57,13,58,13],[57,12,58,12],[61,17,62,17],[61,18,62,18],[61,9,62,9],[61,10,62,10],[61,11,62,11],[61,14,62,14],[61,13,62,13],[61,12,62,12],[63,15,64,15],[63,16,64,16],[63,17,64,17],[63,18,64,18],[63,9,64,9],[63,10,64,10],[63,11,64,11],[63,14,64,14],[63,13,64,13],[63,12,64,12],[65,14,66,14],[65,13,66,13],[65,12,66,12],[67,9,68,9],[67,10,68,10],[67,11,68,11],[67,14,68,14],[67,13,68,13],[67,12,68,12],[67,15,68,15],[67,16,68,16],[67,17,68,17],[67,18,68,18],[65,15,66,15],[65,16,66,16],[65,17,66,17],[65,18,66,18],[11,20,12,20],[29,19,30,19],[29,20,30,20],[27,19,28,19],[27,20,28,20],[25,19,26,19],[25,20,26,20],[33,19,34,19],[33,20,34,20],[45,19,46,19],[45,20,46,20],[43,19,44,19],[43,20,44,20],[41,19,42,19],[41,20,42,20],[49,19,50,19],[11,23,12,23],[9,19,10,19],[15,19,16,19],[15,20,16,20],[13,19,14,19],[13,20,14,20],[9,20,10,20],[11,19,12,19],[19,19,20,19],[19,20,20,20],[17,19,18,19],[17,20,18,20],[15,21,16,21],[15,22,16,22],[17,21,18,21],[17,22,18,22],[19,21,20,21],[19,22,20,22],[17,23,18,23],[15,24,16,24],[15,25,16,25],[15,26,16,26],[17,24,18,24],[17,25,18,25],[17,26,18,26],[15,23,16,23],[19,25,20,25],[19,26,20,26],[21,23,22,23],[21,24,22,24],[21,25,22,25],[21,26,22,26],[19,23,20,23],[21,21,22,21],[21,22,22,22],[23,19,24,19],[23,20,24,20],[21,19,22,19],[21,20,22,20],[23,21,24,21],[23,22,24,22],[19,24,20,24],[23,24,24,24],[39,19,40,19],[39,20,40,20],[37,19,38,19],[37,20,38,20],[35,19,36,19],[35,20,36,20],[37,25,38,25],[37,26,38,26],[37,21,38,21],[37,22,38,22],[49,20,50,20],[47,19,48,19],[47,20,48,20],[47,21,48,21],[47,22,48,22],[49,21,50,21],[49,22,50,22],[53,25,54,25],[53,26,54,26],[51,19,52,19],[51,20,52,20],[51,21,52,21],[51,22,52,22],[51,23,52,23],[51,24,52,24],[47,26,48,26],[47,23,48,23],[47,24,48,24],[67,19,68,19],[67,20,68,20],[65,19,66,19],[65,20,66,20],[57,19,58,19],[57,20,58,20],[53,21,54,21],[53,22,54,22],[55,19,56,19],[55,20,56,20],[53,19,54,19],[53,20,54,20],[55,21,56,21],[55,22,56,22],[63,25,64,25],[63,26,64,26],[63,19,64,19],[63,20,64,20],[63,21,64,21],[63,22,64,22],[17,0,18,0],[19,0,20,0],[21,0,22,0],[23,0,24,0],[49,0,50,0],[51,0,52,0],[53,0,54,0],[55,0,56,0],[41,0,42,0],[43,0,44,0],[45,0,46,0],[47,0,48,0],[63,23,64,23],[63,24,64,24],[61,19,62,19],[61,20,62,20],[59,19,60,19],[59,20,60,20],[9,0,10,0],[11,0,12,0],[13,0,14,0],[15,0,16,0],[33,0,34,0],[35,0,36,0],[37,0,38,0],[39,0,40,0],[25,0,26,0],[27,0,28,0],[29,0,30,0],[31,0,32,0],[65,0,66,0],[67,0,68,0],[57,0,58,0],[59,0,60,0],[61,0,62,0],[63,0,64,0],[27,45,28,45],[29,45,30,45],[31,45,32,45],[33,45,34,45],[43,27,44,44],[67,45,68,45],[59,45,60,45],[61,45,62,45],[63,45,64,45],[65,45,66,45],[51,45,52,45],[53,45,54,45],[55,45,56,45],[57,45,58,45],[53,27,54,44],[59,27,60,44],[51,27,52,44],[49,27,50,44],[19,45,20,45],[21,45,22,45],[23,45,24,45],[25,45,26,45],[43,45,44,45],[45,45,46,45],[47,45,48,45],[49,45,50,45],[35,45,36,45],[37,45,38,45],[39,45,40,45],[41,45,42,45],[47,27,48,44],[45,27,46,44],[67,27,68,44],[65,27,66,44],[63,27,64,44],[61,27,62,44],[57,27,58,44],[55,27,56,44],[35,27,36,44],[33,27,34,44],[31,27,32,44],[29,27,30,44],[27,27,28,44],[25,27,26,44],[6,4,6,44],[5,4,5,44],[3,36,3,37],[3,33,3,34],[3,30,3,31],[3,27,3,28],[3,10,3,11],[3,7,3,8],[3,4,3,5],[7,4,7,44],[31,25,32,25],[31,26,32,26],[31,19,32,19],[31,20,32,20],[31,21,32,21],[31,22,32,22],[31,23,32,23],[31,24,32,24],[17,27,18,44],[79,4,79,6],[78,4,78,6],[79,10,79,13],[78,10,78,13],[76,27,76,29],[76,10,76,13],[79,27,79,29],[78,27,78,29],[77,27,77,29],[76,4,76,6],[76,7,76,9],[79,7,79,9],[78,7,78,9],[77,7,77,9],[77,4,77,6],[77,10,77,13],[77,42,77,44],[79,39,79,41],[78,39,78,41],[77,39,77,41],[76,42,76,44],[76,39,76,41],[76,36,76,38],[8,27,8,44],[41,27,42,44],[39,27,40,44],[37,27,38,44],[79,33,79,35],[78,33,78,35],[77,33,77,35],[79,30,79,32],[78,30,78,32],[77,30,77,32],[79,42,79,44],[78,42,78,44],[79,36,79,38],[78,36,78,38],[77,36,77,38],[76,33,76,35],[76,30,76,32]]}
[]
[]
[]
[null,null,null,null,"q",null,null,"w",null,null,"e",null,null,null,null,null,null,null,null,null,null,null,null,null,null,null,null,"r",null,null,"t",null,null,"y",null,null,"u"]
[]
[null,null,null,null,"○：教科，道徳，総合　　●：行事　　児：児童会　　ク：クラブ　　学：学級　　△：学裁"]
[null,null,null,null,{"$f":"CONCATENATE(年暦!R4,\"　　　予　定　表\")","v":"8　　　月　　　予　定　表"}]
[null,null,null,null,"○：教科，道徳，総合　　●：行事　　児：児童会　　ク：クラブ　　学：学級　　△：学裁"]
[null,null,null,null,"日","曜",1,2,3,4,5,6,"登校","給食","時数","授業時数確認",null,null,null,null,null,"誤入力確認",null,null,null,null,null,"行　事　等"]
[{"$f":"IF(AND(D10=0,O10<>0),1,IF(AND(D10<>0,O10=0),1,IF(O10>6,1,\"\")))","v":""},{"$f":"IF(SUM(V10:AA11)<>0,1,\"\")","v":""},{"$f":"IF(SUM(A10:B11)<>0,\"error\",\"\")","v":""},{"$f":"年暦!R5","v":0},1,{"$f":"年暦!R6","v":"土"},null,null,null,null,null,null,{"$f":"IF(D10=0,0,1)","v":0},{"$f":"IF(年暦!S6=\"\",\"\",年暦!S6)","v":""},{"$f":"年暦!S5","v":0},{"$f":"IF($O10=0,0,IF($O10>0,0,1))","v":0},{"$f":"IF($O10=0,0,IF($O10>1,0,1))","v":0},{"$f":"IF($O10=0,0,IF($O10>2,0,1))","v":0},{"$f":"IF($O10=0,0,IF($O10>3,0,1))","v":0},{"$f":"IF($O10=0,0,IF($O10>4,0,1))","v":0},{"$f":"IF($O10=0,0,IF($O10>5,0,1))","v":0},{"$f":"IF(AND(G10<>\"\",P10=1),2,0)","v":0},0,0,0,0,0,{"$f":"IF(年暦!T5=\"\",\"\",年暦!T5)","v":"夏休み（２０日まで）　　　　　　"}]
[]
[{"$f":"IF(AND(D12=0,O12<>0),1,IF(AND(D12<>0,O12=0),1,IF(O12>6,1,\"\")))","v":""},{"$f":"IF(SUM(V12:AA13)<>0,1,\"\")","v":""},{"$f":"IF(SUM(A12:B13)<>0,\"error\",\"\")","v":""},{"$f":"年暦!R7","v":0},2,{"$f":"年暦!R8","v":"日"},null,null,null,null,null,null,{"$f":"IF(D12=0,0,1)","v":0},{"$f":"IF(年暦!S8=\"\",\"\",年暦!S8)","v":""},{"$f":"年暦!S7","v":0},{"$f":"IF($O12=0,0,IF($O12>0,0,1))","v":0},{"$f":"IF($O12=0,0,IF($O12>1,0,1))","v":0},{"$f":"IF($O12=0,0,IF($O12>2,0,1))","v":0},{"$f":"IF($O12=0,0,IF($O12>3,0,1))","v":0},{"$f":"IF($O12=0,0,IF($O12>4,0,1))","v":0},{"$f":"IF($O12=0,0,IF($O12>5,0,1))","v":0},{"$f":"IF(AND(G12<>\"\",P12=1),2,0)","v":0},0,0,0,0,0,{"$f":"IF(年暦!T7=\"\",\"\",年暦!T7)","v":""}]
[]
[{"$f":"IF(AND(D14=0,O14<>0),1,IF(AND(D14<>0,O14=0),1,IF(O14>6,1,\"\")))","v":""},{"$f":"IF(SUM(V14:AA15)<>0,1,\"\")","v":""},{"$f":"IF(SUM(A14:B15)<>0,\"error\",\"\")","v":""},{"$f":"年暦!R9","v":0},3,{"$f":"年暦!R10","v":"月"},null,null,null,null,null,null,{"$f":"IF(D14=0,0,1)","v":0},{"$f":"IF(年暦!S10=\"\",\"\",年暦!S10)","v":""},{"$f":"年暦!S9","v":0},{"$f":"IF($O14=0,0,IF($O14>0,0,1))","v":0},{"$f":"IF($O14=0,0,IF($O14>1,0,1))","v":0},{"$f":"IF($O14=0,0,IF($O14>2,0,1))","v":0},{"$f":"IF($O14=0,0,IF($O14>3,0,1))","v":0},{"$f":"IF($O14=0,0,IF($O14>4,0,1))","v":0},{"$f":"IF($O14=0,0,IF($O14>5,0,1))","v":0},{"$f":"IF(AND(G14<>\"\",P14=1),2,0)","v":0},0,0,0,0,0,{"$f":"IF(年暦!T9=\"\",\"\",年暦!T9)","v":""}]
[]
[{"$f":"IF(AND(D16=0,O16<>0),1,IF(AND(D16<>0,O16=0),1,IF(O16>6,1,\"\")))","v":""},{"$f":"IF(SUM(V16:AA17)<>0,1,\"\")","v":""},{"$f":"IF(SUM(A16:B17)<>0,\"error\",\"\")","v":""},{"$f":"年暦!R11","v":0},4,{"$f":"年暦!R12","v":"火"},null,null,null,null,null,null,{"$f":"IF(D16=0,0,1)","v":0},{"$f":"IF(年暦!S12=\"\",\"\",年暦!S12)","v":""},{"$f":"年暦!S11","v":0},{"$f":"IF($O16=0,0,IF($O16>0,0,1))","v":0},{"$f":"IF($O16=0,0,IF($O16>1,0,1))","v":0},{"$f":"IF($O16=0,0,IF($O16>2,0,1))","v":0},{"$f":"IF($O16=0,0,IF($O16>3,0,1))","v":0},{"$f":"IF($O16=0,0,IF($O16>4,0,1))","v":0},{"$f":"IF($O16=0,0,IF($O16>5,0,1))","v":0},{"$f":"IF(AND(G16<>\"\",P16=1),2,0)","v":0},0,0,0,0,0,{"$f":"IF(年暦!T11=\"\",\"\",年暦!T11)","v":""}]
[]
[{"$f":"IF(AND(D18=0,O18<>0),1,IF(AND(D18<>0,O18=0),1,IF(O18>6,1,\"\")))","v":""},{"$f":"IF(SUM(V18:AA19)<>0,1,\"\")","v":""},{"$f":"IF(SUM(A18:B19)<>0,\"error\",\"\")","v":""},{"$f":"年暦!R13","v":0},5,{"$f":"年暦!R14","v":"水"},null,null,null,null,null,null,{"$f":"IF(D18=0,0,1)","v":0},{"$f":"IF(年暦!S14=\"\",\"\",年暦!S14)","v":""},{"$f":"年暦!S13","v":0},{"$f":"IF($O18=0,0,IF($O18>0,0,1))","v":0},{"$f":"IF($O18=0,0,IF($O18>1,0,1))","v":0},{"$f":"IF($O18=0,0,IF($O18>2,0,1))","v":0},{"$f":"IF($O18=0,0,IF($O18>3,0,1))","v":0},{"$f":"IF($O18=0,0,IF($O18>4,0,1))","v":0},{"$f":"IF($O18=0,0,IF($O18>5,0,1))","v":0},{"$f":"IF(AND(G18<>\"\",P18=1),2,0)","v":0},0,0,0,0,0,{"$f":"IF(年暦!T13=\"\",\"\",年暦!T13)","v":""}]
[]
[{"$f":"IF(AND(D20=0,O20<>0),1,IF(AND(D20<>0,O20=0),1,IF(O20>6,1,\"\")))","v":""},{"$f":"IF(SUM(V20:AA21)<>0,1,\"\")","v":""},{"$f":"IF(SUM(A20:B21)<>0,\"error\",\"\")","v":""},{"$f":"年暦!R15","v":0},6,{"$f":"年暦!R16","v":"木"},null,null,null,null,null,null,{"$f":"IF(D20=0,0,1)","v":0},{"$f":"IF(年暦!S16=\"\",\"\",年暦!S16)","v":""},{"$f":"年暦!S15","v":0},{"$f":"IF($O20=0,0,IF($O20>0,0,1))","v":0},{"$f":"IF($O20=0,0,IF($O20>1,0,1))","v":0},{"$f":"IF($O20=0,0,IF($O20>2,0,1))","v":0},{"$f":"IF($O20=0,0,IF($O20>3,0,1))","v":0},{"$f":"IF($O20=0,0,IF($O20>4,0,1))","v":0},{"$f":"IF($O20=0,0,IF($O20>5,0,1))","v":0},{"$f":"IF(AND(G20<>\"\",P20=1),2,0)","v":0},0,0,0,0,0,{"$f":"IF(年暦!T15=\"\",\"\",年暦!T15)","v":""}]
[]
[{"$f":"IF(AND(D22=0,O22<>0),1,IF(AND(D22<>0,O22=0),1,IF(O22>6,1,\"\")))","v":""},{"$f":"IF(SUM(V22:AA23)<>0,1,\"\")","v":""},{"$f":"IF(SUM(A22:B23)<>0,\"error\",\"\")","v":""},{"$f":"年暦!R17","v":0},7,{"$f":"年暦!R18","v":"金"},null,null,null,null,null,null,{"$f":"IF(D22=0,0,1)","v":0},{"$f":"IF(年暦!S18=\"\",\"\",年暦!S18)","v":""},{"$f":"年暦!S17","v":0},{"$f":"IF($O22=0,0,IF($O22>0,0,1))","v":0},{"$f":"IF($O22=0,0,IF($O22>1,0,1))","v":0},{"$f":"IF($O22=0,0,IF($O22>2,0,1))","v":0},{"$f":"IF($O22=0,0,IF($O22>3,0,1))","v":0},{"$f":"IF($O22=0,0,IF($O22>4,0,1))","v":0},{"$f":"IF($O22=0,0,IF($O22>5,0,1))","v":0},{"$f":"IF(AND(G22<>\"\",P22=1),2,0)","v":0},0,0,0,0,0,{"$f":"IF(年暦!T17=\"\",\"\",年暦!T17)","v":""}]
[]
[{"$f":"IF(AND(D24=0,O24<>0),1,IF(AND(D24<>0,O24=0),1,IF(O24>6,1,\"\")))","v":""},{"$f":"IF(SUM(V24:AA25)<>0,1,\"\")","v":""},{"$f":"IF(SUM(A24:B25)<>0,\"error\",\"\")","v":""},{"$f":"年暦!R19","v":0},8,{"$f":"年暦!R20","v":"土"},null,null,null,null,null,null,{"$f":"IF(D24=0,0,1)","v":0},{"$f":"IF(年暦!S20=\"\",\"\",年暦!S20)","v":""},{"$f":"年暦!S19","v":0},{"$f":"IF($O24=0,0,IF($O24>0,0,1))","v":0},{"$f":"IF($O24=0,0,IF($O24>1,0,1))","v":0},{"$f":"IF($O24=0,0,IF($O24>2,0,1))","v":0},{"$f":"IF($O24=0,0,IF($O24>3,0,1))","v":0},{"$f":"IF($O24=0,0,IF($O24>4,0,1))","v":0},{"$f":"IF($O24=0,0,IF($O24>5,0,1))","v":0},{"$f":"IF(AND(G24<>\"\",P24=1),2,0)","v":0},0,0,0,0,0,{"$f":"IF(年暦!T19=\"\",\"\",年暦!T19)","v":""}]
[]
[{"$f":"IF(AND(D26=0,O26<>0),1,IF(AND(D26<>0,O26=0),1,IF(O26>6,1,\"\")))","v":""},{"$f":"IF(SUM(V26:AA27)<>0,1,\"\")","v":""},{"$f":"IF(SUM(A26:B27)<>0,\"error\",\"\")","v":""},{"$f":"年暦!R21","v":0},9,{"$f":"年暦!R22","v":"日"},null,null,null,null,null,null,{"$f":"IF(D26=0,0,1)","v":0},{"$f":"IF(年暦!S22=\"\",\"\",年暦!S22)","v":""},{"$f":"年暦!S21","v":0},{"$f":"IF($O26=0,0,IF($O26>0,0,1))","v":0},{"$f":"IF($O26=0,0,IF($O26>1,0,1))","v":0},{"$f":"IF($O26=0,0,IF($O26>2,0,1))","v":0},{"$f":"IF($O26=0,0,IF($O26>3,0,1))","v":0},{"$f":"IF($O26=0,0,IF($O26>4,0,1))","v":0},{"$f":"IF($O26=0,0,IF($O26>5,0,1))","v":0},{"$f":"IF(AND(G26<>\"\",P26=1),2,0)","v":0},0,0,0,0,0,{"$f":"IF(年暦!T21=\"\",\"\",年暦!T21)","v":"東京オリンピック閉会式"}]
[]
[{"$f":"IF(AND(D28=0,O28<>0),1,IF(AND(D28<>0,O28=0),1,IF(O28>6,1,\"\")))","v":""},{"$f":"IF(SUM(V28:AA29)<>0,1,\"\")","v":""},{"$f":"IF(SUM(A28:B29)<>0,\"error\",\"\")","v":""},{"$f":"年暦!R23","v":0},10,{"$f":"年暦!R24","v":"月"},null,null,null,null,null,null,{"$f":"IF(D28=0,0,1)","v":0},{"$f":"IF(年暦!S24=\"\",\"\",年暦!S24)","v":""},{"$f":"年暦!S23","v":0},{"$f":"IF($O28=0,0,IF($O28>0,0,1))","v":0},{"$f":"IF($O28=0,0,IF($O28>1,0,1))","v":0},{"$f":"IF($O28=0,0,IF($O28>2,0,1))","v":0},{"$f":"IF($O28=0,0,IF($O28>3,0,1))","v":0},{"$f":"IF($O28=0,0,IF($O28>4,0,1))","v":0},{"$f":"IF($O28=0,0,IF($O28>5,0,1))","v":0},{"$f":"IF(AND(G28<>\"\",P28=1),2,0)","v":0},0,0,0,0,0,{"$f":"IF(年暦!T23=\"\",\"\",年暦!T23)","v":"山の日"}]
[]
[{"$f":"IF(AND(D30=0,O30<>0),1,IF(AND(D30<>0,O30=0),1,IF(O30>6,1,\"\")))","v":""},{"$f":"IF(SUM(V30:AA31)<>0,1,\"\")","v":""},{"$f":"IF(SUM(A30:B31)<>0,\"error\",\"\")","v":""},{"$f":"年暦!R25","v":0},11,{"$f":"年暦!R26","v":"火"},null,null,null,null,null,null,{"$f":"IF(D30=0,0,1)","v":0},{"$f":"IF(年暦!S26=\"\",\"\",年暦!S26)","v":""},{"$f":"年暦!S25","v":0},{"$f":"IF($O30=0,0,IF($O30>0,0,1))","v":0},{"$f":"IF($O30=0,0,IF($O30>1,0,1))","v":0},{"$f":"IF($O30=0,0,IF($O30>2,0,1))","v":0},{"$f":"IF($O30=0,0,IF($O30>3,0,1))","v":0},{"$f":"IF($O30=0,0,IF($O30>4,0,1))","v":0},{"$f":"IF($O30=0,0,IF($O30>5,0,1))","v":0},{"$f":"IF(AND(G30<>\"\",P30=1),2,0)","v":0},0,0,0,0,0,{"$f":"IF(年暦!T25=\"\",\"\",年暦!T25)","v":"学校閉庁日"}]
[]
[{"$f":"IF(AND(D32=0,O32<>0),1,IF(AND(D32<>0,O32=0),1,IF(O32>6,1,\"\")))","v":""},{"$f":"IF(SUM(V32:AA33)<>0,1,\"\")","v":""},{"$f":"IF(SUM(A32:B33)<>0,\"error\",\"\")","v":""},{"$f":"年暦!R27","v":0},12,{"$f":"年暦!R28","v":"水"},null,null,null,null,null,null,{"$f":"IF(D32=0,0,1)","v":0},{"$f":"IF(年暦!S28=\"\",\"\",年暦!S28)","v":""},{"$f":"年暦!S27","v":0},{"$f":"IF($O32=0,0,IF($O32>0,0,1))","v":0},{"$f":"IF($O32=0,0,IF($O32>1,0,1))","v":0},{"$f":"IF($O32=0,0,IF($O32>2,0,1))","v":0},{"$f":"IF($O32=0,0,IF($O32>3,0,1))","v":0},{"$f":"IF($O32=0,0,IF($O32>4,0,1))","v":0},{"$f":"IF($O32=0,0,IF($O32>5,0,1))","v":0},{"$f":"IF(AND(G32<>\"\",P32=1),2,0)","v":0},0,0,0,0,0,{"$f":"IF(年暦!T27=\"\",\"\",年暦!T27)","v":"学校閉庁日"}]
[]
[{"$f":"IF(AND(D34=0,O34<>0),1,IF(AND(D34<>0,O34=0),1,IF(O34>6,1,\"\")))","v":""},{"$f":"IF(SUM(V34:AA35)<>0,1,\"\")","v":""},{"$f":"IF(SUM(A34:B35)<>0,\"error\",\"\")","v":""},{"$f":"年暦!R29","v":0},13,{"$f":"年暦!R30","v":"木"},null,null,null,null,null,null,{"$f":"IF(D34=0,0,1)","v":0},{"$f":"IF(年暦!S30=\"\",\"\",年暦!S30)","v":""},{"$f":"年暦!S29","v":0},{"$f":"IF($O34=0,0,IF($O34>0,0,1))","v":0},{"$f":"IF($O34=0,0,IF($O34>1,0,1))","v":0},{"$f":"IF($O34=0,0,IF($O34>2,0,1))","v":0},{"$f":"IF($O34=0,0,IF($O34>3,0,1))","v":0},{"$f":"IF($O34=0,0,IF($O34>4,0,1))","v":0},{"$f":"IF($O34=0,0,IF($O34>5,0,1))","v":0},{"$f":"IF(AND(G34<>\"\",P34=1),2,0)","v":0},0,0,0,0,0,{"$f":"IF(年暦!T29=\"\",\"\",年暦!T29)","v":"学校閉庁日"}]
[]
[{"$f":"IF(AND(D36=0,O36<>0),1,IF(AND(D36<>0,O36=0),1,IF(O36>6,1,\"\")))","v":""},{"$f":"IF(SUM(V36:AA37)<>0,1,\"\")","v":""},{"$f":"IF(SUM(A36:B37)<>0,\"error\",\"\")","v":""},{"$f":"年暦!R31","v":0},14,{"$f":"年暦!R32","v":"金"},null,null,null,null,null,null,{"$f":"IF(D36=0,0,1)","v":0},{"$f":"IF(年暦!S32=\"\",\"\",年暦!S32)","v":""},{"$f":"年暦!S31","v":0},{"$f":"IF($O36=0,0,IF($O36>0,0,1))","v":0},{"$f":"IF($O36=0,0,IF($O36>1,0,1))","v":0},{"$f":"IF($O36=0,0,IF($O36>2,0,1))","v":0},{"$f":"IF($O36=0,0,IF($O36>3,0,1))","v":0},{"$f":"IF($O36=0,0,IF($O36>4,0,1))","v":0},{"$f":"IF($O36=0,0,IF($O36>5,0,1))","v":0},{"$f":"IF(AND(G36<>\"\",P36=1),2,0)","v":0},0,0,0,0,0,{"$f":"IF(年暦!T31=\"\",\"\",年暦!T31)","v":"学校閉庁日"}]
[]
[{"$f":"IF(AND(D38=0,O38<>0),1,IF(AND(D38<>0,O38=0),1,IF(O38>6,1,\"\")))","v":""},{"$f":"IF(SUM(V38:AA39)<>0,1,\"\")","v":""},{"$f":"IF(SUM(A38:B39)<>0,\"error\",\"\")","v":""},{"$f":"年暦!R33","v":0},15,{"$f":"年暦!R34","v":"土"},null,null,null,null,null,null,{"$f":"IF(D38=0,0,1)","v":0},{"$f":"IF(年暦!S34=\"\",\"\",年暦!S34)","v":""},{"$f":"年暦!S33","v":0},{"$f":"IF($O38=0,0,IF($O38>0,0,1))","v":0},{"$f":"IF($O38=0,0,IF($O38>1,0,1))","v":0},{"$f":"IF($O38=0,0,IF($O38>2,0,1))","v":0},{"$f":"IF($O38=0,0,IF($O38>3,0,1))","v":0},{"$f":"IF($O38=0,0,IF($O38>4,0,1))","v":0},{"$f":"IF($O38=0,0,IF($O38>5,0,1))","v":0},{"$f":"IF(AND(G38<>\"\",P38=1),2,0)","v":0},0,0,0,0,0,{"$f":"IF(年暦!T33=\"\",\"\",年暦!T33)","v":""}]
[]
[{"$f":"IF(AND(D40=0,O40<>0),1,IF(AND(D40<>0,O40=0),1,IF(O40>6,1,\"\")))","v":""},{"$f":"IF(SUM(V40:AA41)<>0,1,\"\")","v":""},{"$f":"IF(SUM(A40:B41)<>0,\"error\",\"\")","v":""},{"$f":"年暦!R35","v":0},16,{"$f":"年暦!R36","v":"日"},null,null,null,null,null,null,{"$f":"IF(D40=0,0,1)","v":0},{"$f":"IF(年暦!S36=\"\",\"\",年暦!S36)","v":""},{"$f":"年暦!S35","v":0},{"$f":"IF($O40=0,0,IF($O40>0,0,1))","v":0},{"$f":"IF($O40=0,0,IF($O40>1,0,1))","v":0},{"$f":"IF($O40=0,0,IF($O40>2,0,1))","v":0},{"$f":"IF($O40=0,0,IF($O40>3,0,1))","v":0},{"$f":"IF($O40=0,0,IF($O40>4,0,1))","v":0},{"$f":"IF($O40=0,0,IF($O40>5,0,1))","v":0},{"$f":"IF(AND(G40<>\"\",P40=1),2,0)","v":0},0,0,0,0,0,{"$f":"IF(年暦!T35=\"\",\"\",年暦!T35)","v":""}]
[]
[{"$f":"IF(AND(D42=0,O42<>0),1,IF(AND(D42<>0,O42=0),1,IF(O42>6,1,\"\")))","v":""},{"$f":"IF(SUM(V42:AA43)<>0,1,\"\")","v":""},{"$f":"IF(SUM(A42:B43)<>0,\"error\",\"\")","v":""},{"$f":"年暦!R37","v":0},17,{"$f":"年暦!R38","v":"月"},null,null,null,null,null,null,{"$f":"IF(D42=0,0,1)","v":0},{"$f":"IF(年暦!S38=\"\",\"\",年暦!S38)","v":""},{"$f":"年暦!S37","v":0},{"$f":"IF($O42=0,0,IF($O42>0,0,1))","v":0},{"$f":"IF($O42=0,0,IF($O42>1,0,1))","v":0},{"$f":"IF($O42=0,0,IF($O42>2,0,1))","v":0},{"$f":"IF($O42=0,0,IF($O42>3,0,1))","v":0},{"$f":"IF($O42=0,0,IF($O42>4,0,1))","v":0},{"$f":"IF($O42=0,0,IF($O42>5,0,1))","v":0},{"$f":"IF(AND(G42<>\"\",P42=1),2,0)","v":0},0,0,0,0,0,{"$f":"IF(年暦!T37=\"\",\"\",年暦!T37)","v":""}]
[]
[{"$f":"IF(AND(D44=0,O44<>0),1,IF(AND(D44<>0,O44=0),1,IF(O44>6,1,\"\")))","v":""},{"$f":"IF(SUM(V44:AA45)<>0,1,\"\")","v":""},{"$f":"IF(SUM(A44:B45)<>0,\"error\",\"\")","v":""},{"$f":"年暦!R39","v":0},18,{"$f":"年暦!R40","v":"火"},null,null,null,null,null,null,{"$f":"IF(D44=0,0,1)","v":0},{"$f":"IF(年暦!S40=\"\",\"\",年暦!S40)","v":""},{"$f":"年暦!S39","v":0},{"$f":"IF($O44=0,0,IF($O44>0,0,1))","v":0},{"$f":"IF($O44=0,0,IF($O44>1,0,1))","v":0},{"$f":"IF($O44=0,0,IF($O44>2,0,1))","v":0},{"$f":"IF($O44=0,0,IF($O44>3,0,1))","v":0},{"$f":"IF($O44=0,0,IF($O44>4,0,1))","v":0},{"$f":"IF($O44=0,0,IF($O44>5,0,1))","v":0},{"$f":"IF(AND(G44<>\"\",P44=1),2,0)","v":0},0,0,0,0,0,{"$f":"IF(年暦!T39=\"\",\"\",年暦!T39)","v":""}]
[]
[{"$f":"IF(AND(D46=0,O46<>0),1,IF(AND(D46<>0,O46=0),1,IF(O46>6,1,\"\")))","v":""},{"$f":"IF(SUM(V46:AA47)<>0,1,\"\")","v":""},{"$f":"IF(SUM(A46:B47)<>0,\"error\",\"\")","v":""},{"$f":"年暦!R41","v":0},19,{"$f":"年暦!R42","v":"水"},null,null,null,null,null,null,{"$f":"IF(D46=0,0,1)","v":0},{"$f":"IF(年暦!S42=\"\",\"\",年暦!S42)","v":""},{"$f":"年暦!S41","v":0},{"$f":"IF($O46=0,0,IF($O46>0,0,1))","v":0},{"$f":"IF($O46=0,0,IF($O46>1,0,1))","v":0},{"$f":"IF($O46=0,0,IF($O46>2,0,1))","v":0},{"$f":"IF($O46=0,0,IF($O46>3,0,1))","v":0},{"$f":"IF($O46=0,0,IF($O46>4,0,1))","v":0},{"$f":"IF($O46=0,0,IF($O46>5,0,1))","v":0},{"$f":"IF(AND(G46<>\"\",P46=1),2,0)","v":0},0,0,0,0,0,{"$f":"IF(年暦!T41=\"\",\"\",年暦!T41)","v":""}]
[]
[{"$f":"IF(AND(D48=0,O48<>0),1,IF(AND(D48<>0,O48=0),1,IF(O48>6,1,\"\")))","v":""},{"$f":"IF(SUM(V48:AA49)<>0,1,\"\")","v":""},{"$f":"IF(SUM(A48:B49)<>0,\"error\",\"\")","v":""},{"$f":"年暦!R43","v":0},20,{"$f":"年暦!R44","v":"木"},null,null,null,null,null,null,{"$f":"IF(D48=0,0,1)","v":0},{"$f":"IF(年暦!S44=\"\",\"\",年暦!S44)","v":""},{"$f":"年暦!S43","v":0},{"$f":"IF($O48=0,0,IF($O48>0,0,1))","v":0},{"$f":"IF($O48=0,0,IF($O48>1,0,1))","v":0},{"$f":"IF($O48=0,0,IF($O48>2,0,1))","v":0},{"$f":"IF($O48=0,0,IF($O48>3,0,1))","v":0},{"$f":"IF($O48=0,0,IF($O48>4,0,1))","v":0},{"$f":"IF($O48=0,0,IF($O48>5,0,1))","v":0},{"$f":"IF(AND(G48<>\"\",P48=1),2,0)","v":0},0,0,0,0,0,{"$f":"IF(年暦!#REF!=\"\",\"\",年暦!#REF!)","v":{"$error":"#REF!"}}]
[]
[{"$f":"IF(AND(D50=0,O50<>0),1,IF(AND(D50<>0,O50=0),1,IF(O50>6,1,\"\")))","v":""},{"$f":"IF(SUM(V50:AA51)<>0,1,\"\")","v":""},{"$f":"IF(SUM(A50:B51)<>0,\"error\",\"\")","v":""},{"$f":"年暦!R45","v":21},21,{"$f":"年暦!R46","v":"金"},null,null,null,null,null,null,{"$f":"IF(D50=0,0,1)","v":1},{"$f":"IF(年暦!S46=\"\",\"\",年暦!S46)","v":"○"},{"$f":"年暦!S45","v":5},{"$f":"IF($O50=0,0,IF($O50>0,0,1))","v":0},{"$f":"IF($O50=0,0,IF($O50>1,0,1))","v":0},{"$f":"IF($O50=0,0,IF($O50>2,0,1))","v":0},{"$f":"IF($O50=0,0,IF($O50>3,0,1))","v":0},{"$f":"IF($O50=0,0,IF($O50>4,0,1))","v":0},{"$f":"IF($O50=0,0,IF($O50>5,0,1))","v":1},{"$f":"IF(AND(G50<>\"\",P50=1),2,0)","v":0},0,0,0,0,0,{"$f":"IF(年暦!T45=\"\",\"\",年暦!T45)","v":"２学期始業式"}]
[]
[{"$f":"IF(AND(D52=0,O52<>0),1,IF(AND(D52<>0,O52=0),1,IF(O52>6,1,\"\")))","v":""},{"$f":"IF(SUM(V52:AA53)<>0,1,\"\")","v":""},{"$f":"IF(SUM(A52:B53)<>0,\"error\",\"\")","v":""},{"$f":"年暦!R47","v":0},22,{"$f":"年暦!R48","v":"土"},null,null,null,null,null,null,{"$f":"IF(D52=0,0,1)","v":0},{"$f":"IF(年暦!S48=\"\",\"\",年暦!S48)","v":""},{"$f":"年暦!S47","v":0},{"$f":"IF($O52=0,0,IF($O52>0,0,1))","v":0},{"$f":"IF($O52=0,0,IF($O52>1,0,1))","v":0},{"$f":"IF($O52=0,0,IF($O52>2,0,1))","v":0},{"$f":"IF($O52=0,0,IF($O52>3,0,1))","v":0},{"$f":"IF($O52=0,0,IF($O52>4,0,1))","v":0},{"$f":"IF($O52=0,0,IF($O52>5,0,1))","v":0},{"$f":"IF(AND(G52<>\"\",P52=1),2,0)","v":0},0,0,0,0,0,{"$f":"IF(年暦!T47=\"\",\"\",年暦!T47)","v":""}]
[]
[{"$f":"IF(AND(D54=0,O54<>0),1,IF(AND(D54<>0,O54=0),1,IF(O54>6,1,\"\")))","v":""},{"$f":"IF(SUM(V54:AA55)<>0,1,\"\")","v":""},{"$f":"IF(SUM(A54:B55)<>0,\"error\",\"\")","v":""},{"$f":"年暦!R49","v":0},23,{"$f":"年暦!R50","v":"日"},null,null,null,null,null,null,{"$f":"IF(D54=0,0,1)","v":0},{"$f":"IF(年暦!S50=\"\",\"\",年暦!S50)","v":""},{"$f":"年暦!S49","v":0},{"$f":"IF($O54=0,0,IF($O54>0,0,1))","v":0},{"$f":"IF($O54=0,0,IF($O54>1,0,1))","v":0},{"$f":"IF($O54=0,0,IF($O54>2,0,1))","v":0},{"$f":"IF($O54=0,0,IF($O54>3,0,1))","v":0},{"$f":"IF($O54=0,0,IF($O54>4,0,1))","v":0},{"$f":"IF($O54=0,0,IF($O54>5,0,1))","v":0},{"$f":"IF(AND(G54<>\"\",P54=1),2,0)","v":0},0,0,0,0,0,{"$f":"IF(年暦!T49=\"\",\"\",年暦!T49)","v":""}]
[]
[{"$f":"IF(AND(D56=0,O56<>0),1,IF(AND(D56<>0,O56=0),1,IF(O56>6,1,\"\")))","v":""},{"$f":"IF(SUM(V56:AA57)<>0,1,\"\")","v":""},{"$f":"IF(SUM(A56:B57)<>0,\"error\",\"\")","v":""},{"$f":"年暦!R51","v":24},24,{"$f":"年暦!R52","v":"月"},null,null,null,null,null,null,{"$f":"IF(D56=0,0,1)","v":1},{"$f":"IF(年暦!S52=\"\",\"\",年暦!S52)","v":"○"},{"$f":"年暦!S51","v":6},{"$f":"IF($O56=0,0,IF($O56>0,0,1))","v":0},{"$f":"IF($O56=0,0,IF($O56>1,0,1))","v":0},{"$f":"IF($O56=0,0,IF($O56>2,0,1))","v":0},{"$f":"IF($O56=0,0,IF($O56>3,0,1))","v":0},{"$f":"IF($O56=0,0,IF($O56>4,0,1))","v":0},{"$f":"IF($O56=0,0,IF($O56>5,0,1))","v":0},{"$f":"IF(AND(G56<>\"\",P56=1),2,0)","v":0},0,0,0,0,0,{"$f":"IF(年暦!T51=\"\",\"\",年暦!T51)","v":""}]
[]
[{"$f":"IF(AND(D58=0,O58<>0),1,IF(AND(D58<>0,O58=0),1,IF(O58>6,1,\"\")))","v":""},{"$f":"IF(SUM(V58:AA59)<>0,1,\"\")","v":""},{"$f":"IF(SUM(A58:B59)<>0,\"error\",\"\")","v":""},{"$f":"年暦!R53","v":25},25,{"$f":"年暦!R54","v":"火"},null,null,null,null,null,null,{"$f":"IF(D58=0,0,1)","v":1},{"$f":"IF(年暦!S54=\"\",\"\",年暦!S54)","v":"○"},{"$f":"年暦!S53","v":6},{"$f":"IF($O58=0,0,IF($O58>0,0,1))","v":0},{"$f":"IF($O58=0,0,IF($O58>1,0,1))","v":0},{"$f":"IF($O58=0,0,IF($O58>2,0,1))","v":0},{"$f":"IF($O58=0,0,IF($O58>3,0,1))","v":0},{"$f":"IF($O58=0,0,IF($O58>4,0,1))","v":0},{"$f":"IF($O58=0,0,IF($O58>5,0,1))","v":0},{"$f":"IF(AND(G58<>\"\",P58=1),2,0)","v":0},0,0,0,0,0,{"$f":"IF(年暦!T53=\"\",\"\",年暦!T53)","v":"東京パラリンピック開会式"}]
[]
[{"$f":"IF(AND(D60=0,O60<>0),1,IF(AND(D60<>0,O60=0),1,IF(O60>6,1,\"\")))","v":""},{"$f":"IF(SUM(V60:AA61)<>0,1,\"\")","v":""},{"$f":"IF(SUM(A60:B61)<>0,\"error\",\"\")","v":""},{"$f":"年暦!R55","v":26},26,{"$f":"年暦!R56","v":"水"},null,null,null,null,null,null,{"$f":"IF(D60=0,0,1)","v":1},{"$f":"IF(年暦!S56=\"\",\"\",年暦!S56)","v":"○"},{"$f":"年暦!S55","v":5},{"$f":"IF($O60=0,0,IF($O60>0,0,1))","v":0},{"$f":"IF($O60=0,0,IF($O60>1,0,1))","v":0},{"$f":"IF($O60=0,0,IF($O60>2,0,1))","v":0},{"$f":"IF($O60=0,0,IF($O60>3,0,1))","v":0},{"$f":"IF($O60=0,0,IF($O60>4,0,1))","v":0},{"$f":"IF($O60=0,0,IF($O60>5,0,1))","v":1},{"$f":"IF(AND(G60<>\"\",P60=1),2,0)","v":0},0,0,0,0,0,{"$f":"IF(年暦!T43=\"\",\"\",年暦!T43)","v":""}]
[]
[{"$f":"IF(AND(D62=0,O62<>0),1,IF(AND(D62<>0,O62=0),1,IF(O62>6,1,\"\")))","v":""},{"$f":"IF(SUM(V62:AA63)<>0,1,\"\")","v":""},{"$f":"IF(SUM(A62:B63)<>0,\"error\",\"\")","v":""},{"$f":"年暦!R57","v":27},27,{"$f":"年暦!R58","v":"木"},null,null,null,null,null,null,{"$f":"IF(D62=0,0,1)","v":1},{"$f":"IF(年暦!S58=\"\",\"\",年暦!S58)","v":"○"},{"$f":"年暦!S57","v":6},{"$f":"IF($O62=0,0,IF($O62>0,0,1))","v":0},{"$f":"IF($O62=0,0,IF($O62>1,0,1))","v":0},{"$f":"IF($O62=0,0,IF($O62>2,0,1))","v":0},{"$f":"IF($O62=0,0,IF($O62>3,0,1))","v":0},{"$f":"IF($O62=0,0,IF($O62>4,0,1))","v":0},{"$f":"IF($O62=0,0,IF($O62>5,0,1))","v":0},{"$f":"IF(AND(G62<>\"\",P62=1),2,0)","v":0},0,0,0,0,0,{"$f":"IF(年暦!T57=\"\",\"\",年暦!T57)","v":"聖南中校区特支交流会"}]
[]
[{"$f":"IF(AND(D64=0,O64<>0),1,IF(AND(D64<>0,O64=0),1,IF(O64>6,1,\"\")))","v":""},{"$f":"IF(SUM(V64:AA65)<>0,1,\"\")","v":""},{"$f":"IF(SUM(A64:B65)<>0,\"error\",\"\")","v":""},{"$f":"年暦!R59","v":28},28,{"$f":"年暦!R60","v":"金"},null,null,null,null,null,null,{"$f":"IF(D64=0,0,1)","v":1},{"$f":"IF(年暦!S60=\"\",\"\",年暦!S60)","v":"○"},{"$f":"年暦!S59","v":6},{"$f":"IF($O64=0,0,IF($O64>0,0,1))","v":0},{"$f":"IF($O64=0,0,IF($O64>1,0,1))","v":0},{"$f":"IF($O64=0,0,IF($O64>2,0,1))","v":0},{"$f":"IF($O64=0,0,IF($O64>3,0,1))","v":0},{"$f":"IF($O64=0,0,IF($O64>4,0,1))","v":0},{"$f":"IF($O64=0,0,IF($O64>5,0,1))","v":0},{"$f":"IF(AND(G64<>\"\",P64=1),2,0)","v":0},0,0,0,0,0,{"$f":"IF(年暦!T59=\"\",\"\",年暦!T59)","v":"年長児と交流②"}]
[]
[{"$f":"IF(AND(D66=0,O66<>0),1,IF(AND(D66<>0,O66=0),1,IF(O66>6,1,\"\")))","v":""},{"$f":"IF(SUM(V66:AA67)<>0,1,\"\")","v":""},{"$f":"IF(SUM(A66:B67)<>0,\"error\",\"\")","v":""},{"$f":"年暦!R61","v":0},29,{"$f":"年暦!R62","v":"土"},null,null,null,null,null,null,{"$f":"IF(D66=0,0,1)","v":0},{"$f":"IF(年暦!S62=\"\",\"\",年暦!S62)","v":""},{"$f":"年暦!S61","v":0},{"$f":"IF($O66=0,0,IF($O66>0,0,1))","v":0},{"$f":"IF($O66=0,0,IF($O66>1,0,1))","v":0},{"$f":"IF($O66=0,0,IF($O66>2,0,1))","v":0},{"$f":"IF($O66=0,0,IF($O66>3,0,1))","v":0},{"$f":"IF($O66=0,0,IF($O66>4,0,1))","v":0},{"$f":"IF($O66=0,0,IF($O66>5,0,1))","v":0},{"$f":"IF(AND(G66<>\"\",P66=1),2,0)","v":0},0,0,0,0,0,{"$f":"IF(年暦!T61=\"\",\"\",年暦!T61)","v":""}]
[]
[{"$f":"IF(AND(D68=0,O68<>0),1,IF(AND(D68<>0,O68=0),1,IF(O68>6,1,\"\")))","v":""},{"$f":"IF(SUM(V68:AA69)<>0,1,\"\")","v":""},{"$f":"IF(SUM(A68:B69)<>0,\"error\",\"\")","v":""},{"$f":"年暦!R63","v":0},30,{"$f":"年暦!R64","v":"日"},null,null,null,null,null,null,{"$f":"IF(D68=0,0,1)","v":0},{"$f":"IF(年暦!S64=\"\",\"\",年暦!S64)","v":""},{"$f":"年暦!S63","v":0},{"$f":"IF($O68=0,0,IF($O68>0,0,1))","v":0},{"$f":"IF($O68=0,0,IF($O68>1,0,1))","v":0},{"$f":"IF($O68=0,0,IF($O68>2,0,1))","v":0},{"$f":"IF($O68=0,0,IF($O68>3,0,1))","v":0},{"$f":"IF($O68=0,0,IF($O68>4,0,1))","v":0},{"$f":"IF($O68=0,0,IF($O68>5,0,1))","v":0},{"$f":"IF(AND(G68<>\"\",P68=1),2,0)","v":0},0,0,0,0,0,{"$f":"IF(年暦!T63=\"\",\"\",年暦!T63)","v":""}]
[]
[{"$f":"IF(AND(D70=0,O70<>0),1,IF(AND(D70<>0,O70=0),1,IF(O70>6,1,\"\")))","v":""},{"$f":"IF(SUM(V70:AA71)<>0,1,\"\")","v":""},{"$f":"IF(SUM(A70:B71)<>0,\"error\",\"\")","v":""},{"$f":"年暦!R65","v":31},31,{"$f":"年暦!R66","v":"月"},null,null,null,null,null,null,{"$f":"IF(D70=0,0,1)","v":1},{"$f":"IF(年暦!S66=\"\",\"\",年暦!S66)","v":"○"},{"$f":"年暦!S65","v":6},{"$f":"IF($O70=0,0,IF($O70>0,0,1))","v":0},{"$f":"IF($O70=0,0,IF($O70>1,0,1))","v":0},{"$f":"IF($O70=0,0,IF($O70>2,0,1))","v":0},{"$f":"IF($O70=0,0,IF($O70>3,0,1))","v":0},{"$f":"IF($O70=0,0,IF($O70>4,0,1))","v":0},{"$f":"IF($O70=0,0,IF($O70>5,0,1))","v":0},{"$f":"IF(AND(G70<>\"\",P70=1),2,0)","v":0},0,0,0,0,0,{"$f":"IF(年暦!T65=\"\",\"\",年暦!T65)","v":""}]
[]
[]
[]
[null,null,null,null,"日","曜","○","●","児","ク","学","△","登校","給食","時数","授業時数確認",null,null,null,null,null,"誤入力確認",null,null,null,null,null,"行　事　等"]
[null,null,null,null,null,null,{"$f":"COUNTIF($G$10:$L$71,G74)","v":0},0,0,0,0,0,{"$f":"SUM(M10:M72)","v":7},{"$f":"COUNTIF(N10:N71,\"○\")","v":7},{"$f":"SUM(O10:O72)","v":40}]
[]
[null,null,null,null,null,null,null,"小計",null,null,"累計",null,null,null,null,null,null,null,null,null,null,null,null,null,null,null,null,null,null,null,"小計",null,null,"累計",null,null,null,null,null,"小計",null,null,"累計"]
[null,{"$f":"SUM(AE78,AE79,AE80,AN78,AN79,AN80)","v":0},{"$f":"IF(H79<>B78,\"error\",\"\")","v":"error"},null,"登校日数",null,null,{"$f":"M75","v":7},null,null,{"$f":"H78+'7'!K78:N78","v":81},null,null,null,null,null,null,null,null,null,null,null,null,null,null,null,null,"教科，道徳，総合",null,null,{"$f":"G75","v":0},null,null,{"$f":"AE78+'7'!AH78:AJ78","v":0},null,null,"クラブ",null,null,{"$f":"J75","v":0},null,null,{"$f":"AN78+'7'!AQ78:AS78","v":0}]
[null,null,null,null,"授業時数",null,null,{"$f":"O75","v":40},null,null,{"$f":"H79+'7'!K79:N79","v":453},null,null,null,null,null,null,null,null,null,null,null,null,null,null,null,null,"行事",null,null,{"$f":"H75","v":0},null,null,{"$f":"AE79+'7'!AH79:AJ79","v":2},null,null,"学級",null,null,{"$f":"K75","v":0},null,null,{"$f":"AN79+'7'!AQ79:AS79","v":1}]
[null,null,null,null,"給食日数",null,null,{"$f":"N75","v":7},null,null,{"$f":"H80+'7'!K80:N80","v":77},null,null,null,null,null,null,null,null,null,null,null,null,null,null,null,null,"児童会",null,null,{"$f":"I75","v":0},null,null,{"$f":"AE80+'7'!AH80:AJ80","v":0},null,null,"学校裁量",null,null,{"$f":"L75","v":0},null,null,{"$f":"AN80+'7'!AQ80:AS80","v":0}]

{"sheet":"9","index":5,"n_rows":78,"n_cols":43,"rows_kept":78,"cut":false,"hidden":false,"merged":[[77,42,77,44],[76,42,76,44],[75,42,75,44],[77,39,77,41],[76,39,76,41],[75,39,75,41],[75,27,75,29],[77,33,77,35],[76,33,76,35],[75,33,75,35],[77,30,77,32],[76,30,76,32],[75,30,75,32],[77,4,77,6],[76,4,76,6],[77,10,77,13],[76,10,76,13],[77,27,77,29],[76,27,76,29],[74,27,74,29],[74,10,74,13],[7,4,7,44],[75,4,75,6],[75,10,75,13],[74,42,74,44],[74,39,74,41],[74,36,74,38],[8,27,8,44],[41,27,42,44],[77,36,77,38],[76,36,76,38],[75,36,75,38],[74,4,74,6],[74,7,74,9],[77,7,77,9],[76,7,76,9],[75,7,75,9],[74,33,74,35],[74,30,74,32],[6,4,6,44],[5,4,5,44],[3,36,3,37],[3,33,3,34],[3,30,3,31],[3,27,3,28],[3,10,3,11],[3,7,3,8],[3,4,3,5],[27,27,28,44],[25,27,26,44],[39,27,40,44],[37,27,38,44],[35,27,36,44],[33,27,34,44],[67,27,68,44],[65,27,66,44],[63,27,64,44],[61,27,62,44],[31,27,32,44],[29,27,30,44],[47,27,48,44],[43,45,44,45],[45,45,46,45],[47,45,48,45],[49,45,50,45],[43,27,44,44],[67,45,68,45],[59,45,60,45],[61,45,62,45],[63,45,64,45],[65,45,66,45],[45,27,46,44],[57,27,58,44],[55,27,56,44],[53,27,54,44],[59,27,60,44],[51,45,52,45],[53,45,54,45],[55,45,56,45],[57,45,58,45],[51,27,52,44],[49,27,50,44],[31,45,32,45],[33,45,34,45],[35,45,36,45],[37,45,38,45],[39,45,40,45],[41,45,42,45],[19,45,20,45],[21,45,22,45],[23,45,24,45],[25,45,26,45],[27,45,28,45],[29,45,30,45],[23,0,24,0],[25,0,26,0],[27,0,28,0],[29,0,30,0],[31,0,32,0],[65,0,66,0],[67,0,68,0],[57,0,58,0],[59,0,60,0],[61,0,62,0],[63,0,64,0],[45,0,46,0],[47,0,48,0],[49,0,50,0],[51,0,52,0],[53,0,54,0],[55,0,56,0],[9,0,10,0],[11,0,12,0],[13,0,14,0],[15,0,16,0],[17,0,18,0],[19,0,20,0],[61,19,62,19],[61,20,62,20],[59,19,60,19],[59,20,60,20],[41,19,42,19],[41,20,42,20],[33,19,34,19],[33,20,34,20],[25,19,26,19],[25,20,26,20],[11,20,12,20],[33,0,34,0],[35,0,36,0],[37,0,38,0],[39,0,40,0],[41,0,42,0],[43,0,44,0],[21,0,22,0],[53,25,54,25],[53,26,54,26],[57,19,58,19],[57,20,58,20],[53,21,54,21],[53,22,54,22],[55,19,56,19],[55,20,56,20],[53,19,54,19],[53,20,54,20],[57,21,58,21],[57,22,58,22],[57,23,58,23],[57,24,58,24],[53,23,54,23],[53,24,54,24],[55,21,56,21],[55,22,56,22],[51,19,52,19],[51,20,52,20],[49,19,50,19],[49,20,50,20],[45,19,46,19],[45,20,46,20],[43,19,44,19],[43,20,44,20],[47,19,48,19],[47,20,48,20],[39,19,40,19],[39,20,40,20],[37,19,38,19],[37,20,38,20],[39,21,40,21],[39,22,40,22],[35,19,36,19],[35,20,36,20],[47,21,48,21],[47,22,48,22],[27,26,28,26],[27,22,28,22],[29,22,30,22],[29,23,30,23],[29,24,30,24],[27,23,28,23],[27,24,28,24],[37,21,38,21],[37,22,38,22],[29,26,30,26],[31,23,32,23],[31,24,32,24],[37,23,38,23],[37,24,38,24],[35,21,36,21],[35,22,36,22],[35,23,36,23],[35,24,36,24],[33,25,34,25],[33,26,34,26],[35,25,36,25],[35,26,36,26],[37,26,38,26],[31,26,32,26],[23,19,24,19],[23,20,24,20],[21,19,22,19],[21,20,22,20],[25,21,26,21],[25,22,26,22],[19,25,20,25],[25,25,26,25],[37,25,38,25],[33,21,34,21],[33,22,34,22],[33,23,34,23],[33,24,34,24],[29,19,30,19],[29,20,30,20],[27,19,28,19],[27,20,28,20],[31,25,32,25],[31,19,32,19],[31,20,32,20],[31,21,32,21],[31,22,32,22],[27,25,28,25],[29,25,30,25],[17,27,18,44],[21,23,22,23],[21,24,22,24],[21,25,22,25],[21,26,22,26],[19,23,20,23],[19,24,20,24],[17,23,18,23],[21,21,22,21],[21,22,22,22],[15,24,16,24],[15,25,16,25],[15,26,16,26],[17,24,18,24],[17,25,18,25],[17,26,18,26],[15,21,16,21],[15,22,16,22],[15,23,16,23],[11,23,12,23],[19,19,20,19],[19,20,20,20],[17,19,18,19],[17,20,18,20],[9,19,10,19],[15,19,16,19],[15,20,16,20],[13,19,14,19],[13,20,14,20],[9,20,10,20],[11,19,12,19],[9,22,10,22],[65,9,66,9],[65,10,66,10],[65,11,66,11],[65,14,66,14],[65,13,66,13],[65,12,66,12],[65,15,66,15],[65,16,66,16],[67,16,68,16],[67,9,68,9],[67,10,68,10],[67,11,68,11],[67,14,68,14],[67,13,68,13],[67,12,68,12],[67,15,68,15],[63,9,64,9],[63,10,64,10],[63,11,64,11],[63,14,64,14],[63,13,64,13],[63,12,64,12],[63,15,64,15],[63,16,64,16],[63,17,64,17],[61,9,62,9],[61,10,62,10],[61,11,62,11],[61,14,62,14],[61,13,62,13],[61,12,62,12],[61,15,62,15],[61,16,62,16],[61,17,62,17],[57,18,58,18],[59,9,60,9],[59,10,60,10],[59,11,60,11],[59,14,60,14],[59,13,60,13],[59,12,60,12],[59,15,60,15],[59,16,60,16],[59,17,60,17],[59,18,60,18],[57,9,58,9],[57,10,58,10],[57,11,58,11],[57,14,58,14],[57,13,58,13],[57,12,58,12],[57,15,58,15],[57,16,58,16],[57,17,58,17],[53,18,54,18],[55,9,56,9],[55,10,56,10],[55,11,56,11],[55,14,56,14],[55,13,56,13],[55,12,56,12],[55,15,56,15],[55,16,56,16],[55,17,56,17],[55,18,56,18],[53,9,54,9],[53,10,54,10],[53,11,54,11],[53,14,54,14],[53,13,54,13],[53,12,54,12],[53,15,54,15],[53,16,54,16],[53,17,54,17],[49,18,50,18],[51,9,52,9],[51,10,52,10],[51,11,52,11],[51,14,52,14],[51,13,52,13],[51,12,52,12],[51,15,52,15],[51,16,52,16],[51,17,52,17],[51,18,52,18],[49,9,50,9],[49,10,50,10],[49,11,50,11],[49,14,50,14],[49,13,50,13],[49,12,50,12],[49,15,50,15],[49,16,50,16],[49,17,50,17],[45,18,46,18],[47,9,48,9],[47,10,48,10],[47,11,48,11],[47,14,48,14],[47,13,48,13],[47,12,48,12],[47,15,48,15],[47,16,48,16],[47,17,48,17],[47,18,48,18],[45,9,46,9],[45,10,46,10],[45,11,46,11],[45,14,46,14],[45,13,46,13],[45,12,46,12],[45,15,46,15],[45,16,46,16],[45,17,46,17],[41,18,42,18],[43,9,44,9],[43,10,44,10],[43,11,44,11],[43,14,44,14],[43,13,44,13],[43,12,44,12],[43,15,44,15],[43,16,44,16],[43,17,44,17],[43,18,44,18],[41,9,42,9],[41,10,42,10],[41,11,42,11],[41,14,42,14],[41,13,42,13],[41,12,42,12],[41,15,42,15],[41,16,42,16],[41,17,42,17],[37,18,38,18],[39,9,40,9],[39,10,40,10],[39,11,40,11],[39,14,40,14],[39,13,40,13],[39,12,40,12],[39,15,40,15],[39,16,40,16],[39,17,40,17],[39,18,40,18],[37,9,38,9],[37,10,38,10],[37,11,38,11],[37,14,38,14],[37,13,38,13],[37,12,38,12],[37,15,38,15],[37,16,38,16],[37,17,38,17],[33,18,34,18],[35,9,36,9],[35,10,36,10],[35,11,36,11],[35,14,36,14],[35,13,36,13],[35,12,36,12],[35,15,36,15],[35,16,36,16],[35,17,36,17],[35,18,36,18],[33,9,34,9],[33,10,34,10],[33,11,34,11],[33,14,34,14],[33,13,34,13],[33,12,34,12],[33,15,34,15],[33,16,34,16],[33,17,34,17],[29,18,30,18],[31,9,32,9],[31,10,32,10],[31,11,32,11],[31,14,32,14],[31,13,32,13],[31,12,32,12],[31,15,32,15],[31,16,32,16],[31,17,32,17],[31,18,32,18],[29,9,30,9],[29,10,30,10],[29,11,30,11],[29,14,30,14],[29,13,30,13],[29,12,30,12],[29,15,30,15],[29,16,30,16],[29,17,30,17],[25,18,26,18],[27,9,28,9],[27,10,28,10],[27,11,28,11],[27,14,28,14],[27,13,28,13],[27,12,28,12],[27,15,28,15],[27,16,28,16],[27,17,28,17],[27,18,28,18],[25,9,26,9],[25,10,26,10],[25,11,26,11],[25,14,26,14],[25,13,26,13],[25,12,26,12],[25,15,26,15],[25,16,26,16],[25,17,26,17],[21,18,22,18],[23,9,24,9],[23,10,24,10],[23,11,24,11],[23,14,24,14],[23,13,24,13],[23,12,24,12],[23,15,24,15],[23,16,24,16],[23,17,24,17],[23,18,24,18],[21,9,22,9],[21,10,22,10],[21,11,22,11],[21,14,22,14],[21,13,22,13],[21,12,22,12],[21,15,22,15],[21,16,22,16],[21,17,22,17],[17,18,18,18],[19,9,20,9],[19,10,20,10],[19,11,20,11],[19,14,20,14],[19,13,20,13],[19,12,20,12],[19,15,20,15],[19,16,20,16],[19,17,20,17],[19,18,20,18],[17,9,18,9],[17,10,18,10],[17,11,18,11],[17,14,18,14],[17,13,18,13],[17,12,18,12],[17,15,18,15],[17,16,18,16],[17,17,18,17],[13,17,14,17],[13,18,14,18],[15,9,16,9],[15,10,16,10],[15,11,16,11],[15,14,16,14],[15,13,16,13],[15,12,16,12],[15,15,16,15],[15,16,16,16],[13,9,14,9],[13,10,14,10],[13,11,14,11],[13,14,14,14],[13,15,14,15],[13,16,14,16],[15,17,16,17],[15,18,16,18],[9,18,10,18],[11,9,12,9],[11,10,12,10],[11,11,12,11],[11,14,12,14],[11,15,12,15],[11,16,12,16],[11,17,12,17],[11,18,12,18],[9,9,10,9],[9,10,10,10],[9,11,10,11],[9,14,10,14],[67,5,68,5],[67,6,68,6],[67,7,68,7],[67,8,68,8],[65,5,66,5],[65,6,66,6],[65,7,66,7],[61,5,62,5],[61,6,62,6],[61,7,62,7],[61,8,62,8],[65,8,66,8],[63,5,64,5],[63,6,64,6],[63,7,64,7],[63,8,64,8],[57,5,58,5],[57,6,58,6],[57,7,58,7],[57,8,58,8],[59,5,60,5],[59,6,60,6],[59,7,60,7],[59,8,60,8],[53,5,54,5],[53,6,54,6],[53,7,54,7],[53,8,54,8],[55,5,56,5],[55,6,56,6],[55,7,56,7],[55,8,56,8],[49,5,50,5],[49,6,50,6],[49,7,50,7],[49,8,50,8],[51,5,52,5],[51,6,52,6],[51,7,52,7],[51,8,52,8],[45,5,46,5],[45,6,46,6],[45,7,46,7],[45,8,46,8],[47,5,48,5],[47,6,48,6],[47,7,48,7],[47,8,48,8],[41,5,42,5],[41,6,42,6],[41,7,42,7],[41,8,42,8],[43,5,44,5],[43,6,44,6],[43,7,44,7],[43,8,44,8],[37,5,38,5],[37,6,38,6],[37,7,38,7],[37,8,38,8],[39,5,40,5],[39,6,40,6],[39,7,40,7],[39,8,40,8],[33,5,34,5],[33,6,34,6],[33,7,34,7],[33,8,34,8],[35,5,36,5],[35,6,36,6],[35,7,36,7],[35,8,36,8],[29,5,30,5],[29,6,30,6],[29,7,30,7],[29,8,30,8],[31,5,32,5],[31,6,32,6],[31,7,32,7],[31,8,32,8],[25,5,26,5],[25,6,26,6],[25,7,26,7],[25,8,26,8],[27,5,28,5],[27,6,28,6],[27,7,28,7],[27,8,28,8],[21,5,22,5],[21,6,22,6],[21,7,22,7],[21,8,22,8],[23,5,24,5],[23,6,24,6],[23,7,24,7],[23,8,24,8],[17,5,18,5],[17,6,18,6],[17,7,18,7],[17,8,18,8],[19,5,20,5],[19,6,20,6],[19,7,20,7],[19,8,20,8],[13,5,14,5],[13,6,14,6],[13,7,14,7],[13,8,14,8],[15,5,16,5],[15,6,16,6],[15,7,16,7],[15,8,16,8],[9,7,10,7],[9,8,10,8],[11,5,12,5],[11,6,12,6],[11,7,12,7],[11,8,12,8],[9,5,10,5],[9,6,10,6],[13,4,14,4],[57,3,58,3],[55,3,56,3],[43,4,44,4],[41,4,42,4],[39,4,40,4],[37,4,38,4],[35,4,36,4],[33,4,34,4],[55,4,56,4],[53,4,54,4],[51,4,52,4],[49,4,50,4],[47,4,48,4],[45,4,46,4],[15,4,16,4],[19,3,20,3],[17,3,18,3],[15,3,16,3],[53,3,54,3],[67,3,68,3],[65,3,66,3],[63,3,64,3],[61,3,62,3],[43,3,44,3],[41,3,42,3],[39,3,40,3],[37,3,38,3],[51,3,52,3],[49,3,50,3],[47,3,48,3],[45,3,46,3],[67,4,68,4],[65,4,66,4],[63,4,64,4],[61,4,62,4],[59,4,60,4],[57,4,58,4],[59,3,60,3],[17,4,18,4],[27,3,28,3],[25,3,26,3],[23,3,24,3],[21,3,22,3],[35,3,36,3],[33,3,34,3],[31,3,32,3],[29,3,30,3],[31,4,32,4],[29,4,30,4],[17,2,18,2],[19,2,20,2],[21,2,22,2],[39,2,40,2],[9,2,10,2],[11,2,12,2],[13,2,14,2],[11,21,12,21],[9,13,10,13],[11,13,12,13],[13,13,14,13],[9,12,10,12],[11,12,12,12],[13,12,14,12],[13,3,14,3],[11,4,12,4],[9,4,10,4],[11,3,12,3],[9,3,10,3],[27,4,28,4],[25,4,26,4],[23,4,24,4],[21,4,22,4],[19,4,20,4],[67,2,68,2],[41,2,42,2],[43,2,44,2],[45,2,46,2],[31,2,32,2],[33,2,34,2],[35,2,36,2],[37,2,38,2],[55,2,56,2],[57,2,58,2],[67,1,68,1],[9,21,10,21],[55,1,56,1],[57,1,58,1],[59,1,60,1],[61,1,62,1],[47,1,48,1],[63,1,64,1],[51,1,52,1],[53,1,54,1],[39,1,40,1],[41,1,42,1],[43,1,44,1],[45,1,46,1],[49,1,50,1],[27,21,28,21],[29,21,30,21],[9,1,10,1],[11,1,12,1],[13,1,14,1],[15,1,16,1],[17,1,18,1],[19,1,20,1],[21,1,22,1],[11,24,12,24],[11,25,12,25],[35,1,36,1],[37,1,38,1],[23,1,24,1],[25,1,26,1],[27,1,28,1],[29,1,30,1],[65,1,66,1],[31,1,32,1],[33,1,34,1],[59,2,60,2],[61,2,62,2],[47,2,48,2],[49,2,50,2],[51,2,52,2],[53,2,54,2],[63,2,64,2],[65,2,66,2],[23,2,24,2],[25,2,26,2],[27,2,28,2],[29,2,30,2],[15,2,16,2],[25,26,26,26],[17,21,18,21],[17,22,18,22],[23,21,24,21],[23,22,24,22],[19,21,20,21],[19,22,20,22],[23,23,24,23],[23,24,24,24],[23,25,24,25],[23,26,24,26],[25,23,26,23],[25,24,26,24],[19,26,20,26],[39,25,40,25],[39,26,40,26],[41,23,42,23],[41,24,42,24],[41,25,42,25],[41,26,42,26],[39,23,40,23],[39,24,40,24],[43,21,44,21],[43,22,44,22],[41,21,42,21],[41,22,42,22],[43,25,44,25],[43,26,44,26],[43,23,44,23],[43,24,44,24],[45,25,46,25],[45,26,46,26],[45,21,46,21],[45,22,46,22],[45,23,46,23],[45,24,46,24],[51,25,52,25],[51,26,52,26],[49,25,50,25],[49,26,50,26],[47,25,48,25],[47,26,48,26],[47,23,48,23],[47,24,48,24],[49,23,50,23],[49,24,50,24],[49,21,50,21],[49,22,50,22],[51,21,52,21],[51,22,52,22],[51,23,52,23],[51,24,52,24],[59,23,60,23],[59,24,60,24],[65,21,66,21],[65,22,66,22],[65,23,66,23],[65,24,66,24],[59,25,60,25],[59,26,60,26],[55,23,56,23],[55,24,56,24],[55,25,56,25],[55,26,56,26],[57,25,58,25],[57,26,58,26],[59,21,60,21],[59,22,60,22],[63,25,64,25],[63,26,64,26],[63,21,64,21],[63,22,64,22],[61,25,62,25],[61,26,62,26],[63,23,64,23],[63,24,64,24],[71,15,71,20],[71,21,71,26],[65,25,66,25],[65,26,66,26],[67,21,68,21],[67,22,68,22],[67,23,68,23],[67,24,68,24],[67,25,68,25],[67,26,68,26],[67,19,68,19],[67,20,68,20],[65,19,66,19],[65,20,66,20],[65,17,66,17],[65,18,66,18],[61,21,62,21],[61,22,62,22],[61,23,62,23],[61,24,62,24],[61,18,62,18],[63,18,64,18],[67,17,68,17],[67,18,68,18],[63,19,64,19],[63,20,64,20],[23,27,24,44],[15,27,16,44],[13,27,14,44],[11,27,12,44],[21,27,22,44],[19,27,20,44],[9,27,10,44],[8,15,8,20],[8,21,8,26],[9,23,10,23],[9,24,10,24],[9,25,10,25],[9,26,10,26],[9,15,10,15],[9,16,10,16],[9,17,10,17],[11,26,12,26],[13,21,14,21],[13,22,14,22],[13,23,14,23],[13,24,14,24],[13,25,14,25],[13,26,14,26],[11,22,12,22]]}
[]
[]
[]
[null,null,null,null,"q",null,null,"w",null,null,"e",null,null,null,null,null,null,null,null,null,null,null,null,null,null,null,null,"r",null,null,"t",null,null,"y",null,null,"u"]
[]
[null,null,null,null,"○：教科，道徳，総合　　●：行事　　児：児童会　　ク：クラブ　　学：学級　　△：学裁"]
[null,null,null,null,{"$f":"CONCATENATE(年暦!V4,\"　　　予　定　表\")","v":"9　　　月　　　予　定　表"}]
[null,null,null,null,"○：教科，道徳，総合　　●：行事　　児：児童会　　ク：クラブ　　学：学級　　△：学裁"]
[null,null,null,null,"日","曜",1,2,3,4,5,6,"登校","給食","時数","授業時数確認",null,null,null,null,null,"誤入力確認",null,null,null,null,null,"行　事　等"]
[{"$f":"IF(AND(D10=0,O10<>0),1,IF(AND(D10<>0,O10=0),1,IF(O10>6,1,\"\")))","v":""},{"$f":"IF(SUM(V10:AA11)<>0,1,\"\")","v":""},{"$f":"IF(SUM(A10:B11)<>0,\"error\",\"\")","v":""},{"$f":"年暦!V5","v":1},1,{"$f":"年暦!V6","v":"火"},null,null,null,null,null,null,{"$f":"IF(D10=0,0,1)","v":1},{"$f":"IF(年暦!W6=\"\",\"\",年暦!W6)","v":"○"},{"$f":"年暦!W5","v":6},{"$f":"IF($O10=0,0,IF($O10>0,0,1))","v":0},{"$f":"IF($O10=0,0,IF($O10>1,0,1))","v":0},{"$f":"IF($O10=0,0,IF($O10>2,0,1))","v":0},{"$f":"IF($O10=0,0,IF($O10>3,0,1))","v":0},{"$f":"IF($O10=0,0,IF($O10>4,0,1))","v":0},{"$f":"IF($O10=0,0,IF($O10>5,0,1))","v":0},{"$f":"IF(AND(G10<>\"\",P10=1),2,0)","v":0},0,0,0,0,0,{"$f":"IF(年暦!X5=\"\",\"\",年暦!X5)","v":"発育測定（５・６年）"}]
[]
[{"$f":"IF(AND(D12=0,O12<>0),1,IF(AND(D12<>0,O12=0),1,IF(O12>6,1,\"\")))","v":""},{"$f":"IF(SUM(V12:AA13)<>0,1,\"\")","v":""},{"$f":"IF(SUM(A12:B13)<>0,\"error\",\"\")","v":""},{"$f":"年暦!V7","v":2},2,{"$f":"年暦!V8","v":"水"},null,null,null,null,null,null,{"$f":"IF(D12=0,0,1)","v":1},{"$f":"IF(年暦!W8=\"\",\"\",年暦!W8)","v":"○"},{"$f":"年暦!W7","v":5},{"$f":"IF($O12=0,0,IF($O12>0,0,1))","v":0},{"$f":"IF($O12=0,0,IF($O12>1,0,1))","v":0},{"$f":"IF($O12=0,0,IF($O12>2,0,1))","v":0},{"$f":"IF($O12=0,0,IF($O12>3,0,1))","v":0},{"$f":"IF($O12=0,0,IF($O12>4,0,1))","v":0},{"$f":"IF($O12=0,0,IF($O12>5,0,1))","v":1},{"$f":"IF(AND(G12<>\"\",P12=1),2,0)","v":0},0,0,0,0,0,{"$f":"IF(年暦!X7=\"\",\"\",年暦!X7)","v":"避難訓練②　引渡し訓練"}]
[]
[{"$f":"IF(AND(D14=0,O14<>0),1,IF(AND(D14<>0,O14=0),1,IF(O14>6,1,\"\")))","v":""},{"$f":"IF(SUM(V14:AA15)<>0,1,\"\")","v":""},{"$f":"IF(SUM(A14:B15)<>0,\"error\",\"\")","v":""},{"$f":"年暦!V9","v":3},3,{"$f":"年暦!V10","v":"木"},null,null,null,null,null,null,{"$f":"IF(D14=0,0,1)","v":1},{"$f":"IF(年暦!W10=\"\",\"\",年暦!W10)","v":"○"},{"$f":"年暦!W9","v":6},{"$f":"IF($O14=0,0,IF($O14>0,0,1))","v":0},{"$f":"IF($O14=0,0,IF($O14>1,0,1))","v":0},{"$f":"IF($O14=0,0,IF($O14>2,0,1))","v":0},{"$f":"IF($O14=0,0,IF($O14>3,0,1))","v":0},{"$f":"IF($O14=0,0,IF($O14>4,0,1))","v":0},{"$f":"IF($O14=0,0,IF($O14>5,0,1))","v":0},{"$f":"IF(AND(G14<>\"\",P14=1),2,0)","v":0},0,0,0,0,0,{"$f":"IF(年暦!X9=\"\",\"\",年暦!X9)","v":"発育測定（３・４年）"}]
[]
[{"$f":"IF(AND(D16=0,O16<>0),1,IF(AND(D16<>0,O16=0),1,IF(O16>6,1,\"\")))","v":""},{"$f":"IF(SUM(V16:AA17)<>0,1,\"\")","v":""},{"$f":"IF(SUM(A16:B17)<>0,\"error\",\"\")","v":""},{"$f":"年暦!V11","v":4},4,{"$f":"年暦!V12","v":"金"},null,null,null,null,null,null,{"$f":"IF(D16=0,0,1)","v":1},{"$f":"IF(年暦!W12=\"\",\"\",年暦!W12)","v":"○"},{"$f":"年暦!W11","v":6},{"$f":"IF($O16=0,0,IF($O16>0,0,1))","v":0},{"$f":"IF($O16=0,0,IF($O16>1,0,1))","v":0},{"$f":"IF($O16=0,0,IF($O16>2,0,1))","v":0},{"$f":"IF($O16=0,0,IF($O16>3,0,1))","v":0},{"$f":"IF($O16=0,0,IF($O16>4,0,1))","v":0},{"$f":"IF($O16=0,0,IF($O16>5,0,1))","v":0},{"$f":"IF(AND(G16<>\"\",P16=1),2,0)","v":0},0,0,0,0,0,{"$f":"IF(年暦!X11=\"\",\"\",年暦!X11)","v":"発育測定（１・２年）\n（中　教育課程）"}]
[]
[{"$f":"IF(AND(D18=0,O18<>0),1,IF(AND(D18<>0,O18=0),1,IF(O18>6,1,\"\")))","v":""},{"$f":"IF(SUM(V18:AA19)<>0,1,\"\")","v":""},{"$f":"IF(SUM(A18:B19)<>0,\"error\",\"\")","v":""},{"$f":"年暦!V13","v":0},5,{"$f":"年暦!V14","v":"土"},null,null,null,null,null,null,{"$f":"IF(D18=0,0,1)","v":0},{"$f":"IF(年暦!W14=\"\",\"\",年暦!W14)","v":""},{"$f":"年暦!W13","v":0},{"$f":"IF($O18=0,0,IF($O18>0,0,1))","v":0},{"$f":"IF($O18=0,0,IF($O18>1,0,1))","v":0},{"$f":"IF($O18=0,0,IF($O18>2,0,1))","v":0},{"$f":"IF($O18=0,0,IF($O18>3,0,1))","v":0},{"$f":"IF($O18=0,0,IF($O18>4,0,1))","v":0},{"$f":"IF($O18=0,0,IF($O18>5,0,1))","v":0},{"$f":"IF(AND(G18<>\"\",P18=1),2,0)","v":0},0,0,0,0,0,{"$f":"IF(年暦!X13=\"\",\"\",年暦!X13)","v":""}]
[]
[{"$f":"IF(AND(D20=0,O20<>0),1,IF(AND(D20<>0,O20=0),1,IF(O20>6,1,\"\")))","v":""},{"$f":"IF(SUM(V20:AA21)<>0,1,\"\")","v":""},{"$f":"IF(SUM(A20:B21)<>0,\"error\",\"\")","v":""},{"$f":"年暦!V15","v":0},6,{"$f":"年暦!V16","v":"日"},null,null,null,null,null,null,{"$f":"IF(D20=0,0,1)","v":0},{"$f":"IF(年暦!W16=\"\",\"\",年暦!W16)","v":""},{"$f":"年暦!W15","v":0},{"$f":"IF($O20=0,0,IF($O20>0,0,1))","v":0},{"$f":"IF($O20=0,0,IF($O20>1,0,1))","v":0},{"$f":"IF($O20=0,0,IF($O20>2,0,1))","v":0},{"$f":"IF($O20=0,0,IF($O20>3,0,1))","v":0},{"$f":"IF($O20=0,0,IF($O20>4,0,1))","v":0},{"$f":"IF($O20=0,0,IF($O20>5,0,1))","v":0},{"$f":"IF(AND(G20<>\"\",P20=1),2,0)","v":0},0,0,0,0,0,{"$f":"IF(年暦!X15=\"\",\"\",年暦!X15)","v":"ＰＴＡ作業\n東京パラリンピック閉会式"}]
[]
[{"$f":"IF(AND(D22=0,O22<>0),1,IF(AND(D22<>0,O22=0),1,IF(O22>6,1,\"\")))","v":""},{"$f":"IF(SUM(V22:AA23)<>0,1,\"\")","v":""},{"$f":"IF(SUM(A22:B23)<>0,\"error\",\"\")","v":""},{"$f":"年暦!V17","v":7},7,{"$f":"年暦!V18","v":"月"},null,null,null,null,null,null,{"$f":"IF(D22=0,0,1)","v":1},{"$f":"IF(年暦!W18=\"\",\"\",年暦!W18)","v":"○"},{"$f":"年暦!W17","v":6},{"$f":"IF($O22=0,0,IF($O22>0,0,1))","v":0},{"$f":"IF($O22=0,0,IF($O22>1,0,1))","v":0},{"$f":"IF($O22=0,0,IF($O22>2,0,1))","v":0},{"$f":"IF($O22=0,0,IF($O22>3,0,1))","v":0},{"$f":"IF($O22=0,0,IF($O22>4,0,1))","v":0},{"$f":"IF($O22=0,0,IF($O22>5,0,1))","v":0},{"$f":"IF(AND(G22<>\"\",P22=1),2,0)","v":0},0,0,0,0,0,{"$f":"IF(年暦!X17=\"\",\"\",年暦!X17)","v":"運動会特別時間割開始"}]
[]
[{"$f":"IF(AND(D24=0,O24<>0),1,IF(AND(D24<>0,O24=0),1,IF(O24>6,1,\"\")))","v":""},{"$f":"IF(SUM(V24:AA25)<>0,1,\"\")","v":""},{"$f":"IF(SUM(A24:B25)<>0,\"error\",\"\")","v":""},{"$f":"年暦!V19","v":8},8,{"$f":"年暦!V20","v":"火"},null,null,null,null,null,null,{"$f":"IF(D24=0,0,1)","v":1},{"$f":"IF(年暦!W20=\"\",\"\",年暦!W20)","v":"○"},{"$f":"年暦!W19","v":6},{"$f":"IF($O24=0,0,IF($O24>0,0,1))","v":0},{"$f":"IF($O24=0,0,IF($O24>1,0,1))","v":0},{"$f":"IF($O24=0,0,IF($O24>2,0,1))","v":0},{"$f":"IF($O24=0,0,IF($O24>3,0,1))","v":0},{"$f":"IF($O24=0,0,IF($O24>4,0,1))","v":0},{"$f":"IF($O24=0,0,IF($O24>5,0,1))","v":0},{"$f":"IF(AND(G24<>\"\",P24=1),2,0)","v":0},0,0,0,0,0,{"$f":"IF(年暦!X19=\"\",\"\",年暦!X19)","v":""}]
[]
[{"$f":"IF(AND(D26=0,O26<>0),1,IF(AND(D26<>0,O26=0),1,IF(O26>6,1,\"\")))","v":""},{"$f":"IF(SUM(V26:AA27)<>0,1,\"\")","v":""},{"$f":"IF(SUM(A26:B27)<>0,\"error\",\"\")","v":""},{"$f":"年暦!V21","v":9},9,{"$f":"年暦!V22","v":"水"},null,null,null,null,null,null,{"$f":"IF(D26=0,0,1)","v":1},{"$f":"IF(年暦!W22=\"\",\"\",年暦!W22)","v":"○"},{"$f":"年暦!W21","v":5},{"$f":"IF($O26=0,0,IF($O26>0,0,1))","v":0},{"$f":"IF($O26=0,0,IF($O26>1,0,1))","v":0},{"$f":"IF($O26=0,0,IF($O26>2,0,1))","v":0},{"$f":"IF($O26=0,0,IF($O26>3,0,1))","v":0},{"$f":"IF($O26=0,0,IF($O26>4,0,1))","v":0},{"$f":"IF($O26=0,0,IF($O26>5,0,1))","v":1},{"$f":"IF(AND(G26<>\"\",P26=1),2,0)","v":0},0,0,0,0,0,{"$f":"IF(年暦!X21=\"\",\"\",年暦!X21)","v":""}]
[]
[{"$f":"IF(AND(D28=0,O28<>0),1,IF(AND(D28<>0,O28=0),1,IF(O28>6,1,\"\")))","v":""},{"$f":"IF(SUM(V28:AA29)<>0,1,\"\")","v":""},{"$f":"IF(SUM(A28:B29)<>0,\"error\",\"\")","v":""},{"$f":"年暦!V23","v":10},10,{"$f":"年暦!V24","v":"木"},null,null,null,null,null,null,{"$f":"IF(D28=0,0,1)","v":1},{"$f":"IF(年暦!W24=\"\",\"\",年暦!W24)","v":"○"},{"$f":"年暦!W23","v":6},{"$f":"IF($O28=0,0,IF($O28>0,0,1))","v":0},{"$f":"IF($O28=0,0,IF($O28>1,0,1))","v":0},{"$f":"IF($O28=0,0,IF($O28>2,0,1))","v":0},{"$f":"IF($O28=0,0,IF($O28>3,0,1))","v":0},{"$f":"IF($O28=0,0,IF($O28>4,0,1))","v":0},{"$f":"IF($O28=0,0,IF($O28>5,0,1))","v":0},{"$f":"IF(AND(G28<>\"\",P28=1),2,0)","v":0},0,0,0,0,0,{"$f":"IF(年暦!X23=\"\",\"\",年暦!X23)","v":""}]
[]
[{"$f":"IF(AND(D30=0,O30<>0),1,IF(AND(D30<>0,O30=0),1,IF(O30>6,1,\"\")))","v":""},{"$f":"IF(SUM(V30:AA31)<>0,1,\"\")","v":""},{"$f":"IF(SUM(A30:B31)<>0,\"error\",\"\")","v":""},{"$f":"年暦!V25","v":11},11,{"$f":"年暦!V26","v":"金"},null,null,null,null,null,null,{"$f":"IF(D30=0,0,1)","v":1},{"$f":"IF(年暦!W26=\"\",\"\",年暦!W26)","v":"○"},{"$f":"年暦!W25","v":6},{"$f":"IF($O30=0,0,IF($O30>0,0,1))","v":0},{"$f":"IF($O30=0,0,IF($O30>1,0,1))","v":0},{"$f":"IF($O30=0,0,IF($O30>2,0,1))","v":0},{"$f":"IF($O30=0,0,IF($O30>3,0,1))","v":0},{"$f":"IF($O30=0,0,IF($O30>4,0,1))","v":0},{"$f":"IF($O30=0,0,IF($O30>5,0,1))","v":0},{"$f":"IF(AND(G30<>\"\",P30=1),2,0)","v":0},0,0,0,0,0,{"$f":"IF(年暦!X25=\"\",\"\",年暦!X25)","v":""}]
[]
[{"$f":"IF(AND(D32=0,O32<>0),1,IF(AND(D32<>0,O32=0),1,IF(O32>6,1,\"\")))","v":""},{"$f":"IF(SUM(V32:AA33)<>0,1,\"\")","v":""},{"$f":"IF(SUM(A32:B33)<>0,\"error\",\"\")","v":""},{"$f":"年暦!V27","v":0},12,{"$f":"年暦!V28","v":"土"},null,null,null,null,null,null,{"$f":"IF(D32=0,0,1)","v":0},{"$f":"IF(年暦!W28=\"\",\"\",年暦!W28)","v":""},{"$f":"年暦!W27","v":0},{"$f":"IF($O32=0,0,IF($O32>0,0,1))","v":0},{"$f":"IF($O32=0,0,IF($O32>1,0,1))","v":0},{"$f":"IF($O32=0,0,IF($O32>2,0,1))","v":0},{"$f":"IF($O32=0,0,IF($O32>3,0,1))","v":0},{"$f":"IF($O32=0,0,IF($O32>4,0,1))","v":0},{"$f":"IF($O32=0,0,IF($O32>5,0,1))","v":0},{"$f":"IF(AND(G32<>\"\",P32=1),2,0)","v":0},0,0,0,0,0,{"$f":"IF(年暦!X27=\"\",\"\",年暦!X27)","v":"ＰＴＡ作業予備日"}]
[]
[{"$f":"IF(AND(D34=0,O34<>0),1,IF(AND(D34<>0,O34=0),1,IF(O34>6,1,\"\")))","v":""},{"$f":"IF(SUM(V34:AA35)<>0,1,\"\")","v":""},{"$f":"IF(SUM(A34:B35)<>0,\"error\",\"\")","v":""},{"$f":"年暦!V29","v":0},13,{"$f":"年暦!V30","v":"日"},null,null,null,null,null,null,{"$f":"IF(D34=0,0,1)","v":0},{"$f":"IF(年暦!W30=\"\",\"\",年暦!W30)","v":""},{"$f":"年暦!W29","v":0},{"$f":"IF($O34=0,0,IF($O34>0,0,1))","v":0},{"$f":"IF($O34=0,0,IF($O34>1,0,1))","v":0},{"$f":"IF($O34=0,0,IF($O34>2,0,1))","v":0},{"$f":"IF($O34=0,0,IF($O34>3,0,1))","v":0},{"$f":"IF($O34=0,0,IF($O34>4,0,1))","v":0},{"$f":"IF($O34=0,0,IF($O34>5,0,1))","v":0},{"$f":"IF(AND(G34<>\"\",P34=1),2,0)","v":0},0,0,0,0,0,{"$f":"IF(年暦!X29=\"\",\"\",年暦!X29)","v":""}]
[]
[{"$f":"IF(AND(D36=0,O36<>0),1,IF(AND(D36<>0,O36=0),1,IF(O36>6,1,\"\")))","v":""},{"$f":"IF(SUM(V36:AA37)<>0,1,\"\")","v":""},{"$f":"IF(SUM(A36:B37)<>0,\"error\",\"\")","v":""},{"$f":"年暦!V31","v":14},14,{"$f":"年暦!V32","v":"月"},null,null,null,null,null,null,{"$f":"IF(D36=0,0,1)","v":1},{"$f":"IF(年暦!W32=\"\",\"\",年暦!W32)","v":"○"},{"$f":"年暦!W31","v":6},{"$f":"IF($O36=0,0,IF($O36>0,0,1))","v":0},{"$f":"IF($O36=0,0,IF($O36>1,0,1))","v":0},{"$f":"IF($O36=0,0,IF($O36>2,0,1))","v":0},{"$f":"IF($O36=0,0,IF($O36>3,0,1))","v":0},{"$f":"IF($O36=0,0,IF($O36>4,0,1))","v":0},{"$f":"IF($O36=0,0,IF($O36>5,0,1))","v":0},{"$f":"IF(AND(G36<>\"\",P36=1),2,0)","v":0},0,0,0,0,0,{"$f":"IF(年暦!X31=\"\",\"\",年暦!X31)","v":""}]
[]
[{"$f":"IF(AND(D38=0,O38<>0),1,IF(AND(D38<>0,O38=0),1,IF(O38>6,1,\"\")))","v":""},{"$f":"IF(SUM(V38:AA39)<>0,1,\"\")","v":""},{"$f":"IF(SUM(A38:B39)<>0,\"error\",\"\")","v":""},{"$f":"年暦!V33","v":15},15,{"$f":"年暦!V34","v":"火"},null,null,null,null,null,null,{"$f":"IF(D38=0,0,1)","v":1},{"$f":"IF(年暦!W34=\"\",\"\",年暦!W34)","v":"○"},{"$f":"年暦!W33","v":6},{"$f":"IF($O38=0,0,IF($O38>0,0,1))","v":0},{"$f":"IF($O38=0,0,IF($O38>1,0,1))","v":0},{"$f":"IF($O38=0,0,IF($O38>2,0,1))","v":0},{"$f":"IF($O38=0,0,IF($O38>3,0,1))","v":0},{"$f":"IF($O38=0,0,IF($O38>4,0,1))","v":0},{"$f":"IF($O38=0,0,IF($O38>5,0,1))","v":0},{"$f":"IF(AND(G38<>\"\",P38=1),2,0)","v":0},0,0,0,0,0,{"$f":"IF(年暦!X33=\"\",\"\",年暦!X33)","v":""}]
[]
[{"$f":"IF(AND(D40=0,O40<>0),1,IF(AND(D40<>0,O40=0),1,IF(O40>6,1,\"\")))","v":""},{"$f":"IF(SUM(V40:AA41)<>0,1,\"\")","v":""},{"$f":"IF(SUM(A40:B41)<>0,\"error\",\"\")","v":""},{"$f":"年暦!V35","v":16},16,{"$f":"年暦!V36","v":"水"},null,null,null,null,null,null,{"$f":"IF(D40=0,0,1)","v":1},{"$f":"IF(年暦!W36=\"\",\"\",年暦!W36)","v":"○"},{"$f":"年暦!W35","v":5},{"$f":"IF($O40=0,0,IF($O40>0,0,1))","v":0},{"$f":"IF($O40=0,0,IF($O40>1,0,1))","v":0},{"$f":"IF($O40=0,0,IF($O40>2,0,1))","v":0},{"$f":"IF($O40=0,0,IF($O40>3,0,1))","v":0},{"$f":"IF($O40=0,0,IF($O40>4,0,1))","v":0},{"$f":"IF($O40=0,0,IF($O40>5,0,1))","v":1},{"$f":"IF(AND(G40<>\"\",P40=1),2,0)","v":0},0,0,0,0,0,{"$f":"IF(年暦!X35=\"\",\"\",年暦!X35)","v":""}]
[]
[{"$f":"IF(AND(D42=0,O42<>0),1,IF(AND(D42<>0,O42=0),1,IF(O42>6,1,\"\")))","v":""},{"$f":"IF(SUM(V42:AA43)<>0,1,\"\")","v":""},{"$f":"IF(SUM(A42:B43)<>0,\"error\",\"\")","v":""},{"$f":"年暦!V37","v":17},17,{"$f":"年暦!V38","v":"木"},null,null,null,null,null,null,{"$f":"IF(D42=0,0,1)","v":1},{"$f":"IF(年暦!W38=\"\",\"\",年暦!W38)","v":"○"},{"$f":"年暦!W37","v":6},{"$f":"IF($O42=0,0,IF($O42>0,0,1))","v":0},{"$f":"IF($O42=0,0,IF($O42>1,0,1))","v":0},{"$f":"IF($O42=0,0,IF($O42>2,0,1))","v":0},{"$f":"IF($O42=0,0,IF($O42>3,0,1))","v":0},{"$f":"IF($O42=0,0,IF($O42>4,0,1))","v":0},{"$f":"IF($O42=0,0,IF($O42>5,0,1))","v":0},{"$f":"IF(AND(G42<>\"\",P42=1),2,0)","v":0},0,0,0,0,0,{"$f":"IF(年暦!X37=\"\",\"\",年暦!X37)","v":""}]
[]
[{"$f":"IF(AND(D44=0,O44<>0),1,IF(AND(D44<>0,O44=0),1,IF(O44>6,1,\"\")))","v":""},{"$f":"IF(SUM(V44:AA45)<>0,1,\"\")","v":""},{"$f":"IF(SUM(A44:B45)<>0,\"error\",\"\")","v":""},{"$f":"年暦!V39","v":18},18,{"$f":"年暦!V40","v":"金"},null,null,null,null,null,null,{"$f":"IF(D44=0,0,1)","v":1},{"$f":"IF(年暦!W40=\"\",\"\",年暦!W40)","v":"○"},{"$f":"年暦!W39","v":6},{"$f":"IF($O44=0,0,IF($O44>0,0,1))","v":0},{"$f":"IF($O44=0,0,IF($O44>1,0,1))","v":0},{"$f":"IF($O44=0,0,IF($O44>2,0,1))","v":0},{"$f":"IF($O44=0,0,IF($O44>3,0,1))","v":0},{"$f":"IF($O44=0,0,IF($O44>4,0,1))","v":0},{"$f":"IF($O44=0,0,IF($O44>5,0,1))","v":0},{"$f":"IF(AND(G44<>\"\",P44=1),2,0)","v":0},0,0,0,0,0,{"$f":"IF(年暦!X39=\"\",\"\",年暦!X39)","v":""}]
[]
[{"$f":"IF(AND(D46=0,O46<>0),1,IF(AND(D46<>0,O46=0),1,IF(O46>6,1,\"\")))","v":""},{"$f":"IF(SUM(V46:AA47)<>0,1,\"\")","v":""},{"$f":"IF(SUM(A46:B47)<>0,\"error\",\"\")","v":""},{"$f":"年暦!V41","v":19},19,{"$f":"年暦!V42","v":"土"},null,null,null,null,null,null,{"$f":"IF(D46=0,0,1)","v":1},{"$f":"IF(年暦!W42=\"\",\"\",年暦!W42)","v":"×"},{"$f":"年暦!W41","v":4},{"$f":"IF($O46=0,0,IF($O46>0,0,1))","v":0},{"$f":"IF($O46=0,0,IF($O46>1,0,1))","v":0},{"$f":"IF($O46=0,0,IF($O46>2,0,1))","v":0},{"$f":"IF($O46=0,0,IF($O46>3,0,1))","v":0},{"$f":"IF($O46=0,0,IF($O46>4,0,1))","v":1},{"$f":"IF($O46=0,0,IF($O46>5,0,1))","v":1},{"$f":"IF(AND(G46<>\"\",P46=1),2,0)","v":0},0,0,0,0,0,{"$f":"IF(年暦!X41=\"\",\"\",年暦!X41)","v":"運動会"}]
[]
[{"$f":"IF(AND(D48=0,O48<>0),1,IF(AND(D48<>0,O48=0),1,IF(O48>6,1,\"\")))","v":""},{"$f":"IF(SUM(V48:AA49)<>0,1,\"\")","v":""},{"$f":"IF(SUM(A48:B49)<>0,\"error\",\"\")","v":""},{"$f":"年暦!V43","v":0},20,{"$f":"年暦!V44","v":"日"},null,null,null,null,null,null,{"$f":"IF(D48=0,0,1)","v":0},{"$f":"IF(年暦!W44=\"\",\"\",年暦!W44)","v":""},{"$f":"年暦!W43","v":0},{"$f":"IF($O48=0,0,IF($O48>0,0,1))","v":0},{"$f":"IF($O48=0,0,IF($O48>1,0,1))","v":0},{"$f":"IF($O48=0,0,IF($O48>2,0,1))","v":0},{"$f":"IF($O48=0,0,IF($O48>3,0,1))","v":0},{"$f":"IF($O48=0,0,IF($O48>4,0,1))","v":0},{"$f":"IF($O48=0,0,IF($O48>5,0,1))","v":0},{"$f":"IF(AND(G48<>\"\",P48=1),2,0)","v":0},0,0,0,0,0,{"$f":"IF(年暦!X43=\"\",\"\",年暦!X43)","v":""}]
[]
[{"$f":"IF(AND(D50=0,O50<>0),1,IF(AND(D50<>0,O50=0),1,IF(O50>6,1,\"\")))","v":""},{"$f":"IF(SUM(V50:AA51)<>0,1,\"\")","v":""},{"$f":"IF(SUM(A50:B51)<>0,\"error\",\"\")","v":""},{"$f":"年暦!V45","v":0},21,{"$f":"年暦!V46","v":"月"},null,null,null,null,null,null,{"$f":"IF(D50=0,0,1)","v":0},{"$f":"IF(年暦!W46=\"\",\"\",年暦!W46)","v":""},{"$f":"年暦!W45","v":0},{"$f":"IF($O50=0,0,IF($O50>0,0,1))","v":0},{"$f":"IF($O50=0,0,IF($O50>1,0,1))","v":0},{"$f":"IF($O50=0,0,IF($O50>2,0,1))","v":0},{"$f":"IF($O50=0,0,IF($O50>3,0,1))","v":0},{"$f":"IF($O50=0,0,IF($O50>4,0,1))","v":0},{"$f":"IF($O50=0,0,IF($O50>5,0,1))","v":0},{"$f":"IF(AND(G50<>\"\",P50=1),2,0)","v":0},0,0,0,0,0,{"$f":"IF(年暦!X45=\"\",\"\",年暦!X45)","v":"敬老の日"}]
[]
[{"$f":"IF(AND(D52=0,O52<>0),1,IF(AND(D52<>0,O52=0),1,IF(O52>6,1,\"\")))","v":""},{"$f":"IF(SUM(V52:AA53)<>0,1,\"\")","v":""},{"$f":"IF(SUM(A52:B53)<>0,\"error\",\"\")","v":""},{"$f":"年暦!V47","v":0},22,{"$f":"年暦!V48","v":"火"},null,null,null,null,null,null,{"$f":"IF(D52=0,0,1)","v":0},{"$f":"IF(年暦!W48=\"\",\"\",年暦!W48)","v":""},{"$f":"年暦!W47","v":0},{"$f":"IF($O52=0,0,IF($O52>0,0,1))","v":0},{"$f":"IF($O52=0,0,IF($O52>1,0,1))","v":0},{"$f":"IF($O52=0,0,IF($O52>2,0,1))","v":0},{"$f":"IF($O52=0,0,IF($O52>3,0,1))","v":0},{"$f":"IF($O52=0,0,IF($O52>4,0,1))","v":0},{"$f":"IF($O52=0,0,IF($O52>5,0,1))","v":0},{"$f":"IF(AND(G52<>\"\",P52=1),2,0)","v":0},0,0,0,0,0,{"$f":"IF(年暦!X47=\"\",\"\",年暦!X47)","v":"秋分の日"}]
[]
[{"$f":"IF(AND(D54=0,O54<>0),1,IF(AND(D54<>0,O54=0),1,IF(O54>6,1,\"\")))","v":""},{"$f":"IF(SUM(V54:AA55)<>0,1,\"\")","v":""},{"$f":"IF(SUM(A54:B55)<>0,\"error\",\"\")","v":""},{"$f":"年暦!V49","v":0},23,{"$f":"年暦!V50","v":"水"},null,null,null,null,null,null,{"$f":"IF(D54=0,0,1)","v":0},{"$f":"IF(年暦!W50=\"\",\"\",年暦!W50)","v":""},{"$f":"年暦!W49","v":0},{"$f":"IF($O54=0,0,IF($O54>0,0,1))","v":0},{"$f":"IF($O54=0,0,IF($O54>1,0,1))","v":0},{"$f":"IF($O54=0,0,IF($O54>2,0,1))","v":0},{"$f":"IF($O54=0,0,IF($O54>3,0,1))","v":0},{"$f":"IF($O54=0,0,IF($O54>4,0,1))","v":0},{"$f":"IF($O54=0,0,IF($O54>5,0,1))","v":0},{"$f":"IF(AND(G54<>\"\",P54=1),2,0)","v":0},0,0,0,0,0,{"$f":"IF(年暦!X49=\"\",\"\",年暦!X49)","v":"運動会振替休日"}]
[]
[{"$f":"IF(AND(D56=0,O56<>0),1,IF(AND(D56<>0,O56=0),1,IF(O56>6,1,\"\")))","v":""},{"$f":"IF(SUM(V56:AA57)<>0,1,\"\")","v":""},{"$f":"IF(SUM(A56:B57)<>0,\"error\",\"\")","v":""},{"$f":"年暦!V51","v":24},24,{"$f":"年暦!V52","v":"木"},null,null,null,null,null,null,{"$f":"IF(D56=0,0,1)","v":1},{"$f":"IF(年暦!W52=\"\",\"\",年暦!W52)","v":"○"},{"$f":"年暦!W51","v":6},{"$f":"IF($O56=0,0,IF($O56>0,0,1))","v":0},{"$f":"IF($O56=0,0,IF($O56>1,0,1))","v":0},{"$f":"IF($O56=0,0,IF($O56>2,0,1))","v":0},{"$f":"IF($O56=0,0,IF($O56>3,0,1))","v":0},{"$f":"IF($O56=0,0,IF($O56>4,0,1))","v":0},{"$f":"IF($O56=0,0,IF($O56>5,0,1))","v":0},{"$f":"IF(AND(G56<>\"\",P56=1),2,0)","v":0},0,0,0,0,0,{"$f":"IF(年暦!X51=\"\",\"\",年暦!X51)","v":"修学旅行保護者説明会"}]
[]
[{"$f":"IF(AND(D58=0,O58<>0),1,IF(AND(D58<>0,O58=0),1,IF(O58>6,1,\"\")))","v":""},{"$f":"IF(SUM(V58:AA59)<>0,1,\"\")","v":""},{"$f":"IF(SUM(A58:B59)<>0,\"error\",\"\")","v":""},{"$f":"年暦!V53","v":25},25,{"$f":"年暦!V54","v":"金"},null,null,null,null,null,null,{"$f":"IF(D58=0,0,1)","v":1},{"$f":"IF(年暦!W54=\"\",\"\",年暦!W54)","v":"○"},{"$f":"年暦!W53","v":6},{"$f":"IF($O58=0,0,IF($O58>0,0,1))","v":0},{"$f":"IF($O58=0,0,IF($O58>1,0,1))","v":0},{"$f":"IF($O58=0,0,IF($O58>2,0,1))","v":0},{"$f":"IF($O58=0,0,IF($O58>3,0,1))","v":0},{"$f":"IF($O58=0,0,IF($O58>4,0,1))","v":0},{"$f":"IF($O58=0,0,IF($O58>5,0,1))","v":0},{"$f":"IF(AND(G58<>\"\",P58=1),2,0)","v":0},0,0,0,0,0,{"$f":"IF(年暦!X53=\"\",\"\",年暦!X53)","v":"（聖南中学校文化祭①）"}]
[]
[{"$f":"IF(AND(D60=0,O60<>0),1,IF(AND(D60<>0,O60=0),1,IF(O60>6,1,\"\")))","v":""},{"$f":"IF(SUM(V60:AA61)<>0,1,\"\")","v":""},{"$f":"IF(SUM(A60:B61)<>0,\"error\",\"\")","v":""},{"$f":"年暦!V55","v":0},26,{"$f":"年暦!V56","v":"土"},null,null,null,null,null,null,{"$f":"IF(D60=0,0,1)","v":0},{"$f":"IF(年暦!W56=\"\",\"\",年暦!W56)","v":""},{"$f":"年暦!W55","v":0},{"$f":"IF($O60=0,0,IF($O60>0,0,1))","v":0},{"$f":"IF($O60=0,0,IF($O60>1,0,1))","v":0},{"$f":"IF($O60=0,0,IF($O60>2,0,1))","v":0},{"$f":"IF($O60=0,0,IF($O60>3,0,1))","v":0},{"$f":"IF($O60=0,0,IF($O60>4,0,1))","v":0},{"$f":"IF($O60=0,0,IF($O60>5,0,1))","v":0},{"$f":"IF(AND(G60<>\"\",P60=1),2,0)","v":0},0,0,0,0,0,{"$f":"IF(年暦!X55=\"\",\"\",年暦!X55)","v":"（聖南中学校文化祭②）"}]
[]
[{"$f":"IF(AND(D62=0,O62<>0),1,IF(AND(D62<>0,O62=0),1,IF(O62>6,1,\"\")))","v":""},{"$f":"IF(SUM(V62:AA63)<>0,1,\"\")","v":""},{"$f":"IF(SUM(A62:B63)<>0,\"error\",\"\")","v":""},{"$f":"年暦!V57","v":0},27,{"$f":"年暦!V58","v":"日"},null,null,null,null,null,null,{"$f":"IF(D62=0,0,1)","v":0},{"$f":"IF(年暦!W58=\"\",\"\",年暦!W58)","v":""},{"$f":"年暦!W57","v":0},{"$f":"IF($O62=0,0,IF($O62>0,0,1))","v":0},{"$f":"IF($O62=0,0,IF($O62>1,0,1))","v":0},{"$f":"IF($O62=0,0,IF($O62>2,0,1))","v":0},{"$f":"IF($O62=0,0,IF($O62>3,0,1))","v":0},{"$f":"IF($O62=0,0,IF($O62>4,0,1))","v":0},{"$f":"IF($O62=0,0,IF($O62>5,0,1))","v":0},{"$f":"IF(AND(G62<>\"\",P62=1),2,0)","v":0},0,0,0,0,0,{"$f":"IF(年暦!X57=\"\",\"\",年暦!X57)","v":""}]
[]
[{"$f":"IF(AND(D64=0,O64<>0),1,IF(AND(D64<>0,O64=0),1,IF(O64>6,1,\"\")))","v":""},{"$f":"IF(SUM(V64:AA65)<>0,1,\"\")","v":""},{"$f":"IF(SUM(A64:B65)<>0,\"error\",\"\")","v":""},{"$f":"年暦!V59","v":28},28,{"$f":"年暦!V60","v":"月"},null,null,null,null,null,null,{"$f":"IF(D64=0,0,1)","v":1},{"$f":"IF(年暦!W60=\"\",\"\",年暦!W60)","v":"○"},{"$f":"年暦!W59","v":6},{"$f":"IF($O64=0,0,IF($O64>0,0,1))","v":0},{"$f":"IF($O64=0,0,IF($O64>1,0,1))","v":0},{"$f":"IF($O64=0,0,IF($O64>2,0,1))","v":0},{"$f":"IF($O64=0,0,IF($O64>3,0,1))","v":0},{"$f":"IF($O64=0,0,IF($O64>4,0,1))","v":0},{"$f":"IF($O64=0,0,IF($O64>5,0,1))","v":0},{"$f":"IF(AND(G64<>\"\",P64=1),2,0)","v":0},0,0,0,0,0,{"$f":"IF(年暦!X59=\"\",\"\",年暦!X59)","v":""}]
[]
[{"$f":"IF(AND(D66=0,O66<>0),1,IF(AND(D66<>0,O66=0),1,IF(O66>6,1,\"\")))","v":""},{"$f":"IF(SUM(V66:AA67)<>0,1,\"\")","v":""},{"$f":"IF(SUM(A66:B67)<>0,\"error\",\"\")","v":""},{"$f":"年暦!V61","v":29},29,{"$f":"年暦!V62","v":"火"},null,null,null,null,null,null,{"$f":"IF(D66=0,0,1)","v":1},{"$f":"IF(年暦!W62=\"\",\"\",年暦!W62)","v":"○"},{"$f":"年暦!W61","v":6},{"$f":"IF($O66=0,0,IF($O66>0,0,1))","v":0},{"$f":"IF($O66=0,0,IF($O66>1,0,1))","v":0},{"$f":"IF($O66=0,0,IF($O66>2,0,1))","v":0},{"$f":"IF($O66=0,0,IF($O66>3,0,1))","v":0},{"$f":"IF($O66=0,0,IF($O66>4,0,1))","v":0},{"$f":"IF($O66=0,0,IF($O66>5,0,1))","v":0},{"$f":"IF(AND(G66<>\"\",P66=1),2,0)","v":0},0,0,0,0,0,{"$f":"IF(年暦!X61=\"\",\"\",年暦!X61)","v":""}]
[]
[{"$f":"IF(AND(D68=0,O68<>0),1,IF(AND(D68<>0,O68=0),1,IF(O68>6,1,\"\")))","v":""},{"$f":"IF(SUM(V68:AA69)<>0,1,\"\")","v":""},{"$f":"IF(SUM(A68:B69)<>0,\"error\",\"\")","v":""},{"$f":"年暦!V63","v":30},30,{"$f":"年暦!V64","v":"水"},null,null,null,null,null,null,{"$f":"IF(D68=0,0,1)","v":1},{"$f":"IF(年暦!W64=\"\",\"\",年暦!W64)","v":"○"},{"$f":"年暦!W63","v":5},{"$f":"IF($O68=0,0,IF($O68>0,0,1))","v":0},{"$f":"IF($O68=0,0,IF($O68>1,0,1))","v":0},{"$f":"IF($O68=0,0,IF($O68>2,0,1))","v":0},{"$f":"IF($O68=0,0,IF($O68>3,0,1))","v":0},{"$f":"IF($O68=0,0,IF($O68>4,0,1))","v":0},{"$f":"IF($O68=0,0,IF($O68>5,0,1))","v":1},{"$f":"IF(AND(G68<>\"\",P68=1),2,0)","v":0},0,0,0,0,0,{"$f":"IF(年暦!X63=\"\",\"\",年暦!X63)","v":""}]
[]
[]
[]
[null,null,null,null,"日","曜","○","●","児","ク","学","△","登校","給食","時数","授業時数確認",null,null,null,null,null,"誤入力確認",null,null,null,null,null,"行　事　等"]
[null,null,null,null,null,null,{"$f":"COUNTIF($G$10:$L$69,G72)","v":0},0,0,0,0,0,{"$f":"SUM(M10:M70)","v":20},{"$f":"COUNTIF(N10:N69,\"○\")","v":19},{"$f":"SUM(O10:O70)","v":114}]
[]
[null,null,null,null,null,null,null,"小計",null,null,"累計",null,null,null,null,null,null,null,null,null,null,null,null,null,null,null,null,null,null,null,"小計",null,null,"累計",null,null,null,null,null,"小計",null,null,"累計"]
[null,{"$f":"SUM(AE76,AE77,AE78,AN76,AN77,AN78)","v":0},{"$f":"IF(H77<>B76,\"error\",\"\")","v":"error"},null,"登校日数",null,null,{"$f":"M73","v":20},null,null,{"$f":"H76+'8'!K78:N78","v":101},null,null,null,null,null,null,null,null,null,null,null,null,null,null,null,null,"教科，道徳，総合",null,null,{"$f":"G73","v":0},null,null,{"$f":"AE76+'8'!AH78:AJ78","v":0},null,null,"クラブ",null,null,{"$f":"J73","v":0},null,null,{"$f":"AN76+'8'!AQ78:AS78","v":0}]
[null,null,null,null,"授業時数",null,null,{"$f":"O73","v":114},null,null,{"$f":"H77+'8'!K79:N79","v":567},null,null,null,null,null,null,null,null,null,null,null,null,null,null,null,null,"行事",null,null,{"$f":"H73","v":0},null,null,{"$f":"AE77+'8'!AH79:AJ79","v":2},null,null,"学級",null,null,{"$f":"K73","v":0},null,null,{"$f":"AN77+'8'!AQ79:AS79","v":1}]
[null,null,null,null,"給食日数",null,null,{"$f":"N73","v":19},null,null,{"$f":"H78+'8'!K80:N80","v":96},null,null,null,null,null,null,null,null,null,null,null,null,null,null,null,null,"児童会",null,null,{"$f":"I73","v":0},null,null,{"$f":"AE78+'8'!AH80:AJ80","v":0},null,null,"学校裁量",null,null,{"$f":"L73","v":0},null,null,{"$f":"AN78+'8'!AQ80:AS80","v":0}]

{"sheet":"10","index":6,"n_rows":80,"n_cols":43,"rows_kept":80,"cut":false,"hidden":false,"merged":[[69,25,70,25],[69,26,70,26],[69,27,70,44],[69,45,70,45],[69,19,70,19],[69,20,70,20],[69,21,70,21],[69,22,70,22],[69,23,70,23],[69,24,70,24],[69,13,70,13],[69,14,70,14],[69,15,70,15],[69,16,70,16],[69,17,70,17],[69,18,70,18],[69,7,70,7],[69,8,70,8],[69,9,70,9],[69,10,70,10],[69,11,70,11],[69,12,70,12],[21,27,22,44],[19,27,20,44],[23,27,24,44],[69,0,70,0],[69,1,70,1],[69,2,70,2],[69,3,70,3],[69,4,70,4],[69,5,70,5],[69,6,70,6],[67,23,68,23],[67,24,68,24],[67,25,68,25],[67,26,68,26],[45,26,46,26],[51,25,52,25],[51,26,52,26],[49,25,50,25],[49,26,50,26],[45,23,46,23],[45,24,46,24],[43,23,44,23],[43,24,44,24],[47,25,48,25],[9,26,10,26],[9,15,10,15],[9,16,10,16],[9,17,10,17],[15,27,16,44],[13,27,14,44],[11,27,12,44],[11,24,12,24],[11,25,12,25],[9,18,10,18],[9,27,10,44],[11,26,12,26],[13,21,14,21],[13,22,14,22],[13,23,14,23],[13,24,14,24],[13,25,14,25],[13,26,14,26],[11,22,12,22],[11,15,12,15],[11,16,12,16],[11,17,12,17],[11,18,12,18],[13,15,14,15],[8,15,8,20],[8,21,8,26],[9,23,10,23],[9,24,10,24],[9,25,10,25],[65,21,66,21],[65,22,66,22],[65,23,66,23],[65,24,66,24],[55,23,56,23],[55,24,56,24],[55,25,56,25],[55,26,56,26],[57,25,58,25],[57,26,58,26],[49,23,50,23],[49,24,50,24],[57,21,58,21],[57,22,58,22],[57,23,58,23],[57,24,58,24],[53,23,54,23],[53,24,54,24],[45,25,46,25],[73,15,73,20],[73,21,73,26],[65,25,66,25],[65,26,66,26],[67,21,68,21],[67,22,68,22],[61,25,62,25],[61,26,62,26],[59,21,60,21],[59,22,60,22],[61,21,62,21],[61,22,62,22],[61,23,62,23],[61,24,62,24],[59,23,60,23],[59,24,60,24],[59,25,60,25],[59,26,60,26],[59,15,60,15],[59,16,60,16],[59,17,60,17],[59,18,60,18],[61,15,62,15],[61,16,62,16],[43,25,44,25],[43,26,44,26],[43,21,44,21],[43,22,44,22],[41,21,42,21],[41,22,42,22],[45,21,46,21],[45,22,46,22],[41,23,42,23],[41,24,42,24],[41,25,42,25],[41,26,42,26],[25,21,26,21],[25,22,26,22],[39,21,40,21],[39,22,40,22],[39,23,40,23],[39,24,40,24],[33,25,34,25],[33,26,34,26],[35,25,36,25],[35,26,36,26],[39,25,40,25],[39,26,40,26],[37,23,38,23],[37,24,38,24],[33,21,34,21],[33,22,34,22],[33,23,34,23],[33,24,34,24],[35,21,36,21],[35,22,36,22],[35,23,36,23],[35,24,36,24],[39,1,40,1],[41,1,42,1],[43,1,44,1],[45,1,46,1],[49,1,50,1],[23,25,24,25],[23,26,24,26],[29,25,30,25],[29,26,30,26],[25,23,26,23],[25,24,26,24],[27,25,28,25],[27,26,28,26],[25,25,26,25],[25,26,26,26],[27,21,28,21],[27,22,28,22],[29,21,30,21],[29,22,30,22],[29,23,30,23],[29,24,30,24],[27,23,28,23],[27,24,28,24],[23,23,24,23],[65,1,66,1],[67,1,68,1],[9,21,10,21],[9,22,10,22],[55,1,56,1],[57,1,58,1],[59,1,60,1],[61,1,62,1],[23,1,24,1],[25,1,26,1],[27,1,28,1],[29,1,30,1],[31,1,32,1],[33,1,34,1],[63,2,64,2],[65,2,66,2],[67,2,68,2],[9,1,10,1],[11,1,12,1],[13,1,14,1],[15,1,16,1],[17,1,18,1],[47,1,48,1],[63,1,64,1],[19,1,20,1],[21,1,22,1],[51,2,52,2],[53,2,54,2],[55,2,56,2],[57,2,58,2],[59,2,60,2],[61,2,62,2],[39,2,40,2],[41,2,42,2],[43,2,44,2],[45,2,46,2],[47,2,48,2],[49,2,50,2],[27,2,28,2],[29,2,30,2],[31,2,32,2],[33,2,34,2],[35,2,36,2],[37,2,38,2],[35,1,36,1],[37,1,38,1],[51,1,52,1],[53,1,54,1],[13,2,14,2],[11,21,12,21],[9,13,10,13],[11,13,12,13],[13,13,14,13],[9,12,10,12],[11,12,12,12],[13,12,14,12],[11,4,12,4],[9,4,10,4],[11,3,12,3],[9,3,10,3],[9,2,10,2],[11,2,12,2],[13,4,14,4],[13,3,14,3],[9,10,10,10],[9,11,10,11],[9,14,10,14],[11,11,12,11],[11,14,12,14],[9,9,10,9],[13,18,14,18],[27,4,28,4],[25,4,26,4],[23,4,24,4],[21,4,22,4],[23,3,24,3],[21,3,22,3],[15,3,16,3],[15,2,16,2],[17,2,18,2],[19,2,20,2],[21,2,22,2],[23,2,24,2],[25,2,26,2],[19,4,20,4],[17,4,18,4],[15,4,16,4],[19,3,20,3],[17,3,18,3],[35,3,36,3],[33,3,34,3],[31,3,32,3],[29,3,30,3],[27,3,28,3],[25,3,26,3],[47,3,48,3],[45,3,46,3],[43,3,44,3],[41,3,42,3],[39,3,40,3],[37,3,38,3],[59,3,60,3],[57,3,58,3],[55,3,56,3],[53,3,54,3],[51,3,52,3],[49,3,50,3],[67,4,68,4],[65,4,66,4],[63,4,64,4],[61,4,62,4],[67,3,68,3],[65,3,66,3],[63,3,64,3],[61,3,62,3],[51,4,52,4],[49,4,50,4],[47,4,48,4],[45,4,46,4],[59,4,60,4],[57,4,58,4],[55,4,56,4],[53,4,54,4],[35,4,36,4],[33,4,34,4],[31,4,32,4],[29,4,30,4],[43,4,44,4],[41,4,42,4],[39,4,40,4],[37,4,38,4],[9,7,10,7],[9,8,10,8],[11,5,12,5],[11,6,12,6],[11,7,12,7],[11,8,12,8],[9,5,10,5],[9,6,10,6],[15,5,16,5],[15,6,16,6],[15,7,16,7],[15,8,16,8],[13,5,14,5],[13,6,14,6],[13,7,14,7],[13,8,14,8],[19,5,20,5],[19,6,20,6],[19,7,20,7],[19,8,20,8],[17,5,18,5],[17,6,18,6],[17,7,18,7],[17,8,18,8],[23,5,24,5],[23,6,24,6],[23,7,24,7],[23,8,24,8],[21,5,22,5],[21,6,22,6],[21,7,22,7],[21,8,22,8],[27,5,28,5],[27,6,28,6],[27,7,28,7],[27,8,28,8],[25,5,26,5],[25,6,26,6],[25,7,26,7],[25,8,26,8],[31,5,32,5],[31,6,32,6],[31,7,32,7],[31,8,32,8],[29,5,30,5],[29,6,30,6],[29,7,30,7],[29,8,30,8],[35,5,36,5],[35,6,36,6],[35,7,36,7],[35,8,36,8],[33,5,34,5],[33,6,34,6],[33,7,34,7],[33,8,34,8],[39,5,40,5],[39,6,40,6],[39,7,40,7],[39,8,40,8],[37,5,38,5],[37,6,38,6],[37,7,38,7],[37,8,38,8],[43,5,44,5],[43,6,44,6],[43,7,44,7],[43,8,44,8],[41,5,42,5],[41,6,42,6],[41,7,42,7],[41,8,42,8],[47,5,48,5],[47,6,48,6],[47,7,48,7],[47,8,48,8],[45,5,46,5],[45,6,46,6],[45,7,46,7],[45,8,46,8],[61,5,62,5],[61,6,62,6],[61,7,62,7],[61,8,62,8],[51,5,52,5],[51,6,52,6],[51,7,52,7],[51,8,52,8],[49,5,50,5],[49,6,50,6],[49,7,50,7],[49,8,50,8],[55,5,56,5],[55,6,56,6],[55,7,56,7],[55,8,56,8],[53,5,54,5],[53,6,54,6],[53,7,54,7],[53,8,54,8],[67,5,68,5],[67,6,68,6],[67,7,68,7],[67,8,68,8],[65,5,66,5],[65,6,66,6],[65,7,66,7],[11,9,12,9],[11,10,12,10],[59,9,60,9],[59,10,60,10],[59,5,60,5],[59,6,60,6],[59,7,60,7],[59,8,60,8],[57,5,58,5],[57,6,58,6],[57,7,58,7],[57,8,58,8],[65,8,66,8],[63,5,64,5],[63,6,64,6],[63,7,64,7],[63,8,64,8],[59,11,60,11],[59,14,60,14],[59,13,60,13],[59,12,60,12],[65,9,66,9],[65,10,66,10],[65,11,66,11],[13,16,14,16],[13,17,14,17],[13,9,14,9],[13,10,14,10],[13,11,14,11],[13,14,14,14],[15,15,16,15],[15,16,16,16],[15,17,16,17],[19,15,20,15],[19,16,20,16],[19,17,20,17],[23,15,24,15],[23,16,24,16],[23,17,24,17],[27,15,28,15],[27,16,28,16],[15,18,16,18],[15,9,16,9],[15,10,16,10],[15,11,16,11],[15,14,16,14],[15,13,16,13],[15,12,16,12],[17,15,18,15],[17,16,18,16],[17,17,18,17],[17,18,18,18],[17,9,18,9],[17,10,18,10],[17,11,18,11],[17,14,18,14],[17,13,18,13],[17,12,18,12],[19,18,20,18],[19,9,20,9],[19,10,20,10],[19,11,20,11],[19,14,20,14],[19,13,20,13],[19,12,20,12],[21,15,22,15],[21,16,22,16],[21,17,22,17],[21,18,22,18],[21,9,22,9],[21,10,22,10],[21,11,22,11],[21,14,22,14],[21,13,22,13],[21,12,22,12],[23,18,24,18],[23,9,24,9],[23,10,24,10],[23,11,24,11],[23,14,24,14],[23,13,24,13],[23,12,24,12],[25,15,26,15],[25,16,26,16],[25,17,26,17],[25,18,26,18],[25,9,26,9],[25,10,26,10],[25,11,26,11],[25,14,26,14],[25,13,26,13],[25,12,26,12],[27,17,28,17],[27,18,28,18],[27,9,28,9],[27,10,28,10],[27,11,28,11],[27,14,28,14],[27,13,28,13],[27,12,28,12],[29,15,30,15],[29,16,30,16],[29,17,30,17],[29,18,30,18],[29,9,30,9],[29,10,30,10],[29,11,30,11],[29,14,30,14],[29,13,30,13],[29,12,30,12],[31,15,32,15],[31,16,32,16],[31,17,32,17],[31,18,32,18],[31,9,32,9],[31,10,32,10],[31,11,32,11],[31,14,32,14],[31,13,32,13],[31,12,32,12],[33,15,34,15],[33,16,34,16],[33,17,34,17],[33,18,34,18],[33,9,34,9],[33,10,34,10],[33,11,34,11],[33,14,34,14],[33,13,34,13],[33,12,34,12],[35,15,36,15],[35,16,36,16],[35,17,36,17],[35,18,36,18],[35,9,36,9],[35,10,36,10],[35,11,36,11],[35,14,36,14],[35,13,36,13],[35,12,36,12],[37,15,38,15],[37,16,38,16],[37,17,38,17],[37,18,38,18],[37,9,38,9],[37,10,38,10],[37,11,38,11],[37,14,38,14],[37,13,38,13],[37,12,38,12],[39,15,40,15],[39,16,40,16],[39,17,40,17],[39,18,40,18],[39,9,40,9],[39,10,40,10],[39,11,40,11],[39,14,40,14],[39,13,40,13],[39,12,40,12],[41,15,42,15],[41,16,42,16],[41,17,42,17],[41,18,42,18],[41,9,42,9],[41,10,42,10],[41,11,42,11],[41,14,42,14],[41,13,42,13],[41,12,42,12],[43,15,44,15],[43,16,44,16],[43,17,44,17],[43,18,44,18],[43,9,44,9],[43,10,44,10],[43,11,44,11],[43,14,44,14],[43,13,44,13],[43,12,44,12],[45,15,46,15],[45,16,46,16],[45,17,46,17],[45,18,46,18],[45,9,46,9],[45,10,46,10],[45,11,46,11],[45,14,46,14],[45,13,46,13],[45,12,46,12],[47,15,48,15],[47,16,48,16],[47,17,48,17],[47,18,48,18],[47,9,48,9],[47,10,48,10],[47,11,48,11],[47,14,48,14],[47,13,48,13],[47,12,48,12],[49,15,50,15],[49,16,50,16],[49,17,50,17],[49,18,50,18],[49,9,50,9],[49,10,50,10],[49,11,50,11],[49,14,50,14],[49,13,50,13],[49,12,50,12],[51,15,52,15],[51,16,52,16],[51,17,52,17],[51,18,52,18],[51,9,52,9],[51,10,52,10],[51,11,52,11],[51,14,52,14],[51,13,52,13],[51,12,52,12],[53,15,54,15],[53,16,54,16],[53,17,54,17],[53,18,54,18],[53,9,54,9],[53,10,54,10],[53,11,54,11],[53,14,54,14],[53,13,54,13],[53,12,54,12],[55,15,56,15],[55,16,56,16],[55,17,56,17],[55,18,56,18],[55,9,56,9],[55,10,56,10],[55,11,56,11],[55,14,56,14],[55,13,56,13],[55,12,56,12],[57,15,58,15],[57,16,58,16],[57,17,58,17],[57,18,58,18],[57,9,58,9],[57,10,58,10],[57,11,58,11],[57,14,58,14],[57,13,58,13],[57,12,58,12],[61,17,62,17],[61,18,62,18],[61,9,62,9],[61,10,62,10],[61,11,62,11],[61,14,62,14],[61,13,62,13],[61,12,62,12],[63,15,64,15],[63,16,64,16],[63,17,64,17],[63,18,64,18],[63,9,64,9],[63,10,64,10],[63,11,64,11],[63,14,64,14],[63,13,64,13],[63,12,64,12],[65,14,66,14],[65,13,66,13],[65,12,66,12],[67,9,68,9],[67,10,68,10],[67,11,68,11],[67,14,68,14],[67,13,68,13],[67,12,68,12],[67,15,68,15],[67,16,68,16],[67,17,68,17],[67,18,68,18],[65,15,66,15],[65,16,66,16],[65,17,66,17],[65,18,66,18],[11,20,12,20],[29,19,30,19],[29,20,30,20],[27,19,28,19],[27,20,28,20],[25,19,26,19],[25,20,26,20],[33,19,34,19],[33,20,34,20],[45,19,46,19],[45,20,46,20],[43,19,44,19],[43,20,44,20],[41,19,42,19],[41,20,42,20],[49,19,50,19],[11,23,12,23],[9,19,10,19],[15,19,16,19],[15,20,16,20],[13,19,14,19],[13,20,14,20],[9,20,10,20],[11,19,12,19],[19,19,20,19],[19,20,20,20],[17,19,18,19],[17,20,18,20],[15,21,16,21],[15,22,16,22],[17,21,18,21],[17,22,18,22],[19,21,20,21],[19,22,20,22],[17,23,18,23],[15,24,16,24],[15,25,16,25],[15,26,16,26],[17,24,18,24],[17,25,18,25],[17,26,18,26],[15,23,16,23],[19,25,20,25],[19,26,20,26],[21,23,22,23],[21,24,22,24],[21,25,22,25],[21,26,22,26],[19,23,20,23],[21,21,22,21],[21,22,22,22],[23,19,24,19],[23,20,24,20],[21,19,22,19],[21,20,22,20],[23,21,24,21],[23,22,24,22],[19,24,20,24],[23,24,24,24],[39,19,40,19],[39,20,40,20],[37,19,38,19],[37,20,38,20],[35,19,36,19],[35,20,36,20],[37,25,38,25],[37,26,38,26],[37,21,38,21],[37,22,38,22],[49,20,50,20],[47,19,48,19],[47,20,48,20],[47,21,48,21],[47,22,48,22],[49,21,50,21],[49,22,50,22],[53,25,54,25],[53,26,54,26],[51,19,52,19],[51,20,52,20],[51,21,52,21],[51,22,52,22],[51,23,52,23],[51,24,52,24],[47,26,48,26],[47,23,48,23],[47,24,48,24],[67,19,68,19],[67,20,68,20],[65,19,66,19],[65,20,66,20],[57,19,58,19],[57,20,58,20],[53,21,54,21],[53,22,54,22],[55,19,56,19],[55,20,56,20],[53,19,54,19],[53,20,54,20],[55,21,56,21],[55,22,56,22],[63,25,64,25],[63,26,64,26],[63,19,64,19],[63,20,64,20],[63,21,64,21],[63,22,64,22],[17,0,18,0],[19,0,20,0],[21,0,22,0],[23,0,24,0],[49,0,50,0],[51,0,52,0],[53,0,54,0],[55,0,56,0],[41,0,42,0],[43,0,44,0],[45,0,46,0],[47,0,48,0],[63,23,64,23],[63,24,64,24],[61,19,62,19],[61,20,62,20],[59,19,60,19],[59,20,60,20],[9,0,10,0],[11,0,12,0],[13,0,14,0],[15,0,16,0],[33,0,34,0],[35,0,36,0],[37,0,38,0],[39,0,40,0],[25,0,26,0],[27,0,28,0],[29,0,30,0],[31,0,32,0],[65,0,66,0],[67,0,68,0],[57,0,58,0],[59,0,60,0],[61,0,62,0],[63,0,64,0],[27,45,28,45],[29,45,30,45],[31,45,32,45],[33,45,34,45],[43,27,44,44],[67,45,68,45],[59,45,60,45],[61,45,62,45],[63,45,64,45],[65,45,66,45],[51,45,52,45],[53,45,54,45],[55,45,56,45],[57,45,58,45],[53,27,54,44],[59,27,60,44],[51,27,52,44],[49,27,50,44],[19,45,20,45],[21,45,22,45],[23,45,24,45],[25,45,26,45],[43,45,44,45],[45,45,46,45],[47,45,48,45],[49,45,50,45],[35,45,36,45],[37,45,38,45],[39,45,40,45],[41,45,42,45],[47,27,48,44],[45,27,46,44],[67,27,68,44],[65,27,66,44],[63,27,64,44],[61,27,62,44],[57,27,58,44],[55,27,56,44],[35,27,36,44],[33,27,34,44],[31,27,32,44],[29,27,30,44],[27,27,28,44],[25,27,26,44],[6,4,6,44],[5,4,5,44],[3,36,3,37],[3,33,3,34],[3,30,3,31],[3,27,3,28],[3,10,3,11],[3,7,3,8],[3,4,3,5],[7,4,7,44],[31,25,32,25],[31,26,32,26],[31,19,32,19],[31,20,32,20],[31,21,32,21],[31,22,32,22],[31,23,32,23],[31,24,32,24],[17,27,18,44],[79,4,79,6],[78,4,78,6],[79,10,79,13],[78,10,78,13],[76,27,76,29],[76,10,76,13],[79,27,79,29],[78,27,78,29],[77,27,77,29],[76,4,76,6],[76,7,76,9],[79,7,79,9],[78,7,78,9],[77,7,77,9],[77,4,77,6],[77,10,77,13],[77,42,77,44],[79,39,79,41],[78,39,78,41],[77,39,77,41],[76,42,76,44],[76,39,76,41],[76,36,76,38],[8,27,8,44],[41,27,42,44],[39,27,40,44],[37,27,38,44],[79,33,79,35],[78,33,78,35],[77,33,77,35],[79,30,79,32],[78,30,78,32],[77,30,77,32],[79,42,79,44],[78,42,78,44],[79,36,79,38],[78,36,78,38],[77,36,77,38],[76,33,76,35],[76,30,76,32]]}
[]
[]
[]
[null,null,null,null,"q",null,null,"w",null,null,"e",null,null,null,null,null,null,null,null,null,null,null,null,null,null,null,null,"r",null,null,"t",null,null,"y",null,null,"u"]
[]
[null,null,null,null,"○：教科，道徳，総合　　●：行事　　児：児童会　　ク：クラブ　　学：学級　　△：学裁"]
[null,null,null,null,{"$f":"CONCATENATE(年暦!Z4,\"　　　予　定　表\")","v":"10　　　月　　　予　定　表"}]
[null,null,null,null,"○：教科，道徳，総合　　●：行事　　児：児童会　　ク：クラブ　　学：学級　　△：学裁"]
[null,null,null,null,"日","曜",1,2,3,4,5,6,"登校","給食","時数","授業時数確認",null,null,null,null,null,"誤入力確認",null,null,null,null,null,"行　事　等"]
[{"$f":"IF(AND(D10=0,O10<>0),1,IF(AND(D10<>0,O10=0),1,IF(O10>6,1,\"\")))","v":""},{"$f":"IF(SUM(V10:AA11)<>0,1,\"\")","v":""},{"$f":"IF(SUM(A10:B11)<>0,\"error\",\"\")","v":""},{"$f":"年暦!Z5","v":1},1,{"$f":"年暦!Z6","v":"木"},null,null,null,null,null,null,{"$f":"IF(D10=0,0,1)","v":1},{"$f":"IF(年暦!AA6=\"\",\"\",年暦!AA6)","v":"○"},{"$f":"年暦!AA5","v":6},{"$f":"IF($O10=0,0,IF($O10>0,0,1))","v":0},{"$f":"IF($O10=0,0,IF($O10>1,0,1))","v":0},{"$f":"IF($O10=0,0,IF($O10>2,0,1))","v":0},{"$f":"IF($O10=0,0,IF($O10>3,0,1))","v":0},{"$f":"IF($O10=0,0,IF($O10>4,0,1))","v":0},{"$f":"IF($O10=0,0,IF($O10>5,0,1))","v":0},{"$f":"IF(AND(G10<>\"\",P10=1),2,0)","v":0},0,0,0,0,0,{"$f":"IF(年暦!AB5=\"\",\"\",年暦!AB5)","v":""}]
[]
[{"$f":"IF(AND(D12=0,O12<>0),1,IF(AND(D12<>0,O12=0),1,IF(O12>6,1,\"\")))","v":""},{"$f":"IF(SUM(V12:AA13)<>0,1,\"\")","v":""},{"$f":"IF(SUM(A12:B13)<>0,\"error\",\"\")","v":""},{"$f":"年暦!Z7","v":0},2,{"$f":"年暦!Z8","v":"金"},null,null,null,null,null,null,{"$f":"IF(D12=0,0,1)","v":0},{"$f":"IF(年暦!AA8=\"\",\"\",年暦!AA8)","v":""},{"$f":"年暦!AA7","v":0},{"$f":"IF($O12=0,0,IF($O12>0,0,1))","v":0},{"$f":"IF($O12=0,0,IF($O12>1,0,1))","v":0},{"$f":"IF($O12=0,0,IF($O12>2,0,1))","v":0},{"$f":"IF($O12=0,0,IF($O12>3,0,1))","v":0},{"$f":"IF($O12=0,0,IF($O12>4,0,1))","v":0},{"$f":"IF($O12=0,0,IF($O12>5,0,1))","v":0},{"$f":"IF(AND(G12<>\"\",P12=1),2,0)","v":0},0,0,0,0,0,{"$f":"IF(年暦!AB7=\"\",\"\",年暦!AB7)","v":"小　教育課程研究協議会"}]
[]
[{"$f":"IF(AND(D14=0,O14<>0),1,IF(AND(D14<>0,O14=0),1,IF(O14>6,1,\"\")))","v":""},{"$f":"IF(SUM(V14:AA15)<>0,1,\"\")","v":""},{"$f":"IF(SUM(A14:B15)<>0,\"error\",\"\")","v":""},{"$f":"年暦!Z9","v":0},3,{"$f":"年暦!Z10","v":"土"},null,null,null,null,null,null,{"$f":"IF(D14=0,0,1)","v":0},{"$f":"IF(年暦!AA10=\"\",\"\",年暦!AA10)","v":""},{"$f":"年暦!AA9","v":0},{"$f":"IF($O14=0,0,IF($O14>0,0,1))","v":0},{"$f":"IF($O14=0,0,IF($O14>1,0,1))","v":0},{"$f":"IF($O14=0,0,IF($O14>2,0,1))","v":0},{"$f":"IF($O14=0,0,IF($O14>3,0,1))","v":0},{"$f":"IF($O14=0,0,IF($O14>4,0,1))","v":0},{"$f":"IF($O14=0,0,IF($O14>5,0,1))","v":0},{"$f":"IF(AND(G14<>\"\",P14=1),2,0)","v":0},0,0,0,0,0,{"$f":"IF(年暦!AB9=\"\",\"\",年暦!AB9)","v":""}]
[]
[{"$f":"IF(AND(D16=0,O16<>0),1,IF(AND(D16<>0,O16=0),1,IF(O16>6,1,\"\")))","v":""},{"$f":"IF(SUM(V16:AA17)<>0,1,\"\")","v":""},{"$f":"IF(SUM(A16:B17)<>0,\"error\",\"\")","v":""},{"$f":"年暦!Z11","v":0},4,{"$f":"年暦!Z12","v":"日"},null,null,null,null,null,null,{"$f":"IF(D16=0,0,1)","v":0},{"$f":"IF(年暦!AA12=\"\",\"\",年暦!AA12)","v":""},{"$f":"年暦!AA11","v":0},{"$f":"IF($O16=0,0,IF($O16>0,0,1))","v":0},{"$f":"IF($O16=0,0,IF($O16>1,0,1))","v":0},{"$f":"IF($O16=0,0,IF($O16>2,0,1))","v":0},{"$f":"IF($O16=0,0,IF($O16>3,0,1))","v":0},{"$f":"IF($O16=0,0,IF($O16>4,0,1))","v":0},{"$f":"IF($O16=0,0,IF($O16>5,0,1))","v":0},{"$f":"IF(AND(G16<>\"\",P16=1),2,0)","v":0},0,0,0,0,0,{"$f":"IF(年暦!AB11=\"\",\"\",年暦!AB11)","v":""}]
[]
[{"$f":"IF(AND(D18=0,O18<>0),1,IF(AND(D18<>0,O18=0),1,IF(O18>6,1,\"\")))","v":""},{"$f":"IF(SUM(V18:AA19)<>0,1,\"\")","v":""},{"$f":"IF(SUM(A18:B19)<>0,\"error\",\"\")","v":""},{"$f":"年暦!Z13","v":5},5,{"$f":"年暦!Z14","v":"月"},null,null,null,null,null,null,{"$f":"IF(D18=0,0,1)","v":1},{"$f":"IF(年暦!AA14=\"\",\"\",年暦!AA14)","v":"○"},{"$f":"年暦!AA13","v":6},{"$f":"IF($O18=0,0,IF($O18>0,0,1))","v":0},{"$f":"IF($O18=0,0,IF($O18>1,0,1))","v":0},{"$f":"IF($O18=0,0,IF($O18>2,0,1))","v":0},{"$f":"IF($O18=0,0,IF($O18>3,0,1))","v":0},{"$f":"IF($O18=0,0,IF($O18>4,0,1))","v":0},{"$f":"IF($O18=0,0,IF($O18>5,0,1))","v":0},{"$f":"IF(AND(G18<>\"\",P18=1),2,0)","v":0},0,0,0,0,0,{"$f":"IF(年暦!AB13=\"\",\"\",年暦!AB13)","v":"長野社会見学（４年）"}]
[]
[{"$f":"IF(AND(D20=0,O20<>0),1,IF(AND(D20<>0,O20=0),1,IF(O20>6,1,\"\")))","v":""},{"$f":"IF(SUM(V20:AA21)<>0,1,\"\")","v":""},{"$f":"IF(SUM(A20:B21)<>0,\"error\",\"\")","v":""},{"$f":"年暦!Z15","v":6},6,{"$f":"年暦!Z16","v":"火"},null,null,null,null,null,null,{"$f":"IF(D20=0,0,1)","v":1},{"$f":"IF(年暦!AA16=\"\",\"\",年暦!AA16)","v":"○"},{"$f":"年暦!AA15","v":6},{"$f":"IF($O20=0,0,IF($O20>0,0,1))","v":0},{"$f":"IF($O20=0,0,IF($O20>1,0,1))","v":0},{"$f":"IF($O20=0,0,IF($O20>2,0,1))","v":0},{"$f":"IF($O20=0,0,IF($O20>3,0,1))","v":0},{"$f":"IF($O20=0,0,IF($O20>4,0,1))","v":0},{"$f":"IF($O20=0,0,IF($O20>5,0,1))","v":0},{"$f":"IF(AND(G20<>\"\",P20=1),2,0)","v":0},0,0,0,0,0,{"$f":"IF(年暦!AB15=\"\",\"\",年暦!AB15)","v":"視力検査（３・４年）\n福祉交流学習（２年）②"}]
[]
[{"$f":"IF(AND(D22=0,O22<>0),1,IF(AND(D22<>0,O22=0),1,IF(O22>6,1,\"\")))","v":""},{"$f":"IF(SUM(V22:AA23)<>0,1,\"\")","v":""},{"$f":"IF(SUM(A22:B23)<>0,\"error\",\"\")","v":""},{"$f":"年暦!Z17","v":7},7,{"$f":"年暦!Z18","v":"水"},null,null,null,null,null,null,{"$f":"IF(D22=0,0,1)","v":1},{"$f":"IF(年暦!AA18=\"\",\"\",年暦!AA18)","v":"○"},{"$f":"年暦!AA17","v":5},{"$f":"IF($O22=0,0,IF($O22>0,0,1))","v":0},{"$f":"IF($O22=0,0,IF($O22>1,0,1))","v":0},{"$f":"IF($O22=0,0,IF($O22>2,0,1))","v":0},{"$f":"IF($O22=0,0,IF($O22>3,0,1))","v":0},{"$f":"IF($O22=0,0,IF($O22>4,0,1))","v":0},{"$f":"IF($O22=0,0,IF($O22>5,0,1))","v":1},{"$f":"IF(AND(G22<>\"\",P22=1),2,0)","v":0},0,0,0,0,0,{"$f":"IF(年暦!AB17=\"\",\"\",年暦!AB17)","v":"視力検査（１・２年）\n福祉交流学習（４年）②"}]
[]
[{"$f":"IF(AND(D24=0,O24<>0),1,IF(AND(D24<>0,O24=0),1,IF(O24>6,1,\"\")))","v":""},{"$f":"IF(SUM(V24:AA25)<>0,1,\"\")","v":""},{"$f":"IF(SUM(A24:B25)<>0,\"error\",\"\")","v":""},{"$f":"年暦!Z19","v":8},8,{"$f":"年暦!Z20","v":"木"},null,null,null,null,null,null,{"$f":"IF(D24=0,0,1)","v":1},{"$f":"IF(年暦!AA20=\"\",\"\",年暦!AA20)","v":"○"},{"$f":"年暦!AA19","v":6},{"$f":"IF($O24=0,0,IF($O24>0,0,1))","v":0},{"$f":"IF($O24=0,0,IF($O24>1,0,1))","v":0},{"$f":"IF($O24=0,0,IF($O24>2,0,1))","v":0},{"$f":"IF($O24=0,0,IF($O24>3,0,1))","v":0},{"$f":"IF($O24=0,0,IF($O24>4,0,1))","v":0},{"$f":"IF($O24=0,0,IF($O24>5,0,1))","v":0},{"$f":"IF(AND(G24<>\"\",P24=1),2,0)","v":0},0,0,0,0,0,{"$f":"IF(年暦!AB19=\"\",\"\",年暦!AB19)","v":"視力検査（５・６年）"}]
[]
[{"$f":"IF(AND(D26=0,O26<>0),1,IF(AND(D26<>0,O26=0),1,IF(O26>6,1,\"\")))","v":""},{"$f":"IF(SUM(V26:AA27)<>0,1,\"\")","v":""},{"$f":"IF(SUM(A26:B27)<>0,\"error\",\"\")","v":""},{"$f":"年暦!Z21","v":9},9,{"$f":"年暦!Z22","v":"金"},null,null,null,null,null,null,{"$f":"IF(D26=0,0,1)","v":1},{"$f":"IF(年暦!AA22=\"\",\"\",年暦!AA22)","v":"○"},{"$f":"年暦!AA21","v":6},{"$f":"IF($O26=0,0,IF($O26>0,0,1))","v":0},{"$f":"IF($O26=0,0,IF($O26>1,0,1))","v":0},{"$f":"IF($O26=0,0,IF($O26>2,0,1))","v":0},{"$f":"IF($O26=0,0,IF($O26>3,0,1))","v":0},{"$f":"IF($O26=0,0,IF($O26>4,0,1))","v":0},{"$f":"IF($O26=0,0,IF($O26>5,0,1))","v":0},{"$f":"IF(AND(G26<>\"\",P26=1),2,0)","v":0},0,0,0,0,0,{"$f":"IF(年暦!AB21=\"\",\"\",年暦!AB21)","v":"福祉交流学習（１年）②\n　　　〃　　　　　（３年）②"}]
[]
[{"$f":"IF(AND(D28=0,O28<>0),1,IF(AND(D28<>0,O28=0),1,IF(O28>6,1,\"\")))","v":""},{"$f":"IF(SUM(V28:AA29)<>0,1,\"\")","v":""},{"$f":"IF(SUM(A28:B29)<>0,\"error\",\"\")","v":""},{"$f":"年暦!Z23","v":0},10,{"$f":"年暦!Z24","v":"土"},null,null,null,null,null,null,{"$f":"IF(D28=0,0,1)","v":0},{"$f":"IF(年暦!AA24=\"\",\"\",年暦!AA24)","v":""},{"$f":"年暦!AA23","v":0},{"$f":"IF($O28=0,0,IF($O28>0,0,1))","v":0},{"$f":"IF($O28=0,0,IF($O28>1,0,1))","v":0},{"$f":"IF($O28=0,0,IF($O28>2,0,1))","v":0},{"$f":"IF($O28=0,0,IF($O28>3,0,1))","v":0},{"$f":"IF($O28=0,0,IF($O28>4,0,1))","v":0},{"$f":"IF($O28=0,0,IF($O28>5,0,1))","v":0},{"$f":"IF(AND(G28<>\"\",P28=1),2,0)","v":0},0,0,0,0,0,{"$f":"IF(年暦!AB23=\"\",\"\",年暦!AB23)","v":"信州スポーツＤＡＹ"}]
[]
[{"$f":"IF(AND(D30=0,O30<>0),1,IF(AND(D30<>0,O30=0),1,IF(O30>6,1,\"\")))","v":""},{"$f":"IF(SUM(V30:AA31)<>0,1,\"\")","v":""},{"$f":"IF(SUM(A30:B31)<>0,\"error\",\"\")","v":""},{"$f":"年暦!Z25","v":0},11,{"$f":"年暦!Z26","v":"日"},null,null,null,null,null,null,{"$f":"IF(D30=0,0,1)","v":0},{"$f":"IF(年暦!AA26=\"\",\"\",年暦!AA26)","v":""},{"$f":"年暦!AA25","v":0},{"$f":"IF($O30=0,0,IF($O30>0,0,1))","v":0},{"$f":"IF($O30=0,0,IF($O30>1,0,1))","v":0},{"$f":"IF($O30=0,0,IF($O30>2,0,1))","v":0},{"$f":"IF($O30=0,0,IF($O30>3,0,1))","v":0},{"$f":"IF($O30=0,0,IF($O30>4,0,1))","v":0},{"$f":"IF($O30=0,0,IF($O30>5,0,1))","v":0},{"$f":"IF(AND(G30<>\"\",P30=1),2,0)","v":0},0,0,0,0,0,{"$f":"IF(年暦!AB25=\"\",\"\",年暦!AB25)","v":"北部吹奏楽祭"}]
[]
[{"$f":"IF(AND(D32=0,O32<>0),1,IF(AND(D32<>0,O32=0),1,IF(O32>6,1,\"\")))","v":""},{"$f":"IF(SUM(V32:AA33)<>0,1,\"\")","v":""},{"$f":"IF(SUM(A32:B33)<>0,\"error\",\"\")","v":""},{"$f":"年暦!Z27","v":12},12,{"$f":"年暦!Z28","v":"月"},null,null,null,null,null,null,{"$f":"IF(D32=0,0,1)","v":1},{"$f":"IF(年暦!AA28=\"\",\"\",年暦!AA28)","v":"○"},{"$f":"年暦!AA27","v":6},{"$f":"IF($O32=0,0,IF($O32>0,0,1))","v":0},{"$f":"IF($O32=0,0,IF($O32>1,0,1))","v":0},{"$f":"IF($O32=0,0,IF($O32>2,0,1))","v":0},{"$f":"IF($O32=0,0,IF($O32>3,0,1))","v":0},{"$f":"IF($O32=0,0,IF($O32>4,0,1))","v":0},{"$f":"IF($O32=0,0,IF($O32>5,0,1))","v":0},{"$f":"IF(AND(G32<>\"\",P32=1),2,0)","v":0},0,0,0,0,0,{"$f":"IF(年暦!AB27=\"\",\"\",年暦!AB27)","v":""}]
[]
[{"$f":"IF(AND(D34=0,O34<>0),1,IF(AND(D34<>0,O34=0),1,IF(O34>6,1,\"\")))","v":""},{"$f":"IF(SUM(V34:AA35)<>0,1,\"\")","v":""},{"$f":"IF(SUM(A34:B35)<>0,\"error\",\"\")","v":""},{"$f":"年暦!Z29","v":13},13,{"$f":"年暦!Z30","v":"火"},null,null,null,null,null,null,{"$f":"IF(D34=0,0,1)","v":1},{"$f":"IF(年暦!AA30=\"\",\"\",年暦!AA30)","v":"○"},{"$f":"年暦!AA29","v":6},{"$f":"IF($O34=0,0,IF($O34>0,0,1))","v":0},{"$f":"IF($O34=0,0,IF($O34>1,0,1))","v":0},{"$f":"IF($O34=0,0,IF($O34>2,0,1))","v":0},{"$f":"IF($O34=0,0,IF($O34>3,0,1))","v":0},{"$f":"IF($O34=0,0,IF($O34>4,0,1))","v":0},{"$f":"IF($O34=0,0,IF($O34>5,0,1))","v":0},{"$f":"IF(AND(G34<>\"\",P34=1),2,0)","v":0},0,0,0,0,0,{"$f":"IF(年暦!AB29=\"\",\"\",年暦!AB29)","v":"検尿①\n修旅・持久走事前健診"}]
[]
[{"$f":"IF(AND(D36=0,O36<>0),1,IF(AND(D36<>0,O36=0),1,IF(O36>6,1,\"\")))","v":""},{"$f":"IF(SUM(V36:AA37)<>0,1,\"\")","v":""},{"$f":"IF(SUM(A36:B37)<>0,\"error\",\"\")","v":""},{"$f":"年暦!Z31","v":14},14,{"$f":"年暦!Z32","v":"水"},null,null,null,null,null,null,{"$f":"IF(D36=0,0,1)","v":1},{"$f":"IF(年暦!AA32=\"\",\"\",年暦!AA32)","v":"○"},{"$f":"年暦!AA31","v":4},{"$f":"IF($O36=0,0,IF($O36>0,0,1))","v":0},{"$f":"IF($O36=0,0,IF($O36>1,0,1))","v":0},{"$f":"IF($O36=0,0,IF($O36>2,0,1))","v":0},{"$f":"IF($O36=0,0,IF($O36>3,0,1))","v":0},{"$f":"IF($O36=0,0,IF($O36>4,0,1))","v":1},{"$f":"IF($O36=0,0,IF($O36>5,0,1))","v":1},{"$f":"IF(AND(G36<>\"\",P36=1),2,0)","v":0},0,0,0,0,0,{"$f":"IF(年暦!AB31=\"\",\"\",年暦!AB31)","v":"検尿②\n自主研修の日②"}]
[]
[{"$f":"IF(AND(D38=0,O38<>0),1,IF(AND(D38<>0,O38=0),1,IF(O38>6,1,\"\")))","v":""},{"$f":"IF(SUM(V38:AA39)<>0,1,\"\")","v":""},{"$f":"IF(SUM(A38:B39)<>0,\"error\",\"\")","v":""},{"$f":"年暦!Z33","v":15},15,{"$f":"年暦!Z34","v":"木"},null,null,null,null,null,null,{"$f":"IF(D38=0,0,1)","v":1},{"$f":"IF(年暦!AA34=\"\",\"\",年暦!AA34)","v":"○"},{"$f":"年暦!AA33","v":6},{"$f":"IF($O38=0,0,IF($O38>0,0,1))","v":0},{"$f":"IF($O38=0,0,IF($O38>1,0,1))","v":0},{"$f":"IF($O38=0,0,IF($O38>2,0,1))","v":0},{"$f":"IF($O38=0,0,IF($O38>3,0,1))","v":0},{"$f":"IF($O38=0,0,IF($O38>4,0,1))","v":0},{"$f":"IF($O38=0,0,IF($O38>5,0,1))","v":0},{"$f":"IF(AND(G38<>\"\",P38=1),2,0)","v":0},0,0,0,0,0,{"$f":"IF(年暦!AB33=\"\",\"\",年暦!AB33)","v":""}]
[]
[{"$f":"IF(AND(D40=0,O40<>0),1,IF(AND(D40<>0,O40=0),1,IF(O40>6,1,\"\")))","v":""},{"$f":"IF(SUM(V40:AA41)<>0,1,\"\")","v":""},{"$f":"IF(SUM(A40:B41)<>0,\"error\",\"\")","v":""},{"$f":"年暦!Z35","v":16},16,{"$f":"年暦!Z36","v":"金"},null,null,null,null,null,null,{"$f":"IF(D40=0,0,1)","v":1},{"$f":"IF(年暦!AA36=\"\",\"\",年暦!AA36)","v":"○"},{"$f":"年暦!AA35","v":4},{"$f":"IF($O40=0,0,IF($O40>0,0,1))","v":0},{"$f":"IF($O40=0,0,IF($O40>1,0,1))","v":0},{"$f":"IF($O40=0,0,IF($O40>2,0,1))","v":0},{"$f":"IF($O40=0,0,IF($O40>3,0,1))","v":0},{"$f":"IF($O40=0,0,IF($O40>4,0,1))","v":1},{"$f":"IF($O40=0,0,IF($O40>5,0,1))","v":1},{"$f":"IF(AND(G40<>\"\",P40=1),2,0)","v":0},0,0,0,0,0,{"$f":"IF(年暦!AB35=\"\",\"\",年暦!AB35)","v":"参観日③\n給食試食会（１年）\n学校保健委員会"}]
[]
[{"$f":"IF(AND(D42=0,O42<>0),1,IF(AND(D42<>0,O42=0),1,IF(O42>6,1,\"\")))","v":""},{"$f":"IF(SUM(V42:AA43)<>0,1,\"\")","v":""},{"$f":"IF(SUM(A42:B43)<>0,\"error\",\"\")","v":""},{"$f":"年暦!Z37","v":0},17,{"$f":"年暦!Z38","v":"土"},null,null,null,null,null,null,{"$f":"IF(D42=0,0,1)","v":0},{"$f":"IF(年暦!AA38=\"\",\"\",年暦!AA38)","v":""},{"$f":"年暦!AA37","v":0},{"$f":"IF($O42=0,0,IF($O42>0,0,1))","v":0},{"$f":"IF($O42=0,0,IF($O42>1,0,1))","v":0},{"$f":"IF($O42=0,0,IF($O42>2,0,1))","v":0},{"$f":"IF($O42=0,0,IF($O42>3,0,1))","v":0},{"$f":"IF($O42=0,0,IF($O42>4,0,1))","v":0},{"$f":"IF($O42=0,0,IF($O42>5,0,1))","v":0},{"$f":"IF(AND(G42<>\"\",P42=1),2,0)","v":0},0,0,0,0,0,{"$f":"IF(年暦!AB37=\"\",\"\",年暦!AB37)","v":"みどりの少年団交流集会"}]
[]
[{"$f":"IF(AND(D44=0,O44<>0),1,IF(AND(D44<>0,O44=0),1,IF(O44>6,1,\"\")))","v":""},{"$f":"IF(SUM(V44:AA45)<>0,1,\"\")","v":""},{"$f":"IF(SUM(A44:B45)<>0,\"error\",\"\")","v":""},{"$f":"年暦!Z39","v":0},18,{"$f":"年暦!Z40","v":"日"},null,null,null,null,null,null,{"$f":"IF(D44=0,0,1)","v":0},{"$f":"IF(年暦!AA40=\"\",\"\",年暦!AA40)","v":""},{"$f":"年暦!AA39","v":0},{"$f":"IF($O44=0,0,IF($O44>0,0,1))","v":0},{"$f":"IF($O44=0,0,IF($O44>1,0,1))","v":0},{"$f":"IF($O44=0,0,IF($O44>2,0,1))","v":0},{"$f":"IF($O44=0,0,IF($O44>3,0,1))","v":0},{"$f":"IF($O44=0,0,IF($O44>4,0,1))","v":0},{"$f":"IF($O44=0,0,IF($O44>5,0,1))","v":0},{"$f":"IF(AND(G44<>\"\",P44=1),2,0)","v":0},0,0,0,0,0,{"$f":"IF(年暦!AB39=\"\",\"\",年暦!AB39)","v":""}]
[]
[{"$f":"IF(AND(D46=0,O46<>0),1,IF(AND(D46<>0,O46=0),1,IF(O46>6,1,\"\")))","v":""},{"$f":"IF(SUM(V46:AA47)<>0,1,\"\")","v":""},{"$f":"IF(SUM(A46:B47)<>0,\"error\",\"\")","v":""},{"$f":"年暦!Z41","v":19},19,{"$f":"年暦!Z42","v":"月"},null,null,null,null,null,null,{"$f":"IF(D46=0,0,1)","v":1},{"$f":"IF(年暦!AA42=\"\",\"\",年暦!AA42)","v":"○"},{"$f":"年暦!AA41","v":6},{"$f":"IF($O46=0,0,IF($O46>0,0,1))","v":0},{"$f":"IF($O46=0,0,IF($O46>1,0,1))","v":0},{"$f":"IF($O46=0,0,IF($O46>2,0,1))","v":0},{"$f":"IF($O46=0,0,IF($O46>3,0,1))","v":0},{"$f":"IF($O46=0,0,IF($O46>4,0,1))","v":0},{"$f":"IF($O46=0,0,IF($O46>5,0,1))","v":0},{"$f":"IF(AND(G46<>\"\",P46=1),2,0)","v":0},0,0,0,0,0,{"$f":"IF(年暦!AB41=\"\",\"\",年暦!AB41)","v":""}]
[]
[{"$f":"IF(AND(D48=0,O48<>0),1,IF(AND(D48<>0,O48=0),1,IF(O48>6,1,\"\")))","v":""},{"$f":"IF(SUM(V48:AA49)<>0,1,\"\")","v":""},{"$f":"IF(SUM(A48:B49)<>0,\"error\",\"\")","v":""},{"$f":"年暦!Z43","v":20},20,{"$f":"年暦!Z44","v":"火"},null,null,null,null,null,null,{"$f":"IF(D48=0,0,1)","v":1},{"$f":"IF(年暦!AA44=\"\",\"\",年暦!AA44)","v":"○"},{"$f":"年暦!AA43","v":6},{"$f":"IF($O48=0,0,IF($O48>0,0,1))","v":0},{"$f":"IF($O48=0,0,IF($O48>1,0,1))","v":0},{"$f":"IF($O48=0,0,IF($O48>2,0,1))","v":0},{"$f":"IF($O48=0,0,IF($O48>3,0,1))","v":0},{"$f":"IF($O48=0,0,IF($O48>4,0,1))","v":0},{"$f":"IF($O48=0,0,IF($O48>5,0,1))","v":0},{"$f":"IF(AND(G48<>\"\",P48=1),2,0)","v":0},0,0,0,0,0,{"$f":"IF(年暦!AB43=\"\",\"\",年暦!AB43)","v":"乗り物遠足（２年）"}]
[]
[{"$f":"IF(AND(D50=0,O50<>0),1,IF(AND(D50<>0,O50=0),1,IF(O50>6,1,\"\")))","v":""},{"$f":"IF(SUM(V50:AA51)<>0,1,\"\")","v":""},{"$f":"IF(SUM(A50:B51)<>0,\"error\",\"\")","v":""},{"$f":"年暦!Z45","v":21},21,{"$f":"年暦!Z46","v":"水"},null,null,null,null,null,null,{"$f":"IF(D50=0,0,1)","v":1},{"$f":"IF(年暦!AA46=\"\",\"\",年暦!AA46)","v":"○"},{"$f":"年暦!AA45","v":5},{"$f":"IF($O50=0,0,IF($O50>0,0,1))","v":0},{"$f":"IF($O50=0,0,IF($O50>1,0,1))","v":0},{"$f":"IF($O50=0,0,IF($O50>2,0,1))","v":0},{"$f":"IF($O50=0,0,IF($O50>3,0,1))","v":0},{"$f":"IF($O50=0,0,IF($O50>4,0,1))","v":0},{"$f":"IF($O50=0,0,IF($O50>5,0,1))","v":1},{"$f":"IF(AND(G50<>\"\",P50=1),2,0)","v":0},0,0,0,0,0,{"$f":"IF(年暦!AB45=\"\",\"\",年暦!AB45)","v":"６年修学旅行①"}]
[]
[{"$f":"IF(AND(D52=0,O52<>0),1,IF(AND(D52<>0,O52=0),1,IF(O52>6,1,\"\")))","v":""},{"$f":"IF(SUM(V52:AA53)<>0,1,\"\")","v":""},{"$f":"IF(SUM(A52:B53)<>0,\"error\",\"\")","v":""},{"$f":"年暦!Z47","v":22},22,{"$f":"年暦!Z48","v":"木"},null,null,null,null,null,null,{"$f":"IF(D52=0,0,1)","v":1},{"$f":"IF(年暦!AA48=\"\",\"\",年暦!AA48)","v":"○"},{"$f":"年暦!AA47","v":6},{"$f":"IF($O52=0,0,IF($O52>0,0,1))","v":0},{"$f":"IF($O52=0,0,IF($O52>1,0,1))","v":0},{"$f":"IF($O52=0,0,IF($O52>2,0,1))","v":0},{"$f":"IF($O52=0,0,IF($O52>3,0,1))","v":0},{"$f":"IF($O52=0,0,IF($O52>4,0,1))","v":0},{"$f":"IF($O52=0,0,IF($O52>5,0,1))","v":0},{"$f":"IF(AND(G52<>\"\",P52=1),2,0)","v":0},0,0,0,0,0,{"$f":"IF(年暦!AB47=\"\",\"\",年暦!AB47)","v":"６年修学旅行②"}]
[]
[{"$f":"IF(AND(D54=0,O54<>0),1,IF(AND(D54<>0,O54=0),1,IF(O54>6,1,\"\")))","v":""},{"$f":"IF(SUM(V54:AA55)<>0,1,\"\")","v":""},{"$f":"IF(SUM(A54:B55)<>0,\"error\",\"\")","v":""},{"$f":"年暦!Z49","v":23},23,{"$f":"年暦!Z50","v":"金"},null,null,null,null,null,null,{"$f":"IF(D54=0,0,1)","v":1},{"$f":"IF(年暦!AA50=\"\",\"\",年暦!AA50)","v":"○"},{"$f":"年暦!AA49","v":6},{"$f":"IF($O54=0,0,IF($O54>0,0,1))","v":0},{"$f":"IF($O54=0,0,IF($O54>1,0,1))","v":0},{"$f":"IF($O54=0,0,IF($O54>2,0,1))","v":0},{"$f":"IF($O54=0,0,IF($O54>3,0,1))","v":0},{"$f":"IF($O54=0,0,IF($O54>4,0,1))","v":0},{"$f":"IF($O54=0,0,IF($O54>5,0,1))","v":0},{"$f":"IF(AND(G54<>\"\",P54=1),2,0)","v":0},0,0,0,0,0,{"$f":"IF(年暦!AB49=\"\",\"\",年暦!AB49)","v":"６年計画休業"}]
[]
[{"$f":"IF(AND(D56=0,O56<>0),1,IF(AND(D56<>0,O56=0),1,IF(O56>6,1,\"\")))","v":""},{"$f":"IF(SUM(V56:AA57)<>0,1,\"\")","v":""},{"$f":"IF(SUM(A56:B57)<>0,\"error\",\"\")","v":""},{"$f":"年暦!Z51","v":0},24,{"$f":"年暦!Z52","v":"土"},null,null,null,null,null,null,{"$f":"IF(D56=0,0,1)","v":0},{"$f":"IF(年暦!AA52=\"\",\"\",年暦!AA52)","v":""},{"$f":"年暦!AA51","v":0},{"$f":"IF($O56=0,0,IF($O56>0,0,1))","v":0},{"$f":"IF($O56=0,0,IF($O56>1,0,1))","v":0},{"$f":"IF($O56=0,0,IF($O56>2,0,1))","v":0},{"$f":"IF($O56=0,0,IF($O56>3,0,1))","v":0},{"$f":"IF($O56=0,0,IF($O56>4,0,1))","v":0},{"$f":"IF($O56=0,0,IF($O56>5,0,1))","v":0},{"$f":"IF(AND(G56<>\"\",P56=1),2,0)","v":0},0,0,0,0,0,{"$f":"IF(年暦!AB51=\"\",\"\",年暦!AB51)","v":""}]
[]
[{"$f":"IF(AND(D58=0,O58<>0),1,IF(AND(D58<>0,O58=0),1,IF(O58>6,1,\"\")))","v":""},{"$f":"IF(SUM(V58:AA59)<>0,1,\"\")","v":""},{"$f":"IF(SUM(A58:B59)<>0,\"error\",\"\")","v":""},{"$f":"年暦!Z53","v":0},25,{"$f":"年暦!Z54","v":"日"},null,null,null,null,null,null,{"$f":"IF(D58=0,0,1)","v":0},{"$f":"IF(年暦!AA54=\"\",\"\",年暦!AA54)","v":""},{"$f":"年暦!AA53","v":0},{"$f":"IF($O58=0,0,IF($O58>0,0,1))","v":0},{"$f":"IF($O58=0,0,IF($O58>1,0,1))","v":0},{"$f":"IF($O58=0,0,IF($O58>2,0,1))","v":0},{"$f":"IF($O58=0,0,IF($O58>3,0,1))","v":0},{"$f":"IF($O58=0,0,IF($O58>4,0,1))","v":0},{"$f":"IF($O58=0,0,IF($O58>5,0,1))","v":0},{"$f":"IF(AND(G58<>\"\",P58=1),2,0)","v":0},0,0,0,0,0,{"$f":"IF(年暦!AB53=\"\",\"\",年暦!AB53)","v":""}]
[]
[{"$f":"IF(AND(D60=0,O60<>0),1,IF(AND(D60<>0,O60=0),1,IF(O60>6,1,\"\")))","v":""},{"$f":"IF(SUM(V60:AA61)<>0,1,\"\")","v":""},{"$f":"IF(SUM(A60:B61)<>0,\"error\",\"\")","v":""},{"$f":"年暦!Z55","v":26},26,{"$f":"年暦!Z56","v":"月"},null,null,null,null,null,null,{"$f":"IF(D60=0,0,1)","v":1},{"$f":"IF(年暦!AA56=\"\",\"\",年暦!AA56)","v":"○"},{"$f":"年暦!AA55","v":6},{"$f":"IF($O60=0,0,IF($O60>0,0,1))","v":0},{"$f":"IF($O60=0,0,IF($O60>1,0,1))","v":0},{"$f":"IF($O60=0,0,IF($O60>2,0,1))","v":0},{"$f":"IF($O60=0,0,IF($O60>3,0,1))","v":0},{"$f":"IF($O60=0,0,IF($O60>4,0,1))","v":0},{"$f":"IF($O60=0,0,IF($O60>5,0,1))","v":0},{"$f":"IF(AND(G60<>\"\",P60=1),2,0)","v":0},0,0,0,0,0,{"$f":"IF(年暦!AB55=\"\",\"\",年暦!AB55)","v":"歯科指導"}]
[]
[{"$f":"IF(AND(D62=0,O62<>0),1,IF(AND(D62<>0,O62=0),1,IF(O62>6,1,\"\")))","v":""},{"$f":"IF(SUM(V62:AA63)<>0,1,\"\")","v":""},{"$f":"IF(SUM(A62:B63)<>0,\"error\",\"\")","v":""},{"$f":"年暦!Z57","v":27},27,{"$f":"年暦!Z58","v":"火"},null,null,null,null,null,null,{"$f":"IF(D62=0,0,1)","v":1},{"$f":"IF(年暦!AA58=\"\",\"\",年暦!AA58)","v":"○"},{"$f":"年暦!AA57","v":6},{"$f":"IF($O62=0,0,IF($O62>0,0,1))","v":0},{"$f":"IF($O62=0,0,IF($O62>1,0,1))","v":0},{"$f":"IF($O62=0,0,IF($O62>2,0,1))","v":0},{"$f":"IF($O62=0,0,IF($O62>3,0,1))","v":0},{"$f":"IF($O62=0,0,IF($O62>4,0,1))","v":0},{"$f":"IF($O62=0,0,IF($O62>5,0,1))","v":0},{"$f":"IF(AND(G62<>\"\",P62=1),2,0)","v":0},0,0,0,0,0,{"$f":"IF(年暦!AB57=\"\",\"\",年暦!AB57)","v":""}]
[]
[{"$f":"IF(AND(D64=0,O64<>0),1,IF(AND(D64<>0,O64=0),1,IF(O64>6,1,\"\")))","v":""},{"$f":"IF(SUM(V64:AA65)<>0,1,\"\")","v":""},{"$f":"IF(SUM(A64:B65)<>0,\"error\",\"\")","v":""},{"$f":"年暦!Z59","v":28},28,{"$f":"年暦!Z60","v":"水"},null,null,null,null,null,null,{"$f":"IF(D64=0,0,1)","v":1},{"$f":"IF(年暦!AA60=\"\",\"\",年暦!AA60)","v":"○"},{"$f":"年暦!AA59","v":5},{"$f":"IF($O64=0,0,IF($O64>0,0,1))","v":0},{"$f":"IF($O64=0,0,IF($O64>1,0,1))","v":0},{"$f":"IF($O64=0,0,IF($O64>2,0,1))","v":0},{"$f":"IF($O64=0,0,IF($O64>3,0,1))","v":0},{"$f":"IF($O64=0,0,IF($O64>4,0,1))","v":0},{"$f":"IF($O64=0,0,IF($O64>5,0,1))","v":1},{"$f":"IF(AND(G64<>\"\",P64=1),2,0)","v":0},0,0,0,0,0,{"$f":"IF(年暦!AB59=\"\",\"\",年暦!AB59)","v":""}]
[]
[{"$f":"IF(AND(D66=0,O66<>0),1,IF(AND(D66<>0,O66=0),1,IF(O66>6,1,\"\")))","v":""},{"$f":"IF(SUM(V66:AA67)<>0,1,\"\")","v":""},{"$f":"IF(SUM(A66:B67)<>0,\"error\",\"\")","v":""},{"$f":"年暦!Z61","v":29},29,{"$f":"年暦!Z62","v":"木"},null,null,null,null,null,null,{"$f":"IF(D66=0,0,1)","v":1},{"$f":"IF(年暦!AA62=\"\",\"\",年暦!AA62)","v":"○"},{"$f":"年暦!AA61","v":6},{"$f":"IF($O66=0,0,IF($O66>0,0,1))","v":0},{"$f":"IF($O66=0,0,IF($O66>1,0,1))","v":0},{"$f":"IF($O66=0,0,IF($O66>2,0,1))","v":0},{"$f":"IF($O66=0,0,IF($O66>3,0,1))","v":0},{"$f":"IF($O66=0,0,IF($O66>4,0,1))","v":0},{"$f":"IF($O66=0,0,IF($O66>5,0,1))","v":0},{"$f":"IF(AND(G66<>\"\",P66=1),2,0)","v":0},0,0,0,0,0,{"$f":"IF(年暦!AB61=\"\",\"\",年暦!AB61)","v":"尿再検査"}]
[]
[{"$f":"IF(AND(D68=0,O68<>0),1,IF(AND(D68<>0,O68=0),1,IF(O68>6,1,\"\")))","v":""},{"$f":"IF(SUM(V68:AA69)<>0,1,\"\")","v":""},{"$f":"IF(SUM(A68:B69)<>0,\"error\",\"\")","v":""},{"$f":"年暦!Z63","v":30},30,{"$f":"年暦!Z64","v":"金"},null,null,null,null,null,null,{"$f":"IF(D68=0,0,1)","v":1},{"$f":"IF(年暦!AA64=\"\",\"\",年暦!AA64)","v":"○"},{"$f":"年暦!AA63","v":6},{"$f":"IF($O68=0,0,IF($O68>0,0,1))","v":0},{"$f":"IF($O68=0,0,IF($O68>1,0,1))","v":0},{"$f":"IF($O68=0,0,IF($O68>2,0,1))","v":0},{"$f":"IF($O68=0,0,IF($O68>3,0,1))","v":0},{"$f":"IF($O68=0,0,IF($O68>4,0,1))","v":0},{"$f":"IF($O68=0,0,IF($O68>5,0,1))","v":0},{"$f":"IF(AND(G68<>\"\",P68=1),2,0)","v":0},0,0,0,0,0,{"$f":"IF(年暦!AB63=\"\",\"\",年暦!AB63)","v":"持久走記録会\nＰＴＡ評議員会③"}]
[]
[{"$f":"IF(AND(D70=0,O70<>0),1,IF(AND(D70<>0,O70=0),1,IF(O70>6,1,\"\")))","v":""},{"$f":"IF(SUM(V70:AA71)<>0,1,\"\")","v":""},{"$f":"IF(SUM(A70:B71)<>0,\"error\",\"\")","v":""},{"$f":"年暦!Z65","v":0},31,{"$f":"年暦!Z66","v":"土"},null,null,null,null,null,null,{"$f":"IF(D70=0,0,1)","v":0},{"$f":"IF(年暦!AA66=\"\",\"\",年暦!AA66)","v":""},{"$f":"年暦!AA65","v":0},{"$f":"IF($O70=0,0,IF($O70>0,0,1))","v":0},{"$f":"IF($O70=0,0,IF($O70>1,0,1))","v":0},{"$f":"IF($O70=0,0,IF($O70>2,0,1))","v":0},{"$f":"IF($O70=0,0,IF($O70>3,0,1))","v":0},{"$f":"IF($O70=0,0,IF($O70>4,0,1))","v":0},{"$f":"IF($O70=0,0,IF($O70>5,0,1))","v":0},{"$f":"IF(AND(G70<>\"\",P70=1),2,0)","v":0},0,0,0,0,0,{"$f":"IF(年暦!AB65=\"\",\"\",年暦!AB65)","v":""}]
[]
[]
[]
[null,null,null,null,"日","曜","○","●","児","ク","学","△","登校","給食","時数","授業時数確認",null,null,null,null,null,"誤入力確認",null,null,null,null,null,"行　事　等"]
[null,null,null,null,null,null,{"$f":"COUNTIF($G$10:$L$71,G74)","v":0},0,0,0,0,0,{"$f":"SUM(M10:M72)","v":21},{"$f":"COUNTIF(N10:N71,\"○\")","v":21},{"$f":"SUM(O10:O72)","v":119}]
[]
[null,null,null,null,null,null,null,"小計",null,null,"累計",null,null,null,null,null,null,null,null,null,null,null,null,null,null,null,null,null,null,null,"小計",null,null,"累計",null,null,null,null,null,"小計",null,null,"累計"]
[null,{"$f":"SUM(AE78,AE79,AE80,AN78,AN79,AN80)","v":0},{"$f":"IF(H79<>B78,\"error\",\"\")","v":"error"},null,"登校日数",null,null,{"$f":"M75","v":21},null,null,{"$f":"H78+'9'!K76:N76","v":122},null,null,null,null,null,null,null,null,null,null,null,null,null,null,null,null,"教科，道徳，総合",null,null,{"$f":"G75","v":0},null,null,{"$f":"AE78+'9'!AH76:AJ76","v":0},null,null,"クラブ",null,null,{"$f":"J75","v":0},null,null,{"$f":"AN78+'9'!AQ76:AS76","v":0}]
[null,null,null,null,"授業時数",null,null,{"$f":"O75","v":119},null,null,{"$f":"H79+'9'!K77:N77","v":686},null,null,null,null,null,null,null,null,null,null,null,null,null,null,null,null,"行事",null,null,{"$f":"H75","v":0},null,null,{"$f":"AE79+'9'!AH77:AJ77","v":2},null,null,"学級",null,null,{"$f":"K75","v":0},null,null,{"$f":"AN79+'9'!AQ77:AS77","v":1}]
[null,null,null,null,"給食日数",null,null,{"$f":"N75","v":21},null,null,{"$f":"H80+'9'!K78:N78","v":117},null,null,null,null,null,null,null,null,null,null,null,null,null,null,null,null,"児童会",null,null,{"$f":"I75","v":0},null,null,{"$f":"AE80+'9'!AH78:AJ78","v":0},null,null,"学校裁量",null,null,{"$f":"L75","v":0},null,null,{"$f":"AN80+'9'!AQ78:AS78","v":0}]

{"sheet":"11","index":7,"n_rows":78,"n_cols":43,"rows_kept":78,"cut":false,"hidden":false,"merged":[[9,26,10,26],[9,15,10,15],[9,16,10,16],[9,17,10,17],[23,27,24,44],[15,27,16,44],[13,27,14,44],[11,27,12,44],[21,27,22,44],[19,27,20,44],[23,25,24,25],[23,26,24,26],[13,21,14,21],[13,22,14,22],[11,22,12,22],[9,18,10,18],[11,15,12,15],[11,16,12,16],[11,17,12,17],[11,18,12,18],[13,15,14,15],[13,16,14,16],[13,17,14,17],[13,18,14,18],[67,23,68,23],[67,24,68,24],[67,25,68,25],[67,26,68,26],[9,27,10,44],[8,15,8,20],[8,21,8,26],[9,23,10,23],[9,24,10,24],[9,25,10,25],[65,21,66,21],[65,22,66,22],[65,23,66,23],[65,24,66,24],[55,23,56,23],[55,24,56,24],[55,25,56,25],[55,26,56,26],[57,25,58,25],[57,26,58,26],[49,23,50,23],[49,24,50,24],[57,21,58,21],[57,22,58,22],[71,15,71,20],[71,21,71,26],[65,25,66,25],[65,26,66,26],[67,21,68,21],[67,22,68,22],[61,25,62,25],[61,26,62,26],[59,21,60,21],[59,22,60,22],[61,21,62,21],[61,22,62,22],[61,23,62,23],[61,24,62,24],[59,23,60,23],[59,24,60,24],[59,25,60,25],[59,26,60,26],[59,15,60,15],[59,16,60,16],[59,17,60,17],[59,18,60,18],[63,15,64,15],[63,16,64,16],[47,26,48,26],[47,23,48,23],[47,24,48,24],[43,25,44,25],[43,26,44,26],[43,21,44,21],[43,22,44,22],[57,23,58,23],[57,24,58,24],[53,23,54,23],[53,24,54,24],[45,25,46,25],[45,26,46,26],[51,25,52,25],[51,26,52,26],[49,25,50,25],[49,26,50,26],[45,23,46,23],[45,24,46,24],[53,26,54,26],[33,25,34,25],[33,26,34,26],[35,25,36,25],[35,26,36,26],[39,25,40,25],[39,26,40,26],[37,23,38,23],[37,24,38,24],[33,21,34,21],[33,22,34,22],[33,23,34,23],[33,24,34,24],[35,21,36,21],[35,22,36,22],[35,23,36,23],[35,24,36,24],[39,21,40,21],[39,22,40,22],[39,23,40,23],[39,24,40,24],[27,22,28,22],[29,21,30,21],[29,22,30,22],[29,23,30,23],[29,24,30,24],[27,23,28,23],[27,24,28,24],[23,23,24,23],[23,24,24,24],[25,21,26,21],[25,22,26,22],[29,25,30,25],[29,26,30,26],[25,23,26,23],[25,24,26,24],[27,25,28,25],[27,26,28,26],[25,25,26,25],[25,26,26,26],[11,26,12,26],[13,23,14,23],[13,24,14,24],[13,25,14,25],[13,26,14,26],[11,24,12,24],[11,25,12,25],[17,23,18,23],[15,24,16,24],[15,25,16,25],[15,26,16,26],[17,24,18,24],[17,25,18,25],[17,26,18,26],[19,25,20,25],[19,26,20,26],[63,1,64,1],[51,1,52,1],[53,1,54,1],[39,1,40,1],[41,1,42,1],[43,1,44,1],[45,1,46,1],[35,1,36,1],[37,1,38,1],[65,1,66,1],[67,1,68,1],[9,21,10,21],[33,1,34,1],[63,2,64,2],[65,2,66,2],[67,2,68,2],[27,21,28,21],[55,1,56,1],[57,1,58,1],[59,1,60,1],[61,1,62,1],[23,1,24,1],[25,1,26,1],[27,1,28,1],[29,1,30,1],[31,1,32,1],[49,1,50,1],[9,1,10,1],[11,1,12,1],[13,1,14,1],[15,1,16,1],[17,1,18,1],[19,1,20,1],[21,1,22,1],[51,2,52,2],[53,2,54,2],[55,2,56,2],[57,2,58,2],[59,2,60,2],[27,2,28,2],[29,2,30,2],[31,2,32,2],[33,2,34,2],[47,1,48,1],[61,2,62,2],[39,2,40,2],[41,2,42,2],[43,2,44,2],[45,2,46,2],[47,2,48,2],[49,2,50,2],[35,2,36,2],[37,2,38,2],[13,2,14,2],[11,21,12,21],[9,13,10,13],[11,13,12,13],[13,13,14,13],[9,12,10,12],[11,12,12,12],[13,12,14,12],[11,4,12,4],[9,4,10,4],[11,3,12,3],[9,3,10,3],[9,2,10,2],[11,2,12,2],[13,4,14,4],[13,3,14,3],[9,10,10,10],[9,11,10,11],[9,14,10,14],[11,11,12,11],[11,14,12,14],[9,9,10,9],[13,11,14,11],[13,14,14,14],[27,4,28,4],[25,4,26,4],[23,4,24,4],[21,4,22,4],[23,3,24,3],[21,3,22,3],[15,3,16,3],[15,2,16,2],[17,2,18,2],[19,2,20,2],[21,2,22,2],[23,2,24,2],[25,2,26,2],[19,4,20,4],[17,4,18,4],[15,4,16,4],[19,3,20,3],[17,3,18,3],[35,3,36,3],[33,3,34,3],[31,3,32,3],[29,3,30,3],[27,3,28,3],[25,3,26,3],[47,3,48,3],[45,3,46,3],[43,3,44,3],[41,3,42,3],[39,3,40,3],[37,3,38,3],[59,3,60,3],[57,3,58,3],[55,3,56,3],[53,3,54,3],[51,3,52,3],[49,3,50,3],[67,4,68,4],[65,4,66,4],[63,4,64,4],[61,4,62,4],[67,3,68,3],[65,3,66,3],[63,3,64,3],[61,3,62,3],[51,4,52,4],[49,4,50,4],[47,4,48,4],[45,4,46,4],[59,4,60,4],[57,4,58,4],[55,4,56,4],[53,4,54,4],[35,4,36,4],[33,4,34,4],[31,4,32,4],[29,4,30,4],[43,4,44,4],[41,4,42,4],[39,4,40,4],[37,4,38,4],[9,7,10,7],[9,8,10,8],[11,5,12,5],[11,6,12,6],[11,7,12,7],[11,8,12,8],[9,5,10,5],[9,6,10,6],[15,5,16,5],[15,6,16,6],[15,7,16,7],[15,8,16,8],[13,5,14,5],[13,6,14,6],[13,7,14,7],[13,8,14,8],[19,5,20,5],[19,6,20,6],[19,7,20,7],[19,8,20,8],[17,5,18,5],[17,6,18,6],[17,7,18,7],[17,8,18,8],[23,5,24,5],[23,6,24,6],[23,7,24,7],[23,8,24,8],[21,5,22,5],[21,6,22,6],[21,7,22,7],[21,8,22,8],[27,5,28,5],[27,6,28,6],[27,7,28,7],[27,8,28,8],[25,5,26,5],[25,6,26,6],[25,7,26,7],[25,8,26,8],[31,5,32,5],[31,6,32,6],[31,7,32,7],[31,8,32,8],[29,5,30,5],[29,6,30,6],[29,7,30,7],[29,8,30,8],[35,5,36,5],[35,6,36,6],[35,7,36,7],[35,8,36,8],[33,5,34,5],[33,6,34,6],[33,7,34,7],[33,8,34,8],[39,5,40,5],[39,6,40,6],[39,7,40,7],[39,8,40,8],[37,5,38,5],[37,6,38,6],[37,7,38,7],[37,8,38,8],[43,5,44,5],[43,6,44,6],[43,7,44,7],[43,8,44,8],[41,5,42,5],[41,6,42,6],[41,7,42,7],[41,8,42,8],[47,5,48,5],[47,6,48,6],[47,7,48,7],[47,8,48,8],[45,5,46,5],[45,6,46,6],[45,7,46,7],[45,8,46,8],[49,5,50,5],[49,6,50,6],[49,7,50,7],[49,8,50,8],[55,5,56,5],[55,6,56,6],[55,7,56,7],[55,8,56,8],[53,5,54,5],[53,6,54,6],[53,7,54,7],[53,8,54,8],[63,5,64,5],[63,6,64,6],[63,7,64,7],[63,8,64,8],[61,5,62,5],[61,6,62,6],[61,7,62,7],[61,8,62,8],[51,5,52,5],[51,6,52,6],[51,7,52,7],[51,8,52,8],[67,5,68,5],[67,6,68,6],[67,7,68,7],[67,8,68,8],[65,5,66,5],[65,6,66,6],[65,7,66,7],[11,9,12,9],[11,10,12,10],[13,9,14,9],[13,10,14,10],[59,9,60,9],[59,10,60,10],[67,9,68,9],[67,10,68,10],[59,5,60,5],[59,6,60,6],[59,7,60,7],[59,8,60,8],[57,5,58,5],[57,6,58,6],[57,7,58,7],[57,8,58,8],[65,8,66,8],[17,15,18,15],[17,16,18,16],[17,17,18,17],[17,18,18,18],[17,9,18,9],[17,10,18,10],[17,11,18,11],[17,14,18,14],[17,13,18,13],[17,12,18,12],[15,15,16,15],[15,16,16,16],[15,17,16,17],[15,18,16,18],[15,9,16,9],[15,10,16,10],[15,11,16,11],[15,14,16,14],[15,13,16,13],[15,12,16,12],[19,16,20,16],[19,17,20,17],[19,18,20,18],[19,9,20,9],[19,10,20,10],[19,11,20,11],[19,14,20,14],[19,13,20,13],[19,12,20,12],[19,15,20,15],[21,15,22,15],[21,16,22,16],[21,17,22,17],[21,18,22,18],[21,9,22,9],[21,10,22,10],[21,11,22,11],[21,14,22,14],[21,13,22,13],[21,12,22,12],[23,15,24,15],[23,16,24,16],[23,17,24,17],[23,18,24,18],[23,9,24,9],[23,10,24,10],[23,11,24,11],[23,14,24,14],[23,13,24,13],[23,12,24,12],[25,15,26,15],[25,16,26,16],[25,17,26,17],[25,18,26,18],[25,9,26,9],[25,10,26,10],[25,11,26,11],[25,14,26,14],[25,13,26,13],[25,12,26,12],[27,15,28,15],[27,16,28,16],[27,17,28,17],[27,18,28,18],[27,9,28,9],[27,10,28,10],[27,11,28,11],[27,14,28,14],[27,13,28,13],[27,12,28,12],[29,15,30,15],[29,16,30,16],[29,17,30,17],[29,18,30,18],[29,9,30,9],[29,10,30,10],[29,11,30,11],[29,14,30,14],[29,13,30,13],[29,12,30,12],[31,15,32,15],[31,16,32,16],[31,17,32,17],[31,18,32,18],[31,9,32,9],[31,10,32,10],[31,11,32,11],[31,14,32,14],[31,13,32,13],[31,12,32,12],[33,15,34,15],[33,16,34,16],[33,17,34,17],[33,18,34,18],[33,9,34,9],[33,10,34,10],[33,11,34,11],[33,14,34,14],[33,13,34,13],[33,12,34,12],[35,15,36,15],[35,16,36,16],[35,17,36,17],[35,18,36,18],[35,9,36,9],[35,10,36,10],[35,11,36,11],[35,14,36,14],[35,13,36,13],[35,12,36,12],[37,15,38,15],[37,16,38,16],[37,17,38,17],[37,18,38,18],[37,9,38,9],[37,10,38,10],[37,11,38,11],[37,14,38,14],[37,13,38,13],[37,12,38,12],[39,15,40,15],[39,16,40,16],[39,17,40,17],[39,18,40,18],[39,9,40,9],[39,10,40,10],[39,11,40,11],[39,14,40,14],[39,13,40,13],[39,12,40,12],[41,15,42,15],[41,16,42,16],[41,17,42,17],[41,18,42,18],[41,9,42,9],[41,10,42,10],[41,11,42,11],[41,14,42,14],[41,13,42,13],[41,12,42,12],[43,15,44,15],[43,16,44,16],[43,17,44,17],[43,18,44,18],[43,9,44,9],[43,10,44,10],[43,11,44,11],[43,14,44,14],[43,13,44,13],[43,12,44,12],[45,15,46,15],[45,16,46,16],[45,17,46,17],[45,18,46,18],[45,9,46,9],[45,10,46,10],[45,11,46,11],[45,14,46,14],[45,13,46,13],[45,12,46,12],[47,15,48,15],[47,16,48,16],[47,17,48,17],[47,18,48,18],[47,9,48,9],[47,10,48,10],[47,11,48,11],[47,14,48,14],[47,13,48,13],[47,12,48,12],[49,15,50,15],[49,16,50,16],[49,17,50,17],[49,18,50,18],[49,9,50,9],[49,10,50,10],[49,11,50,11],[49,14,50,14],[49,13,50,13],[49,12,50,12],[51,15,52,15],[51,16,52,16],[51,17,52,17],[51,18,52,18],[51,9,52,9],[51,10,52,10],[51,11,52,11],[51,14,52,14],[51,13,52,13],[51,12,52,12],[53,15,54,15],[53,16,54,16],[53,17,54,17],[53,18,54,18],[53,9,54,9],[53,10,54,10],[53,11,54,11],[53,14,54,14],[53,13,54,13],[53,12,54,12],[55,15,56,15],[55,16,56,16],[55,17,56,17],[55,18,56,18],[55,9,56,9],[55,10,56,10],[55,11,56,11],[55,14,56,14],[55,13,56,13],[55,12,56,12],[57,15,58,15],[57,16,58,16],[57,17,58,17],[57,18,58,18],[57,9,58,9],[57,10,58,10],[57,11,58,11],[57,14,58,14],[57,13,58,13],[57,12,58,12],[59,12,60,12],[61,15,62,15],[61,16,62,16],[61,17,62,17],[61,18,62,18],[61,9,62,9],[61,10,62,10],[61,11,62,11],[61,14,62,14],[61,13,62,13],[61,12,62,12],[59,11,60,11],[59,14,60,14],[59,13,60,13],[63,17,64,17],[63,18,64,18],[63,9,64,9],[63,10,64,10],[63,11,64,11],[63,14,64,14],[63,13,64,13],[63,12,64,12],[65,9,66,9],[65,10,66,10],[65,11,66,11],[65,14,66,14],[65,13,66,13],[65,12,66,12],[67,11,68,11],[67,14,68,14],[67,13,68,13],[67,12,68,12],[67,15,68,15],[67,16,68,16],[67,17,68,17],[67,18,68,18],[65,15,66,15],[65,16,66,16],[65,17,66,17],[65,18,66,18],[9,19,10,19],[15,19,16,19],[15,20,16,20],[13,19,14,19],[13,20,14,20],[9,20,10,20],[11,19,12,19],[9,22,10,22],[15,23,16,23],[17,19,18,19],[17,20,18,20],[15,21,16,21],[15,22,16,22],[17,21,18,21],[17,22,18,22],[19,21,20,21],[11,20,12,20],[11,23,12,23],[21,23,22,23],[21,24,22,24],[21,25,22,25],[21,26,22,26],[19,23,20,23],[21,21,22,21],[21,22,22,22],[23,19,24,19],[23,20,24,20],[21,19,22,19],[21,20,22,20],[23,21,24,21],[23,22,24,22],[19,22,20,22],[19,24,20,24],[19,19,20,19],[19,20,20,20],[35,19,36,19],[35,20,36,20],[29,19,30,19],[29,20,30,20],[27,19,28,19],[27,20,28,20],[25,19,26,19],[25,20,26,20],[33,19,34,19],[33,20,34,20],[45,19,46,19],[45,20,46,20],[43,19,44,19],[43,20,44,20],[37,25,38,25],[37,26,38,26],[41,19,42,19],[41,20,42,20],[37,21,38,21],[37,22,38,22],[39,19,40,19],[39,20,40,20],[37,19,38,19],[37,20,38,20],[41,21,42,21],[41,22,42,22],[45,21,46,21],[45,22,46,22],[41,23,42,23],[41,24,42,24],[41,25,42,25],[41,26,42,26],[43,23,44,23],[43,24,44,24],[49,19,50,19],[49,20,50,20],[47,19,48,19],[47,20,48,20],[47,21,48,21],[47,22,48,22],[49,21,50,21],[49,22,50,22],[53,25,54,25],[51,19,52,19],[51,20,52,20],[51,21,52,21],[51,22,52,22],[51,23,52,23],[51,24,52,24],[47,25,48,25],[67,19,68,19],[67,20,68,20],[65,19,66,19],[65,20,66,20],[57,19,58,19],[57,20,58,20],[53,21,54,21],[53,22,54,22],[55,19,56,19],[55,20,56,20],[53,19,54,19],[53,20,54,20],[55,21,56,21],[55,22,56,22],[63,25,64,25],[63,26,64,26],[63,19,64,19],[63,20,64,20],[63,21,64,21],[63,22,64,22],[17,0,18,0],[19,0,20,0],[21,0,22,0],[23,0,24,0],[49,0,50,0],[51,0,52,0],[53,0,54,0],[55,0,56,0],[41,0,42,0],[43,0,44,0],[45,0,46,0],[47,0,48,0],[63,23,64,23],[63,24,64,24],[61,19,62,19],[61,20,62,20],[59,19,60,19],[59,20,60,20],[9,0,10,0],[11,0,12,0],[13,0,14,0],[15,0,16,0],[33,0,34,0],[35,0,36,0],[37,0,38,0],[39,0,40,0],[25,0,26,0],[27,0,28,0],[29,0,30,0],[31,0,32,0],[65,0,66,0],[67,0,68,0],[57,0,58,0],[59,0,60,0],[61,0,62,0],[63,0,64,0],[27,45,28,45],[29,45,30,45],[31,45,32,45],[33,45,34,45],[43,27,44,44],[67,45,68,45],[59,45,60,45],[61,45,62,45],[63,45,64,45],[65,45,66,45],[51,45,52,45],[53,45,54,45],[55,45,56,45],[57,45,58,45],[53,27,54,44],[59,27,60,44],[51,27,52,44],[49,27,50,44],[19,45,20,45],[21,45,22,45],[23,45,24,45],[25,45,26,45],[43,45,44,45],[45,45,46,45],[47,45,48,45],[49,45,50,45],[35,45,36,45],[37,45,38,45],[39,45,40,45],[41,45,42,45],[47,27,48,44],[45,27,46,44],[67,27,68,44],[65,27,66,44],[63,27,64,44],[61,27,62,44],[57,27,58,44],[55,27,56,44],[35,27,36,44],[33,27,34,44],[31,27,32,44],[29,27,30,44],[27,27,28,44],[25,27,26,44],[6,4,6,44],[5,4,5,44],[3,36,3,37],[3,33,3,34],[3,30,3,31],[3,27,3,28],[3,10,3,11],[3,7,3,8],[3,4,3,5],[7,4,7,44],[31,26,32,26],[31,19,32,19],[31,20,32,20],[31,21,32,21],[31,22,32,22],[31,23,32,23],[31,24,32,24],[31,25,32,25],[17,27,18,44],[77,4,77,6],[76,4,76,6],[77,10,77,13],[76,10,76,13],[74,27,74,29],[74,10,74,13],[77,27,77,29],[76,27,76,29],[75,27,75,29],[74,4,74,6],[74,7,74,9],[77,7,77,9],[76,7,76,9],[75,7,75,9],[75,4,75,6],[75,10,75,13],[75,42,75,44],[77,39,77,41],[76,39,76,41],[75,39,75,41],[74,42,74,44],[74,39,74,41],[74,36,74,38],[8,27,8,44],[41,27,42,44],[39,27,40,44],[37,27,38,44],[77,33,77,35],[76,33,76,35],[75,33,75,35],[77,30,77,32],[76,30,76,32],[75,30,75,32],[77,42,77,44],[76,42,76,44],[77,36,77,38],[76,36,76,38],[75,36,75,38],[74,33,74,35],[74,30,74,32]]}
[]
[]
[]
[null,null,null,null,"q",null,null,"w",null,null,"e",null,null,null,null,null,null,null,null,null,null,null,null,null,null,null,null,"r",null,null,"t",null,null,"y",null,null,"u"]
[]
[null,null,null,null,"○：教科，道徳，総合　　●：行事　　児：児童会　　ク：クラブ　　学：学級　　△：学裁"]
[null,null,null,null,{"$f":"CONCATENATE(年暦!AD4,\"　　　予　定　表\")","v":"11　　　月　　　予　定　表"}]
[null,null,null,null,"○：教科，道徳，総合　　●：行事　　児：児童会　　ク：クラブ　　学：学級　　△：学裁"]
[null,null,null,null,"日","曜",1,2,3,4,5,6,"登校","給食","時数","授業時数確認",null,null,null,null,null,"誤入力確認",null,null,null,null,null,"行　事　等"]
[{"$f":"IF(AND(D10=0,O10<>0),1,IF(AND(D10<>0,O10=0),1,IF(O10>6,1,\"\")))","v":""},{"$f":"IF(SUM(V10:AA11)<>0,1,\"\")","v":""},{"$f":"IF(SUM(A10:B11)<>0,\"error\",\"\")","v":""},{"$f":"年暦!AD5","v":0},1,{"$f":"年暦!AD6","v":"日"},null,null,null,null,null,null,{"$f":"IF(D10=0,0,1)","v":0},{"$f":"IF(年暦!AE6=\"\",\"\",年暦!AE6)","v":""},{"$f":"年暦!AE5","v":0},{"$f":"IF($O10=0,0,IF($O10>0,0,1))","v":0},{"$f":"IF($O10=0,0,IF($O10>1,0,1))","v":0},{"$f":"IF($O10=0,0,IF($O10>2,0,1))","v":0},{"$f":"IF($O10=0,0,IF($O10>3,0,1))","v":0},{"$f":"IF($O10=0,0,IF($O10>4,0,1))","v":0},{"$f":"IF($O10=0,0,IF($O10>5,0,1))","v":0},{"$f":"IF(AND(G10<>\"\",P10=1),2,0)","v":0},0,0,0,0,0,{"$f":"IF(年暦!AF5=\"\",\"\",年暦!AF5)","v":""}]
[]
[{"$f":"IF(AND(D12=0,O12<>0),1,IF(AND(D12<>0,O12=0),1,IF(O12>6,1,\"\")))","v":""},{"$f":"IF(SUM(V12:AA13)<>0,1,\"\")","v":""},{"$f":"IF(SUM(A12:B13)<>0,\"error\",\"\")","v":""},{"$f":"年暦!AD7","v":2},2,{"$f":"年暦!AD8","v":"月"},null,null,null,null,null,null,{"$f":"IF(D12=0,0,1)","v":1},{"$f":"IF(年暦!AE8=\"\",\"\",年暦!AE8)","v":"○"},{"$f":"年暦!AE7","v":6},{"$f":"IF($O12=0,0,IF($O12>0,0,1))","v":0},{"$f":"IF($O12=0,0,IF($O12>1,0,1))","v":0},{"$f":"IF($O12=0,0,IF($O12>2,0,1))","v":0},{"$f":"IF($O12=0,0,IF($O12>3,0,1))","v":0},{"$f":"IF($O12=0,0,IF($O12>4,0,1))","v":0},{"$f":"IF($O12=0,0,IF($O12>5,0,1))","v":0},{"$f":"IF(AND(G12<>\"\",P12=1),2,0)","v":0},0,0,0,0,0,{"$f":"IF(年暦!AF7=\"\",\"\",年暦!AF7)","v":"冬日課開始（2/19まで）\nなかよし月間（30日まで）"}]
[]
[{"$f":"IF(AND(D14=0,O14<>0),1,IF(AND(D14<>0,O14=0),1,IF(O14>6,1,\"\")))","v":""},{"$f":"IF(SUM(V14:AA15)<>0,1,\"\")","v":""},{"$f":"IF(SUM(A14:B15)<>0,\"error\",\"\")","v":""},{"$f":"年暦!AD9","v":0},3,{"$f":"年暦!AD10","v":"火"},null,null,null,null,null,null,{"$f":"IF(D14=0,0,1)","v":0},{"$f":"IF(年暦!AE10=\"\",\"\",年暦!AE10)","v":""},{"$f":"年暦!AE9","v":0},{"$f":"IF($O14=0,0,IF($O14>0,0,1))","v":0},{"$f":"IF($O14=0,0,IF($O14>1,0,1))","v":0},{"$f":"IF($O14=0,0,IF($O14>2,0,1))","v":0},{"$f":"IF($O14=0,0,IF($O14>3,0,1))","v":0},{"$f":"IF($O14=0,0,IF($O14>4,0,1))","v":0},{"$f":"IF($O14=0,0,IF($O14>5,0,1))","v":0},{"$f":"IF(AND(G14<>\"\",P14=1),2,0)","v":0},0,0,0,0,0,{"$f":"IF(年暦!AF9=\"\",\"\",年暦!AF9)","v":"文化の日"}]
[]
[{"$f":"IF(AND(D16=0,O16<>0),1,IF(AND(D16<>0,O16=0),1,IF(O16>6,1,\"\")))","v":""},{"$f":"IF(SUM(V16:AA17)<>0,1,\"\")","v":""},{"$f":"IF(SUM(A16:B17)<>0,\"error\",\"\")","v":""},{"$f":"年暦!AD11","v":4},4,{"$f":"年暦!AD12","v":"水"},null,null,null,null,null,null,{"$f":"IF(D16=0,0,1)","v":1},{"$f":"IF(年暦!AE12=\"\",\"\",年暦!AE12)","v":"○"},{"$f":"年暦!AE11","v":5},{"$f":"IF($O16=0,0,IF($O16>0,0,1))","v":0},{"$f":"IF($O16=0,0,IF($O16>1,0,1))","v":0},{"$f":"IF($O16=0,0,IF($O16>2,0,1))","v":0},{"$f":"IF($O16=0,0,IF($O16>3,0,1))","v":0},{"$f":"IF($O16=0,0,IF($O16>4,0,1))","v":0},{"$f":"IF($O16=0,0,IF($O16>5,0,1))","v":1},{"$f":"IF(AND(G16<>\"\",P16=1),2,0)","v":0},0,0,0,0,0,{"$f":"IF(年暦!AF11=\"\",\"\",年暦!AF11)","v":"交通安全指導"}]
[]
[{"$f":"IF(AND(D18=0,O18<>0),1,IF(AND(D18<>0,O18=0),1,IF(O18>6,1,\"\")))","v":""},{"$f":"IF(SUM(V18:AA19)<>0,1,\"\")","v":""},{"$f":"IF(SUM(A18:B19)<>0,\"error\",\"\")","v":""},{"$f":"年暦!AD13","v":5},5,{"$f":"年暦!AD14","v":"木"},null,null,null,null,null,null,{"$f":"IF(D18=0,0,1)","v":1},{"$f":"IF(年暦!AE14=\"\",\"\",年暦!AE14)","v":"○"},{"$f":"年暦!AE13","v":4},{"$f":"IF($O18=0,0,IF($O18>0,0,1))","v":0},{"$f":"IF($O18=0,0,IF($O18>1,0,1))","v":0},{"$f":"IF($O18=0,0,IF($O18>2,0,1))","v":0},{"$f":"IF($O18=0,0,IF($O18>3,0,1))","v":0},{"$f":"IF($O18=0,0,IF($O18>4,0,1))","v":1},{"$f":"IF($O18=0,0,IF($O18>5,0,1))","v":1},{"$f":"IF(AND(G18<>\"\",P18=1),2,0)","v":0},0,0,0,0,0,{"$f":"IF(年暦!AF13=\"\",\"\",年暦!AF13)","v":"北部学年会〈生坂小）"}]
[]
[{"$f":"IF(AND(D20=0,O20<>0),1,IF(AND(D20<>0,O20=0),1,IF(O20>6,1,\"\")))","v":""},{"$f":"IF(SUM(V20:AA21)<>0,1,\"\")","v":""},{"$f":"IF(SUM(A20:B21)<>0,\"error\",\"\")","v":""},{"$f":"年暦!AD15","v":6},6,{"$f":"年暦!AD16","v":"金"},null,null,null,null,null,null,{"$f":"IF(D20=0,0,1)","v":1},{"$f":"IF(年暦!AE16=\"\",\"\",年暦!AE16)","v":"○"},{"$f":"年暦!AE15","v":6},{"$f":"IF($O20=0,0,IF($O20>0,0,1))","v":0},{"$f":"IF($O20=0,0,IF($O20>1,0,1))","v":0},{"$f":"IF($O20=0,0,IF($O20>2,0,1))","v":0},{"$f":"IF($O20=0,0,IF($O20>3,0,1))","v":0},{"$f":"IF($O20=0,0,IF($O20>4,0,1))","v":0},{"$f":"IF($O20=0,0,IF($O20>5,0,1))","v":0},{"$f":"IF(AND(G20<>\"\",P20=1),2,0)","v":0},0,0,0,0,0,{"$f":"IF(年暦!AF15=\"\",\"\",年暦!AF15)","v":""}]
[]
[{"$f":"IF(AND(D22=0,O22<>0),1,IF(AND(D22<>0,O22=0),1,IF(O22>6,1,\"\")))","v":""},{"$f":"IF(SUM(V22:AA23)<>0,1,\"\")","v":""},{"$f":"IF(SUM(A22:B23)<>0,\"error\",\"\")","v":""},{"$f":"年暦!AD17","v":0},7,{"$f":"年暦!AD18","v":"土"},null,null,null,null,null,null,{"$f":"IF(D22=0,0,1)","v":0},{"$f":"IF(年暦!AE18=\"\",\"\",年暦!AE18)","v":""},{"$f":"年暦!AE17","v":0},{"$f":"IF($O22=0,0,IF($O22>0,0,1))","v":0},{"$f":"IF($O22=0,0,IF($O22>1,0,1))","v":0},{"$f":"IF($O22=0,0,IF($O22>2,0,1))","v":0},{"$f":"IF($O22=0,0,IF($O22>3,0,1))","v":0},{"$f":"IF($O22=0,0,IF($O22>4,0,1))","v":0},{"$f":"IF($O22=0,0,IF($O22>5,0,1))","v":0},{"$f":"IF(AND(G22<>\"\",P22=1),2,0)","v":0},0,0,0,0,0,{"$f":"IF(年暦!AF17=\"\",\"\",年暦!AF17)","v":""}]
[]
[{"$f":"IF(AND(D24=0,O24<>0),1,IF(AND(D24<>0,O24=0),1,IF(O24>6,1,\"\")))","v":""},{"$f":"IF(SUM(V24:AA25)<>0,1,\"\")","v":""},{"$f":"IF(SUM(A24:B25)<>0,\"error\",\"\")","v":""},{"$f":"年暦!AD19","v":0},8,{"$f":"年暦!AD20","v":"日"},null,null,null,null,null,null,{"$f":"IF(D24=0,0,1)","v":0},{"$f":"IF(年暦!AE20=\"\",\"\",年暦!AE20)","v":""},{"$f":"年暦!AE19","v":0},{"$f":"IF($O24=0,0,IF($O24>0,0,1))","v":0},{"$f":"IF($O24=0,0,IF($O24>1,0,1))","v":0},{"$f":"IF($O24=0,0,IF($O24>2,0,1))","v":0},{"$f":"IF($O24=0,0,IF($O24>3,0,1))","v":0},{"$f":"IF($O24=0,0,IF($O24>4,0,1))","v":0},{"$f":"IF($O24=0,0,IF($O24>5,0,1))","v":0},{"$f":"IF(AND(G24<>\"\",P24=1),2,0)","v":0},0,0,0,0,0,{"$f":"IF(年暦!AF19=\"\",\"\",年暦!AF19)","v":""}]
[]
[{"$f":"IF(AND(D26=0,O26<>0),1,IF(AND(D26<>0,O26=0),1,IF(O26>6,1,\"\")))","v":""},{"$f":"IF(SUM(V26:AA27)<>0,1,\"\")","v":""},{"$f":"IF(SUM(A26:B27)<>0,\"error\",\"\")","v":""},{"$f":"年暦!AD21","v":9},9,{"$f":"年暦!AD22","v":"月"},null,null,null,null,null,null,{"$f":"IF(D26=0,0,1)","v":1},{"$f":"IF(年暦!AE22=\"\",\"\",年暦!AE22)","v":"○"},{"$f":"年暦!AE21","v":6},{"$f":"IF($O26=0,0,IF($O26>0,0,1))","v":0},{"$f":"IF($O26=0,0,IF($O26>1,0,1))","v":0},{"$f":"IF($O26=0,0,IF($O26>2,0,1))","v":0},{"$f":"IF($O26=0,0,IF($O26>3,0,1))","v":0},{"$f":"IF($O26=0,0,IF($O26>4,0,1))","v":0},{"$f":"IF($O26=0,0,IF($O26>5,0,1))","v":0},{"$f":"IF(AND(G26<>\"\",P26=1),2,0)","v":0},0,0,0,0,0,{"$f":"IF(年暦!AF21=\"\",\"\",年暦!AF21)","v":"縦割り清掃（20日まで）\n就学時健康診断\n入学児童保護者会①"}]
[]
[{"$f":"IF(AND(D28=0,O28<>0),1,IF(AND(D28<>0,O28=0),1,IF(O28>6,1,\"\")))","v":""},{"$f":"IF(SUM(V28:AA29)<>0,1,\"\")","v":""},{"$f":"IF(SUM(A28:B29)<>0,\"error\",\"\")","v":""},{"$f":"年暦!AD23","v":10},10,{"$f":"年暦!AD24","v":"火"},null,null,null,null,null,null,{"$f":"IF(D28=0,0,1)","v":1},{"$f":"IF(年暦!AE24=\"\",\"\",年暦!AE24)","v":"○"},{"$f":"年暦!AE23","v":6},{"$f":"IF($O28=0,0,IF($O28>0,0,1))","v":0},{"$f":"IF($O28=0,0,IF($O28>1,0,1))","v":0},{"$f":"IF($O28=0,0,IF($O28>2,0,1))","v":0},{"$f":"IF($O28=0,0,IF($O28>3,0,1))","v":0},{"$f":"IF($O28=0,0,IF($O28>4,0,1))","v":0},{"$f":"IF($O28=0,0,IF($O28>5,0,1))","v":0},{"$f":"IF(AND(G28<>\"\",P28=1),2,0)","v":0},0,0,0,0,0,{"$f":"IF(年暦!AF23=\"\",\"\",年暦!AF23)","v":""}]
[]
[{"$f":"IF(AND(D30=0,O30<>0),1,IF(AND(D30<>0,O30=0),1,IF(O30>6,1,\"\")))","v":""},{"$f":"IF(SUM(V30:AA31)<>0,1,\"\")","v":""},{"$f":"IF(SUM(A30:B31)<>0,\"error\",\"\")","v":""},{"$f":"年暦!AD25","v":11},11,{"$f":"年暦!AD26","v":"水"},null,null,null,null,null,null,{"$f":"IF(D30=0,0,1)","v":1},{"$f":"IF(年暦!AE26=\"\",\"\",年暦!AE26)","v":"○"},{"$f":"年暦!AE25","v":5},{"$f":"IF($O30=0,0,IF($O30>0,0,1))","v":0},{"$f":"IF($O30=0,0,IF($O30>1,0,1))","v":0},{"$f":"IF($O30=0,0,IF($O30>2,0,1))","v":0},{"$f":"IF($O30=0,0,IF($O30>3,0,1))","v":0},{"$f":"IF($O30=0,0,IF($O30>4,0,1))","v":0},{"$f":"IF($O30=0,0,IF($O30>5,0,1))","v":1},{"$f":"IF(AND(G30<>\"\",P30=1),2,0)","v":0},0,0,0,0,0,{"$f":"IF(年暦!AF25=\"\",\"\",年暦!AF25)","v":""}]
[]
[{"$f":"IF(AND(D32=0,O32<>0),1,IF(AND(D32<>0,O32=0),1,IF(O32>6,1,\"\")))","v":""},{"$f":"IF(SUM(V32:AA33)<>0,1,\"\")","v":""},{"$f":"IF(SUM(A32:B33)<>0,\"error\",\"\")","v":""},{"$f":"年暦!AD27","v":12},12,{"$f":"年暦!AD28","v":"木"},null,null,null,null,null,null,{"$f":"IF(D32=0,0,1)","v":1},{"$f":"IF(年暦!AE28=\"\",\"\",年暦!AE28)","v":"○"},{"$f":"年暦!AE27","v":6},{"$f":"IF($O32=0,0,IF($O32>0,0,1))","v":0},{"$f":"IF($O32=0,0,IF($O32>1,0,1))","v":0},{"$f":"IF($O32=0,0,IF($O32>2,0,1))","v":0},{"$f":"IF($O32=0,0,IF($O32>3,0,1))","v":0},{"$f":"IF($O32=0,0,IF($O32>4,0,1))","v":0},{"$f":"IF($O32=0,0,IF($O32>5,0,1))","v":0},{"$f":"IF(AND(G32<>\"\",P32=1),2,0)","v":0},0,0,0,0,0,{"$f":"IF(年暦!AF27=\"\",\"\",年暦!AF27)","v":""}]
[]
[{"$f":"IF(AND(D34=0,O34<>0),1,IF(AND(D34<>0,O34=0),1,IF(O34>6,1,\"\")))","v":""},{"$f":"IF(SUM(V34:AA35)<>0,1,\"\")","v":""},{"$f":"IF(SUM(A34:B35)<>0,\"error\",\"\")","v":""},{"$f":"年暦!AD29","v":13},13,{"$f":"年暦!AD30","v":"金"},null,null,null,null,null,null,{"$f":"IF(D34=0,0,1)","v":1},{"$f":"IF(年暦!AE30=\"\",\"\",年暦!AE30)","v":"○"},{"$f":"年暦!AE29","v":6},{"$f":"IF($O34=0,0,IF($O34>0,0,1))","v":0},{"$f":"IF($O34=0,0,IF($O34>1,0,1))","v":0},{"$f":"IF($O34=0,0,IF($O34>2,0,1))","v":0},{"$f":"IF($O34=0,0,IF($O34>3,0,1))","v":0},{"$f":"IF($O34=0,0,IF($O34>4,0,1))","v":0},{"$f":"IF($O34=0,0,IF($O34>5,0,1))","v":0},{"$f":"IF(AND(G34<>\"\",P34=1),2,0)","v":0},0,0,0,0,0,{"$f":"IF(年暦!AF29=\"\",\"\",年暦!AF29)","v":""}]
[]
[{"$f":"IF(AND(D36=0,O36<>0),1,IF(AND(D36<>0,O36=0),1,IF(O36>6,1,\"\")))","v":""},{"$f":"IF(SUM(V36:AA37)<>0,1,\"\")","v":""},{"$f":"IF(SUM(A36:B37)<>0,\"error\",\"\")","v":""},{"$f":"年暦!AD31","v":14},14,{"$f":"年暦!AD32","v":"土"},null,null,null,null,null,null,{"$f":"IF(D36=0,0,1)","v":1},{"$f":"IF(年暦!AE32=\"\",\"\",年暦!AE32)","v":"×"},{"$f":"年暦!AE31","v":3},{"$f":"IF($O36=0,0,IF($O36>0,0,1))","v":0},{"$f":"IF($O36=0,0,IF($O36>1,0,1))","v":0},{"$f":"IF($O36=0,0,IF($O36>2,0,1))","v":0},{"$f":"IF($O36=0,0,IF($O36>3,0,1))","v":1},{"$f":"IF($O36=0,0,IF($O36>4,0,1))","v":1},{"$f":"IF($O36=0,0,IF($O36>5,0,1))","v":1},{"$f":"IF(AND(G36<>\"\",P36=1),2,0)","v":0},0,0,0,0,0,{"$f":"IF(年暦!AF31=\"\",\"\",年暦!AF31)","v":"地域公開参観日④\n金管コンサート"}]
[]
[{"$f":"IF(AND(D38=0,O38<>0),1,IF(AND(D38<>0,O38=0),1,IF(O38>6,1,\"\")))","v":""},{"$f":"IF(SUM(V38:AA39)<>0,1,\"\")","v":""},{"$f":"IF(SUM(A38:B39)<>0,\"error\",\"\")","v":""},{"$f":"年暦!AD33","v":0},15,{"$f":"年暦!AD34","v":"日"},null,null,null,null,null,null,{"$f":"IF(D38=0,0,1)","v":0},{"$f":"IF(年暦!AE34=\"\",\"\",年暦!AE34)","v":""},{"$f":"年暦!AE33","v":0},{"$f":"IF($O38=0,0,IF($O38>0,0,1))","v":0},{"$f":"IF($O38=0,0,IF($O38>1,0,1))","v":0},{"$f":"IF($O38=0,0,IF($O38>2,0,1))","v":0},{"$f":"IF($O38=0,0,IF($O38>3,0,1))","v":0},{"$f":"IF($O38=0,0,IF($O38>4,0,1))","v":0},{"$f":"IF($O38=0,0,IF($O38>5,0,1))","v":0},{"$f":"IF(AND(G38<>\"\",P38=1),2,0)","v":0},0,0,0,0,0,{"$f":"IF(年暦!AF33=\"\",\"\",年暦!AF33)","v":""}]
[]
[{"$f":"IF(AND(D40=0,O40<>0),1,IF(AND(D40<>0,O40=0),1,IF(O40>6,1,\"\")))","v":""},{"$f":"IF(SUM(V40:AA41)<>0,1,\"\")","v":""},{"$f":"IF(SUM(A40:B41)<>0,\"error\",\"\")","v":""},{"$f":"年暦!AD35","v":0},16,{"$f":"年暦!AD36","v":"月"},null,null,null,null,null,null,{"$f":"IF(D40=0,0,1)","v":0},{"$f":"IF(年暦!AE36=\"\",\"\",年暦!AE36)","v":""},{"$f":"年暦!AE35","v":0},{"$f":"IF($O40=0,0,IF($O40>0,0,1))","v":0},{"$f":"IF($O40=0,0,IF($O40>1,0,1))","v":0},{"$f":"IF($O40=0,0,IF($O40>2,0,1))","v":0},{"$f":"IF($O40=0,0,IF($O40>3,0,1))","v":0},{"$f":"IF($O40=0,0,IF($O40>4,0,1))","v":0},{"$f":"IF($O40=0,0,IF($O40>5,0,1))","v":0},{"$f":"IF(AND(G40<>\"\",P40=1),2,0)","v":0},0,0,0,0,0,{"$f":"IF(年暦!AF35=\"\",\"\",年暦!AF35)","v":"参観日振替休日"}]
[]
[{"$f":"IF(AND(D42=0,O42<>0),1,IF(AND(D42<>0,O42=0),1,IF(O42>6,1,\"\")))","v":""},{"$f":"IF(SUM(V42:AA43)<>0,1,\"\")","v":""},{"$f":"IF(SUM(A42:B43)<>0,\"error\",\"\")","v":""},{"$f":"年暦!AD37","v":17},17,{"$f":"年暦!AD38","v":"火"},null,null,null,null,null,null,{"$f":"IF(D42=0,0,1)","v":1},{"$f":"IF(年暦!AE38=\"\",\"\",年暦!AE38)","v":"○"},{"$f":"年暦!AE37","v":6},{"$f":"IF($O42=0,0,IF($O42>0,0,1))","v":0},{"$f":"IF($O42=0,0,IF($O42>1,0,1))","v":0},{"$f":"IF($O42=0,0,IF($O42>2,0,1))","v":0},{"$f":"IF($O42=0,0,IF($O42>3,0,1))","v":0},{"$f":"IF($O42=0,0,IF($O42>4,0,1))","v":0},{"$f":"IF($O42=0,0,IF($O42>5,0,1))","v":0},{"$f":"IF(AND(G42<>\"\",P42=1),2,0)","v":0},0,0,0,0,0,{"$f":"IF(年暦!AF37=\"\",\"\",年暦!AF37)","v":"発育測定（５・６年）"}]
[]
[{"$f":"IF(AND(D44=0,O44<>0),1,IF(AND(D44<>0,O44=0),1,IF(O44>6,1,\"\")))","v":""},{"$f":"IF(SUM(V44:AA45)<>0,1,\"\")","v":""},{"$f":"IF(SUM(A44:B45)<>0,\"error\",\"\")","v":""},{"$f":"年暦!AD39","v":18},18,{"$f":"年暦!AD40","v":"水"},null,null,null,null,null,null,{"$f":"IF(D44=0,0,1)","v":1},{"$f":"IF(年暦!AE40=\"\",\"\",年暦!AE40)","v":"○"},{"$f":"年暦!AE39","v":5},{"$f":"IF($O44=0,0,IF($O44>0,0,1))","v":0},{"$f":"IF($O44=0,0,IF($O44>1,0,1))","v":0},{"$f":"IF($O44=0,0,IF($O44>2,0,1))","v":0},{"$f":"IF($O44=0,0,IF($O44>3,0,1))","v":0},{"$f":"IF($O44=0,0,IF($O44>4,0,1))","v":0},{"$f":"IF($O44=0,0,IF($O44>5,0,1))","v":1},{"$f":"IF(AND(G44<>\"\",P44=1),2,0)","v":0},0,0,0,0,0,{"$f":"IF(年暦!AF39=\"\",\"\",年暦!AF39)","v":"発育測定（３・４年）"}]
[]
[{"$f":"IF(AND(D46=0,O46<>0),1,IF(AND(D46<>0,O46=0),1,IF(O46>6,1,\"\")))","v":""},{"$f":"IF(SUM(V46:AA47)<>0,1,\"\")","v":""},{"$f":"IF(SUM(A46:B47)<>0,\"error\",\"\")","v":""},{"$f":"年暦!AD41","v":19},19,{"$f":"年暦!AD42","v":"木"},null,null,null,null,null,null,{"$f":"IF(D46=0,0,1)","v":1},{"$f":"IF(年暦!AE42=\"\",\"\",年暦!AE42)","v":"○"},{"$f":"年暦!AE41","v":6},{"$f":"IF($O46=0,0,IF($O46>0,0,1))","v":0},{"$f":"IF($O46=0,0,IF($O46>1,0,1))","v":0},{"$f":"IF($O46=0,0,IF($O46>2,0,1))","v":0},{"$f":"IF($O46=0,0,IF($O46>3,0,1))","v":0},{"$f":"IF($O46=0,0,IF($O46>4,0,1))","v":0},{"$f":"IF($O46=0,0,IF($O46>5,0,1))","v":0},{"$f":"IF(AND(G46<>\"\",P46=1),2,0)","v":0},0,0,0,0,0,{"$f":"IF(年暦!AF41=\"\",\"\",年暦!AF41)","v":"発育測定（１・２年）"}]
[]
[{"$f":"IF(AND(D48=0,O48<>0),1,IF(AND(D48<>0,O48=0),1,IF(O48>6,1,\"\")))","v":""},{"$f":"IF(SUM(V48:AA49)<>0,1,\"\")","v":""},{"$f":"IF(SUM(A48:B49)<>0,\"error\",\"\")","v":""},{"$f":"年暦!AD43","v":20},20,{"$f":"年暦!AD44","v":"金"},null,null,null,null,null,null,{"$f":"IF(D48=0,0,1)","v":1},{"$f":"IF(年暦!AE44=\"\",\"\",年暦!AE44)","v":"○"},{"$f":"年暦!AE43","v":6},{"$f":"IF($O48=0,0,IF($O48>0,0,1))","v":0},{"$f":"IF($O48=0,0,IF($O48>1,0,1))","v":0},{"$f":"IF($O48=0,0,IF($O48>2,0,1))","v":0},{"$f":"IF($O48=0,0,IF($O48>3,0,1))","v":0},{"$f":"IF($O48=0,0,IF($O48>4,0,1))","v":0},{"$f":"IF($O48=0,0,IF($O48>5,0,1))","v":0},{"$f":"IF(AND(G48<>\"\",P48=1),2,0)","v":0},0,0,0,0,0,{"$f":"IF(年暦!AF43=\"\",\"\",年暦!AF43)","v":""}]
[]
[{"$f":"IF(AND(D50=0,O50<>0),1,IF(AND(D50<>0,O50=0),1,IF(O50>6,1,\"\")))","v":""},{"$f":"IF(SUM(V50:AA51)<>0,1,\"\")","v":""},{"$f":"IF(SUM(A50:B51)<>0,\"error\",\"\")","v":""},{"$f":"年暦!AD45","v":0},21,{"$f":"年暦!AD46","v":"土"},null,null,null,null,null,null,{"$f":"IF(D50=0,0,1)","v":0},{"$f":"IF(年暦!AE46=\"\",\"\",年暦!AE46)","v":""},{"$f":"年暦!AE45","v":0},{"$f":"IF($O50=0,0,IF($O50>0,0,1))","v":0},{"$f":"IF($O50=0,0,IF($O50>1,0,1))","v":0},{"$f":"IF($O50=0,0,IF($O50>2,0,1))","v":0},{"$f":"IF($O50=0,0,IF($O50>3,0,1))","v":0},{"$f":"IF($O50=0,0,IF($O50>4,0,1))","v":0},{"$f":"IF($O50=0,0,IF($O50>5,0,1))","v":0},{"$f":"IF(AND(G50<>\"\",P50=1),2,0)","v":0},0,0,0,0,0,{"$f":"IF(年暦!AF45=\"\",\"\",年暦!AF45)","v":""}]
[]
[{"$f":"IF(AND(D52=0,O52<>0),1,IF(AND(D52<>0,O52=0),1,IF(O52>6,1,\"\")))","v":""},{"$f":"IF(SUM(V52:AA53)<>0,1,\"\")","v":""},{"$f":"IF(SUM(A52:B53)<>0,\"error\",\"\")","v":""},{"$f":"年暦!AD47","v":0},22,{"$f":"年暦!AD48","v":"日"},null,null,null,null,null,null,{"$f":"IF(D52=0,0,1)","v":0},{"$f":"IF(年暦!AE48=\"\",\"\",年暦!AE48)","v":""},{"$f":"年暦!AE47","v":0},{"$f":"IF($O52=0,0,IF($O52>0,0,1))","v":0},{"$f":"IF($O52=0,0,IF($O52>1,0,1))","v":0},{"$f":"IF($O52=0,0,IF($O52>2,0,1))","v":0},{"$f":"IF($O52=0,0,IF($O52>3,0,1))","v":0},{"$f":"IF($O52=0,0,IF($O52>4,0,1))","v":0},{"$f":"IF($O52=0,0,IF($O52>5,0,1))","v":0},{"$f":"IF(AND(G52<>\"\",P52=1),2,0)","v":0},0,0,0,0,0,{"$f":"IF(年暦!AF47=\"\",\"\",年暦!AF47)","v":""}]
[]
[{"$f":"IF(AND(D54=0,O54<>0),1,IF(AND(D54<>0,O54=0),1,IF(O54>6,1,\"\")))","v":""},{"$f":"IF(SUM(V54:AA55)<>0,1,\"\")","v":""},{"$f":"IF(SUM(A54:B55)<>0,\"error\",\"\")","v":""},{"$f":"年暦!AD49","v":0},23,{"$f":"年暦!AD50","v":"月"},null,null,null,null,null,null,{"$f":"IF(D54=0,0,1)","v":0},{"$f":"IF(年暦!AE50=\"\",\"\",年暦!AE50)","v":""},{"$f":"年暦!AE49","v":0},{"$f":"IF($O54=0,0,IF($O54>0,0,1))","v":0},{"$f":"IF($O54=0,0,IF($O54>1,0,1))","v":0},{"$f":"IF($O54=0,0,IF($O54>2,0,1))","v":0},{"$f":"IF($O54=0,0,IF($O54>3,0,1))","v":0},{"$f":"IF($O54=0,0,IF($O54>4,0,1))","v":0},{"$f":"IF($O54=0,0,IF($O54>5,0,1))","v":0},{"$f":"IF(AND(G54<>\"\",P54=1),2,0)","v":0},0,0,0,0,0,{"$f":"IF(年暦!AF49=\"\",\"\",年暦!AF49)","v":"勤労感謝の日"}]
[]
[{"$f":"IF(AND(D56=0,O56<>0),1,IF(AND(D56<>0,O56=0),1,IF(O56>6,1,\"\")))","v":""},{"$f":"IF(SUM(V56:AA57)<>0,1,\"\")","v":""},{"$f":"IF(SUM(A56:B57)<>0,\"error\",\"\")","v":""},{"$f":"年暦!AD51","v":24},24,{"$f":"年暦!AD52","v":"火"},null,null,null,null,null,null,{"$f":"IF(D56=0,0,1)","v":1},{"$f":"IF(年暦!AE52=\"\",\"\",年暦!AE52)","v":"○"},{"$f":"年暦!AE51","v":6},{"$f":"IF($O56=0,0,IF($O56>0,0,1))","v":0},{"$f":"IF($O56=0,0,IF($O56>1,0,1))","v":0},{"$f":"IF($O56=0,0,IF($O56>2,0,1))","v":0},{"$f":"IF($O56=0,0,IF($O56>3,0,1))","v":0},{"$f":"IF($O56=0,0,IF($O56>4,0,1))","v":0},{"$f":"IF($O56=0,0,IF($O56>5,0,1))","v":0},{"$f":"IF(AND(G56<>\"\",P56=1),2,0)","v":0},0,0,0,0,0,{"$f":"IF(年暦!AF51=\"\",\"\",年暦!AF51)","v":"村福祉教育の日"}]
[]
[{"$f":"IF(AND(D58=0,O58<>0),1,IF(AND(D58<>0,O58=0),1,IF(O58>6,1,\"\")))","v":""},{"$f":"IF(SUM(V58:AA59)<>0,1,\"\")","v":""},{"$f":"IF(SUM(A58:B59)<>0,\"error\",\"\")","v":""},{"$f":"年暦!AD53","v":25},25,{"$f":"年暦!AD54","v":"水"},null,null,null,null,null,null,{"$f":"IF(D58=0,0,1)","v":1},{"$f":"IF(年暦!AE54=\"\",\"\",年暦!AE54)","v":"○"},{"$f":"年暦!AE53","v":5},{"$f":"IF($O58=0,0,IF($O58>0,0,1))","v":0},{"$f":"IF($O58=0,0,IF($O58>1,0,1))","v":0},{"$f":"IF($O58=0,0,IF($O58>2,0,1))","v":0},{"$f":"IF($O58=0,0,IF($O58>3,0,1))","v":0},{"$f":"IF($O58=0,0,IF($O58>4,0,1))","v":0},{"$f":"IF($O58=0,0,IF($O58>5,0,1))","v":1},{"$f":"IF(AND(G58<>\"\",P58=1),2,0)","v":0},0,0,0,0,0,{"$f":"IF(年暦!AF53=\"\",\"\",年暦!AF53)","v":""}]
[]
[{"$f":"IF(AND(D60=0,O60<>0),1,IF(AND(D60<>0,O60=0),1,IF(O60>6,1,\"\")))","v":""},{"$f":"IF(SUM(V60:AA61)<>0,1,\"\")","v":""},{"$f":"IF(SUM(A60:B61)<>0,\"error\",\"\")","v":""},{"$f":"年暦!AD55","v":26},26,{"$f":"年暦!AD56","v":"木"},null,null,null,null,null,null,{"$f":"IF(D60=0,0,1)","v":1},{"$f":"IF(年暦!AE56=\"\",\"\",年暦!AE56)","v":"○"},{"$f":"年暦!AE55","v":6},{"$f":"IF($O60=0,0,IF($O60>0,0,1))","v":0},{"$f":"IF($O60=0,0,IF($O60>1,0,1))","v":0},{"$f":"IF($O60=0,0,IF($O60>2,0,1))","v":0},{"$f":"IF($O60=0,0,IF($O60>3,0,1))","v":0},{"$f":"IF($O60=0,0,IF($O60>4,0,1))","v":0},{"$f":"IF($O60=0,0,IF($O60>5,0,1))","v":0},{"$f":"IF(AND(G60<>\"\",P60=1),2,0)","v":0},0,0,0,0,0,{"$f":"IF(年暦!AF55=\"\",\"\",年暦!AF55)","v":"ふるさとふれあいの集い"}]
[]
[{"$f":"IF(AND(D62=0,O62<>0),1,IF(AND(D62<>0,O62=0),1,IF(O62>6,1,\"\")))","v":""},{"$f":"IF(SUM(V62:AA63)<>0,1,\"\")","v":""},{"$f":"IF(SUM(A62:B63)<>0,\"error\",\"\")","v":""},{"$f":"年暦!AD57","v":27},27,{"$f":"年暦!AD58","v":"金"},null,null,null,null,null,null,{"$f":"IF(D62=0,0,1)","v":1},{"$f":"IF(年暦!AE58=\"\",\"\",年暦!AE58)","v":"○"},{"$f":"年暦!AE57","v":6},{"$f":"IF($O62=0,0,IF($O62>0,0,1))","v":0},{"$f":"IF($O62=0,0,IF($O62>1,0,1))","v":0},{"$f":"IF($O62=0,0,IF($O62>2,0,1))","v":0},{"$f":"IF($O62=0,0,IF($O62>3,0,1))","v":0},{"$f":"IF($O62=0,0,IF($O62>4,0,1))","v":0},{"$f":"IF($O62=0,0,IF($O62>5,0,1))","v":0},{"$f":"IF(AND(G62<>\"\",P62=1),2,0)","v":0},0,0,0,0,0,{"$f":"IF(年暦!AF57=\"\",\"\",年暦!AF57)","v":""}]
[]
[{"$f":"IF(AND(D64=0,O64<>0),1,IF(AND(D64<>0,O64=0),1,IF(O64>6,1,\"\")))","v":""},{"$f":"IF(SUM(V64:AA65)<>0,1,\"\")","v":""},{"$f":"IF(SUM(A64:B65)<>0,\"error\",\"\")","v":""},{"$f":"年暦!AD59","v":0},28,{"$f":"年暦!AD60","v":"土"},null,null,null,null,null,null,{"$f":"IF(D64=0,0,1)","v":0},{"$f":"IF(年暦!AE60=\"\",\"\",年暦!AE60)","v":""},{"$f":"年暦!AE59","v":0},{"$f":"IF($O64=0,0,IF($O64>0,0,1))","v":0},{"$f":"IF($O64=0,0,IF($O64>1,0,1))","v":0},{"$f":"IF($O64=0,0,IF($O64>2,0,1))","v":0},{"$f":"IF($O64=0,0,IF($O64>3,0,1))","v":0},{"$f":"IF($O64=0,0,IF($O64>4,0,1))","v":0},{"$f":"IF($O64=0,0,IF($O64>5,0,1))","v":0},{"$f":"IF(AND(G64<>\"\",P64=1),2,0)","v":0},0,0,0,0,0,{"$f":"IF(年暦!AF59=\"\",\"\",年暦!AF59)","v":"学社連携協働フォーラム"}]
[]
[{"$f":"IF(AND(D66=0,O66<>0),1,IF(AND(D66<>0,O66=0),1,IF(O66>6,1,\"\")))","v":""},{"$f":"IF(SUM(V66:AA67)<>0,1,\"\")","v":""},{"$f":"IF(SUM(A66:B67)<>0,\"error\",\"\")","v":""},{"$f":"年暦!AD61","v":0},29,{"$f":"年暦!AD62","v":"日"},null,null,null,null,null,null,{"$f":"IF(D66=0,0,1)","v":0},{"$f":"IF(年暦!AE62=\"\",\"\",年暦!AE62)","v":""},{"$f":"年暦!AE61","v":0},{"$f":"IF($O66=0,0,IF($O66>0,0,1))","v":0},{"$f":"IF($O66=0,0,IF($O66>1,0,1))","v":0},{"$f":"IF($O66=0,0,IF($O66>2,0,1))","v":0},{"$f":"IF($O66=0,0,IF($O66>3,0,1))","v":0},{"$f":"IF($O66=0,0,IF($O66>4,0,1))","v":0},{"$f":"IF($O66=0,0,IF($O66>5,0,1))","v":0},{"$f":"IF(AND(G66<>\"\",P66=1),2,0)","v":0},0,0,0,0,0,{"$f":"IF(年暦!AF61=\"\",\"\",年暦!AF61)","v":""}]
[]
[{"$f":"IF(AND(D68=0,O68<>0),1,IF(AND(D68<>0,O68=0),1,IF(O68>6,1,\"\")))","v":""},{"$f":"IF(SUM(V68:AA69)<>0,1,\"\")","v":""},{"$f":"IF(SUM(A68:B69)<>0,\"error\",\"\")","v":""},{"$f":"年暦!AD63","v":30},30,{"$f":"年暦!AD64","v":"月"},null,null,null,null,null,null,{"$f":"IF(D68=0,0,1)","v":1},{"$f":"IF(年暦!AE64=\"\",\"\",年暦!AE64)","v":"○"},{"$f":"年暦!AE63","v":6},{"$f":"IF($O68=0,0,IF($O68>0,0,1))","v":0},{"$f":"IF($O68=0,0,IF($O68>1,0,1))","v":0},{"$f":"IF($O68=0,0,IF($O68>2,0,1))","v":0},{"$f":"IF($O68=0,0,IF($O68>3,0,1))","v":0},{"$f":"IF($O68=0,0,IF($O68>4,0,1))","v":0},{"$f":"IF($O68=0,0,IF($O68>5,0,1))","v":0},{"$f":"IF(AND(G68<>\"\",P68=1),2,0)","v":0},0,0,0,0,0,{"$f":"IF(年暦!AF63=\"\",\"\",年暦!AF63)","v":"冬の健康週間(12/4まで)"}]
[]
[]
[]
[null,null,null,null,"日","曜","○","●","児","ク","学","△","登校","給食","時数","授業時数確認",null,null,null,null,null,"誤入力確認",null,null,null,null,null,"行　事　等"]
[null,null,null,null,null,null,{"$f":"COUNTIF($G$10:$L$69,G72)","v":0},0,0,0,0,0,{"$f":"SUM(M10:M70)","v":19},{"$f":"COUNTIF(N10:N69,\"○\")","v":18},{"$f":"SUM(O10:O70)","v":105}]
[]
[null,null,null,null,null,null,null,"小計",null,null,"累計",null,null,null,null,null,null,null,null,null,null,null,null,null,null,null,null,null,null,null,"小計",null,null,"累計",null,null,null,null,null,"小計",null,null,"累計"]
[null,{"$f":"SUM(AE76,AE77,AE78,AN76,AN77,AN78)","v":0},{"$f":"IF(H77<>B76,\"error\",\"\")","v":"error"},null,"登校日数",null,null,{"$f":"M73","v":19},null,null,{"$f":"H76+'10'!K78:N78","v":141},null,null,null,null,null,null,null,null,null,null,null,null,null,null,null,null,"教科，道徳，総合",null,null,{"$f":"G73","v":0},null,null,{"$f":"AE76+'10'!AH78:AJ78","v":0},null,null,"クラブ",null,null,{"$f":"J73","v":0},null,null,{"$f":"AN76+'10'!AQ78:AS78","v":0}]
[null,null,null,null,"授業時数",null,null,{"$f":"O73","v":105},null,null,{"$f":"H77+'10'!K79:N79","v":791},null,null,null,null,null,null,null,null,null,null,null,null,null,null,null,null,"行事",null,null,{"$f":"H73","v":0},null,null,{"$f":"AE77+'10'!AH79:AJ79","v":2},null,null,"学級",null,null,{"$f":"K73","v":0},null,null,{"$f":"AN77+'10'!AQ79:AS79","v":1}]
[null,null,null,null,"給食日数",null,null,{"$f":"N73","v":18},null,null,{"$f":"H78+'10'!K80:N80","v":135},null,null,null,null,null,null,null,null,null,null,null,null,null,null,null,null,"児童会",null,null,{"$f":"I73","v":0},null,null,{"$f":"AE78+'10'!AH80:AJ80","v":0},null,null,"学校裁量",null,null,{"$f":"L73","v":0},null,null,{"$f":"AN78+'10'!AQ80:AS80","v":0}]

{"sheet":"12","index":8,"n_rows":80,"n_cols":43,"rows_kept":80,"cut":false,"hidden":false,"merged":[[79,42,79,44],[78,42,78,44],[77,42,77,44],[79,39,79,41],[78,39,78,41],[77,39,77,41],[77,27,77,29],[79,33,79,35],[78,33,78,35],[77,33,77,35],[79,30,79,32],[78,30,78,32],[77,30,77,32],[79,4,79,6],[78,4,78,6],[79,10,79,13],[78,10,78,13],[79,27,79,29],[78,27,78,29],[76,27,76,29],[76,10,76,13],[7,4,7,44],[77,4,77,6],[77,10,77,13],[76,42,76,44],[76,39,76,41],[76,36,76,38],[8,27,8,44],[41,27,42,44],[79,36,79,38],[78,36,78,38],[77,36,77,38],[76,4,76,6],[76,7,76,9],[79,7,79,9],[78,7,78,9],[77,7,77,9],[76,33,76,35],[76,30,76,32],[6,4,6,44],[5,4,5,44],[3,36,3,37],[3,33,3,34],[3,30,3,31],[3,27,3,28],[3,10,3,11],[3,7,3,8],[3,4,3,5],[27,27,28,44],[25,27,26,44],[39,27,40,44],[37,27,38,44],[35,27,36,44],[33,27,34,44],[67,27,68,44],[65,27,66,44],[63,27,64,44],[61,27,62,44],[31,27,32,44],[29,27,30,44],[47,27,48,44],[43,45,44,45],[45,45,46,45],[47,45,48,45],[49,45,50,45],[43,27,44,44],[67,45,68,45],[59,45,60,45],[61,45,62,45],[63,45,64,45],[65,45,66,45],[45,27,46,44],[57,27,58,44],[55,27,56,44],[53,27,54,44],[59,27,60,44],[51,45,52,45],[53,45,54,45],[55,45,56,45],[57,45,58,45],[51,27,52,44],[49,27,50,44],[31,45,32,45],[33,45,34,45],[35,45,36,45],[37,45,38,45],[39,45,40,45],[41,45,42,45],[19,45,20,45],[21,45,22,45],[23,45,24,45],[25,45,26,45],[27,45,28,45],[29,45,30,45],[65,0,66,0],[67,0,68,0],[57,0,58,0],[59,0,60,0],[61,0,62,0],[63,0,64,0],[45,0,46,0],[47,0,48,0],[49,0,50,0],[51,0,52,0],[53,0,54,0],[55,0,56,0],[33,0,34,0],[35,0,36,0],[37,0,38,0],[39,0,40,0],[41,0,42,0],[43,0,44,0],[21,0,22,0],[23,0,24,0],[25,0,26,0],[27,0,28,0],[29,0,30,0],[31,0,32,0],[67,19,68,19],[67,20,68,20],[65,19,66,19],[65,20,66,20],[9,0,10,0],[11,0,12,0],[13,0,14,0],[15,0,16,0],[17,0,18,0],[19,0,20,0],[53,19,54,19],[41,19,42,19],[41,20,42,20],[33,19,34,19],[33,20,34,20],[25,19,26,19],[25,20,26,20],[11,20,12,20],[65,17,66,17],[65,18,66,18],[67,15,68,15],[67,16,68,16],[67,17,68,17],[67,18,68,18],[63,25,64,25],[63,26,64,26],[63,19,64,19],[63,20,64,20],[63,21,64,21],[63,22,64,22],[63,23,64,23],[63,24,64,24],[53,20,54,20],[55,21,56,21],[55,22,56,22],[61,19,62,19],[61,20,62,20],[59,19,60,19],[59,20,60,20],[53,24,54,24],[53,25,54,25],[53,26,54,26],[57,19,58,19],[57,20,58,20],[53,21,54,21],[53,22,54,22],[55,19,56,19],[55,20,56,20],[51,19,52,19],[51,20,52,20],[49,19,50,19],[49,20,50,20],[45,19,46,19],[45,20,46,20],[43,19,44,19],[43,20,44,20],[47,19,48,19],[47,20,48,20],[39,19,40,19],[39,20,40,20],[37,19,38,19],[37,20,38,20],[39,21,40,21],[39,22,40,22],[35,19,36,19],[35,20,36,20],[47,21,48,21],[47,22,48,22],[43,21,44,21],[43,22,44,22],[41,21,42,21],[41,22,42,22],[29,24,30,24],[27,23,28,23],[27,24,28,24],[37,21,38,21],[37,22,38,22],[29,25,30,25],[29,26,30,26],[31,23,32,23],[31,24,32,24],[37,23,38,23],[37,24,38,24],[35,22,36,22],[35,23,36,23],[35,24,36,24],[33,25,34,25],[33,26,34,26],[35,25,36,25],[35,26,36,26],[37,26,38,26],[31,26,32,26],[27,26,28,26],[27,22,28,22],[29,22,30,22],[29,23,30,23],[23,19,24,19],[23,20,24,20],[21,19,22,19],[21,20,22,20],[25,21,26,21],[25,22,26,22],[19,25,20,25],[25,25,26,25],[37,25,38,25],[33,21,34,21],[33,22,34,22],[33,23,34,23],[33,24,34,24],[29,19,30,19],[29,20,30,20],[27,19,28,19],[27,20,28,20],[31,25,32,25],[31,19,32,19],[31,20,32,20],[31,21,32,21],[31,22,32,22],[27,25,28,25],[19,19,20,19],[17,27,18,44],[21,23,22,23],[21,24,22,24],[21,25,22,25],[21,26,22,26],[19,23,20,23],[19,24,20,24],[17,23,18,23],[21,21,22,21],[21,22,22,22],[9,22,10,22],[15,24,16,24],[15,25,16,25],[15,26,16,26],[17,24,18,24],[17,25,18,25],[17,26,18,26],[15,21,16,21],[15,22,16,22],[15,23,16,23],[11,21,12,21],[9,21,10,21],[11,26,12,26],[13,21,14,21],[13,22,14,22],[13,23,14,23],[13,24,14,24],[13,25,14,25],[13,26,14,26],[11,22,12,22],[11,24,12,24],[11,25,12,25],[11,23,12,23],[19,20,20,20],[17,19,18,19],[17,20,18,20],[9,19,10,19],[15,19,16,19],[15,20,16,20],[13,19,14,19],[13,20,14,20],[9,20,10,20],[11,19,12,19],[67,9,68,9],[67,10,68,10],[67,11,68,11],[67,14,68,14],[67,13,68,13],[67,12,68,12],[63,17,64,17],[63,18,64,18],[65,9,66,9],[65,10,66,10],[65,11,66,11],[65,14,66,14],[65,13,66,13],[65,12,66,12],[65,15,66,15],[65,16,66,16],[61,18,62,18],[63,9,64,9],[63,10,64,10],[63,11,64,11],[63,14,64,14],[63,13,64,13],[63,12,64,12],[63,15,64,15],[63,16,64,16],[61,9,62,9],[61,10,62,10],[61,11,62,11],[61,14,62,14],[61,13,62,13],[61,12,62,12],[61,15,62,15],[61,16,62,16],[61,17,62,17],[57,18,58,18],[59,9,60,9],[59,10,60,10],[59,11,60,11],[59,14,60,14],[59,13,60,13],[59,12,60,12],[59,15,60,15],[59,16,60,16],[59,17,60,17],[59,18,60,18],[57,9,58,9],[57,10,58,10],[57,11,58,11],[57,14,58,14],[57,13,58,13],[57,12,58,12],[57,15,58,15],[57,16,58,16],[57,17,58,17],[53,18,54,18],[55,9,56,9],[55,10,56,10],[55,11,56,11],[55,14,56,14],[55,13,56,13],[55,12,56,12],[55,15,56,15],[55,16,56,16],[55,17,56,17],[55,18,56,18],[53,9,54,9],[53,10,54,10],[53,11,54,11],[53,14,54,14],[53,13,54,13],[53,12,54,12],[53,15,54,15],[53,16,54,16],[53,17,54,17],[49,18,50,18],[51,9,52,9],[51,10,52,10],[51,11,52,11],[51,14,52,14],[51,13,52,13],[51,12,52,12],[51,15,52,15],[51,16,52,16],[51,17,52,17],[51,18,52,18],[49,9,50,9],[49,10,50,10],[49,11,50,11],[49,14,50,14],[49,13,50,13],[49,12,50,12],[49,15,50,15],[49,16,50,16],[49,17,50,17],[45,18,46,18],[47,9,48,9],[47,10,48,10],[47,11,48,11],[47,14,48,14],[47,13,48,13],[47,12,48,12],[47,15,48,15],[47,16,48,16],[47,17,48,17],[47,18,48,18],[45,9,46,9],[45,10,46,10],[45,11,46,11],[45,14,46,14],[45,13,46,13],[45,12,46,12],[45,15,46,15],[45,16,46,16],[45,17,46,17],[41,18,42,18],[43,9,44,9],[43,10,44,10],[43,11,44,11],[43,14,44,14],[43,13,44,13],[43,12,44,12],[43,15,44,15],[43,16,44,16],[43,17,44,17],[43,18,44,18],[41,9,42,9],[41,10,42,10],[41,11,42,11],[41,14,42,14],[41,13,42,13],[41,12,42,12],[41,15,42,15],[41,16,42,16],[41,17,42,17],[37,18,38,18],[39,9,40,9],[39,10,40,10],[39,11,40,11],[39,14,40,14],[39,13,40,13],[39,12,40,12],[39,15,40,15],[39,16,40,16],[39,17,40,17],[39,18,40,18],[37,9,38,9],[37,10,38,10],[37,11,38,11],[37,14,38,14],[37,13,38,13],[37,12,38,12],[37,15,38,15],[37,16,38,16],[37,17,38,17],[33,18,34,18],[35,9,36,9],[35,10,36,10],[35,11,36,11],[35,14,36,14],[35,13,36,13],[35,12,36,12],[35,15,36,15],[35,16,36,16],[35,17,36,17],[35,18,36,18],[33,9,34,9],[33,10,34,10],[33,11,34,11],[33,14,34,14],[33,13,34,13],[33,12,34,12],[33,15,34,15],[33,16,34,16],[33,17,34,17],[29,18,30,18],[31,9,32,9],[31,10,32,10],[31,11,32,11],[31,14,32,14],[31,13,32,13],[31,12,32,12],[31,15,32,15],[31,16,32,16],[31,17,32,17],[31,18,32,18],[29,9,30,9],[29,10,30,10],[29,11,30,11],[29,14,30,14],[29,13,30,13],[29,12,30,12],[29,15,30,15],[29,16,30,16],[29,17,30,17],[25,18,26,18],[27,9,28,9],[27,10,28,10],[27,11,28,11],[27,14,28,14],[27,13,28,13],[27,12,28,12],[27,15,28,15],[27,16,28,16],[27,17,28,17],[27,18,28,18],[25,9,26,9],[25,10,26,10],[25,11,26,11],[25,14,26,14],[25,13,26,13],[25,12,26,12],[25,15,26,15],[25,16,26,16],[25,17,26,17],[21,18,22,18],[23,9,24,9],[23,10,24,10],[23,11,24,11],[23,14,24,14],[23,13,24,13],[23,12,24,12],[23,15,24,15],[23,16,24,16],[23,17,24,17],[23,18,24,18],[21,9,22,9],[21,10,22,10],[21,11,22,11],[21,14,22,14],[21,13,22,13],[21,12,22,12],[21,15,22,15],[21,16,22,16],[21,17,22,17],[17,18,18,18],[19,9,20,9],[19,10,20,10],[19,11,20,11],[19,14,20,14],[19,13,20,13],[19,12,20,12],[19,15,20,15],[19,16,20,16],[19,17,20,17],[19,18,20,18],[17,9,18,9],[17,10,18,10],[17,11,18,11],[17,14,18,14],[17,13,18,13],[17,12,18,12],[17,15,18,15],[17,16,18,16],[17,17,18,17],[13,17,14,17],[13,18,14,18],[15,9,16,9],[15,10,16,10],[15,11,16,11],[15,14,16,14],[15,13,16,13],[15,12,16,12],[15,15,16,15],[15,16,16,16],[13,9,14,9],[13,10,14,10],[13,11,14,11],[13,14,14,14],[13,15,14,15],[13,16,14,16],[15,17,16,17],[15,18,16,18],[13,13,14,13],[13,12,14,12],[9,18,10,18],[11,9,12,9],[11,10,12,10],[11,11,12,11],[11,14,12,14],[11,15,12,15],[11,16,12,16],[11,17,12,17],[11,18,12,18],[9,9,10,9],[9,10,10,10],[9,11,10,11],[9,14,10,14],[9,13,10,13],[11,13,12,13],[9,12,10,12],[11,12,12,12],[9,15,10,15],[9,16,10,16],[9,17,10,17],[67,5,68,5],[67,6,68,6],[67,7,68,7],[67,8,68,8],[65,5,66,5],[65,6,66,6],[65,7,66,7],[61,5,62,5],[61,6,62,6],[61,7,62,7],[61,8,62,8],[65,8,66,8],[63,5,64,5],[63,6,64,6],[63,7,64,7],[63,8,64,8],[57,5,58,5],[57,6,58,6],[57,7,58,7],[57,8,58,8],[59,5,60,5],[59,6,60,6],[59,7,60,7],[59,8,60,8],[53,5,54,5],[53,6,54,6],[53,7,54,7],[53,8,54,8],[55,5,56,5],[55,6,56,6],[55,7,56,7],[55,8,56,8],[49,5,50,5],[49,6,50,6],[49,7,50,7],[49,8,50,8],[51,5,52,5],[51,6,52,6],[51,7,52,7],[51,8,52,8],[45,5,46,5],[45,6,46,6],[45,7,46,7],[45,8,46,8],[47,5,48,5],[47,6,48,6],[47,7,48,7],[47,8,48,8],[43,6,44,6],[43,7,44,7],[43,8,44,8],[37,5,38,5],[37,6,38,6],[37,7,38,7],[37,8,38,8],[39,5,40,5],[39,6,40,6],[39,7,40,7],[39,8,40,8],[23,5,24,5],[23,6,24,6],[23,7,24,7],[23,8,24,8],[33,5,34,5],[33,6,34,6],[33,7,34,7],[33,8,34,8],[27,7,28,7],[27,8,28,8],[29,5,30,5],[29,6,30,6],[29,7,30,7],[29,8,30,8],[31,5,32,5],[31,6,32,6],[31,7,32,7],[31,8,32,8],[27,6,28,6],[9,7,10,7],[9,8,10,8],[11,5,12,5],[11,6,12,6],[11,7,12,7],[9,6,10,6],[21,5,22,5],[21,6,22,6],[21,7,22,7],[21,8,22,8],[17,5,18,5],[17,6,18,6],[17,7,18,7],[17,8,18,8],[19,5,20,5],[19,6,20,6],[19,7,20,7],[19,8,20,8],[13,6,14,6],[13,7,14,7],[13,8,14,8],[15,5,16,5],[15,6,16,6],[15,7,16,7],[67,4,68,4],[65,4,66,4],[63,4,64,4],[61,4,62,4],[59,4,60,4],[57,4,58,4],[59,3,60,3],[57,3,58,3],[55,3,56,3],[55,4,56,4],[67,3,68,3],[65,3,66,3],[63,3,64,3],[61,3,62,3],[15,4,16,4],[19,3,20,3],[17,3,18,3],[15,3,16,3],[33,4,34,4],[23,4,24,4],[53,4,54,4],[51,4,52,4],[49,4,50,4],[47,4,48,4],[45,4,46,4],[31,4,32,4],[29,4,30,4],[27,4,28,4],[25,4,26,4],[43,3,44,3],[41,3,42,3],[39,3,40,3],[37,3,38,3],[51,3,52,3],[49,3,50,3],[47,3,48,3],[45,3,46,3],[35,3,36,3],[9,2,10,2],[11,2,12,2],[13,2,14,2],[13,3,14,3],[11,4,12,4],[9,4,10,4],[11,3,12,3],[9,3,10,3],[9,5,10,5],[13,4,14,4],[13,5,14,5],[15,8,16,8],[65,2,66,2],[55,2,56,2],[11,8,12,8],[23,2,24,2],[25,2,26,2],[27,2,28,2],[29,2,30,2],[15,2,16,2],[17,2,18,2],[19,2,20,2],[21,2,22,2],[21,4,22,4],[19,4,20,4],[17,4,18,4],[27,3,28,3],[25,3,26,3],[23,3,24,3],[21,3,22,3],[25,5,26,5],[25,6,26,6],[25,7,26,7],[25,8,26,8],[27,5,28,5],[55,1,56,1],[57,1,58,1],[59,1,60,1],[61,1,62,1],[47,1,48,1],[63,1,64,1],[57,2,58,2],[59,2,60,2],[61,2,62,2],[47,2,48,2],[49,2,50,2],[51,2,52,2],[53,2,54,2],[63,2,64,2],[53,3,54,3],[43,4,44,4],[41,4,42,4],[39,4,40,4],[37,4,38,4],[35,4,36,4],[67,2,68,2],[9,1,10,1],[11,1,12,1],[13,1,14,1],[15,1,16,1],[17,1,18,1],[19,1,20,1],[21,1,22,1],[31,1,32,1],[33,1,34,1],[35,1,36,1],[37,1,38,1],[23,1,24,1],[25,1,26,1],[27,1,28,1],[29,1,30,1],[65,1,66,1],[67,1,68,1],[43,25,44,25],[43,26,44,26],[51,1,52,1],[53,1,54,1],[39,1,40,1],[41,1,42,1],[43,1,44,1],[45,1,46,1],[49,1,50,1],[39,25,40,25],[39,26,40,26],[41,23,42,23],[41,24,42,24],[41,25,42,25],[41,26,42,26],[39,23,40,23],[39,24,40,24],[43,23,44,23],[43,24,44,24],[53,23,54,23],[45,25,46,25],[45,26,46,26],[45,22,46,22],[45,23,46,23],[27,21,28,21],[29,21,30,21],[35,21,36,21],[39,2,40,2],[41,2,42,2],[43,2,44,2],[45,2,46,2],[31,2,32,2],[33,2,34,2],[35,2,36,2],[37,2,38,2],[45,21,46,21],[33,3,34,3],[31,3,32,3],[29,3,30,3],[35,5,36,5],[35,6,36,6],[35,7,36,7],[35,8,36,8],[41,5,42,5],[41,6,42,6],[41,7,42,7],[41,8,42,8],[43,5,44,5],[25,26,26,26],[17,21,18,21],[17,22,18,22],[23,21,24,21],[23,22,24,22],[19,21,20,21],[19,22,20,22],[23,23,24,23],[23,24,24,24],[23,25,24,25],[23,26,24,26],[25,23,26,23],[25,24,26,24],[19,26,20,26],[45,24,46,24],[49,25,50,25],[49,26,50,26],[49,21,50,21],[49,22,50,22],[51,21,52,21],[51,22,52,22],[47,25,48,25],[47,26,48,26],[47,23,48,23],[47,24,48,24],[49,23,50,23],[49,24,50,24],[51,23,52,23],[51,24,52,24],[51,25,52,25],[51,26,52,26],[59,25,60,25],[59,26,60,26],[55,23,56,23],[55,24,56,24],[55,25,56,25],[55,26,56,26],[57,25,58,25],[57,26,58,26],[57,21,58,21],[57,22,58,22],[57,23,58,23],[57,24,58,24],[73,15,73,20],[73,21,73,26],[65,25,66,25],[65,26,66,26],[67,21,68,21],[67,22,68,22],[67,23,68,23],[11,27,12,44],[21,27,22,44],[19,27,20,44],[69,27,70,44],[65,22,66,22],[65,23,66,23],[65,24,66,24],[61,25,62,25],[61,26,62,26],[59,21,60,21],[59,22,60,22],[61,21,62,21],[61,22,62,22],[61,23,62,23],[61,24,62,24],[59,23,60,23],[59,24,60,24],[9,27,10,44],[8,15,8,20],[8,21,8,26],[9,23,10,23],[9,24,10,24],[9,25,10,25],[9,26,10,26],[69,5,70,5],[69,6,70,6],[69,7,70,7],[69,8,70,8],[15,27,16,44],[13,27,14,44],[67,24,68,24],[67,25,68,25],[67,26,68,26],[65,21,66,21],[69,9,70,9],[69,10,70,10],[69,11,70,11],[69,12,70,12],[23,27,24,44],[69,25,70,25],[69,26,70,26],[69,45,70,45],[69,21,70,21],[69,22,70,22],[69,23,70,23],[69,24,70,24],[69,0,70,0],[69,1,70,1],[69,2,70,2],[69,3,70,3],[69,4,70,4],[69,17,70,17],[69,18,70,18],[69,19,70,19],[69,20,70,20],[69,13,70,13],[69,14,70,14],[69,15,70,15],[69,16,70,16]]}
[]
[]
[]
[null,null,null,null,"q",null,null,"w",null,null,"e",null,null,null,null,null,null,null,null,null,null,null,null,null,null,null,null,"r",null,null,"t",null,null,"y",null,null,"u"]
[]
[null,null,null,null,"○：教科，道徳，総合　　●：行事　　児：児童会　　ク：クラブ　　学：学級　　△：学裁"]
[null,null,null,null,{"$f":"CONCATENATE(年暦!AH4,\"　　　予　定　表\")","v":"12　　　月　　　予　定　表"}]
[null,null,null,null,"○：教科，道徳，総合　　●：行事　　児：児童会　　ク：クラブ　　学：学級　　△：学裁"]
[null,null,null,null,"日","曜",1,2,3,4,5,6,"登校","給食","時数","授業時数確認",null,null,null,null,null,"誤入力確認",null,null,null,null,null,"行　事　等"]
[{"$f":"IF(AND(D10=0,O10<>0),1,IF(AND(D10<>0,O10=0),1,IF(O10>6,1,\"\")))","v":""},{"$f":"IF(SUM(V10:AA11)<>0,1,\"\")","v":""},{"$f":"IF(SUM(A10:B11)<>0,\"error\",\"\")","v":""},{"$f":"年暦!AH5","v":1},1,{"$f":"年暦!AH6","v":"火"},null,null,null,null,null,null,{"$f":"IF(D10=0,0,1)","v":1},{"$f":"IF(年暦!AI6=\"\",\"\",年暦!AI6)","v":"○"},{"$f":"年暦!AI5","v":5},{"$f":"IF($O10=0,0,IF($O10>0,0,1))","v":0},{"$f":"IF($O10=0,0,IF($O10>1,0,1))","v":0},{"$f":"IF($O10=0,0,IF($O10>2,0,1))","v":0},{"$f":"IF($O10=0,0,IF($O10>3,0,1))","v":0},{"$f":"IF($O10=0,0,IF($O10>4,0,1))","v":0},{"$f":"IF($O10=0,0,IF($O10>5,0,1))","v":1},{"$f":"IF(AND(G10<>\"\",P10=1),2,0)","v":0},0,0,0,0,0,{"$f":"IF(年暦!AJ5=\"\",\"\",年暦!AJ5)","v":"学級事務の日③"}]
[]
[{"$f":"IF(AND(D12=0,O12<>0),1,IF(AND(D12<>0,O12=0),1,IF(O12>6,1,\"\")))","v":""},{"$f":"IF(SUM(V12:AA13)<>0,1,\"\")","v":""},{"$f":"IF(SUM(A12:B13)<>0,\"error\",\"\")","v":""},{"$f":"年暦!AH7","v":2},2,{"$f":"年暦!AH8","v":"水"},null,null,null,null,null,null,{"$f":"IF(D12=0,0,1)","v":1},{"$f":"IF(年暦!AI8=\"\",\"\",年暦!AI8)","v":"○"},{"$f":"年暦!AI7","v":5},{"$f":"IF($O12=0,0,IF($O12>0,0,1))","v":0},{"$f":"IF($O12=0,0,IF($O12>1,0,1))","v":0},{"$f":"IF($O12=0,0,IF($O12>2,0,1))","v":0},{"$f":"IF($O12=0,0,IF($O12>3,0,1))","v":0},{"$f":"IF($O12=0,0,IF($O12>4,0,1))","v":0},{"$f":"IF($O12=0,0,IF($O12>5,0,1))","v":1},{"$f":"IF(AND(G12<>\"\",P12=1),2,0)","v":0},0,0,0,0,0,{"$f":"IF(年暦!AJ7=\"\",\"\",年暦!AJ7)","v":"地区児童会③"}]
[]
[{"$f":"IF(AND(D14=0,O14<>0),1,IF(AND(D14<>0,O14=0),1,IF(O14>6,1,\"\")))","v":""},{"$f":"IF(SUM(V14:AA15)<>0,1,\"\")","v":""},{"$f":"IF(SUM(A14:B15)<>0,\"error\",\"\")","v":""},{"$f":"年暦!AH9","v":3},3,{"$f":"年暦!AH10","v":"木"},null,null,null,null,null,null,{"$f":"IF(D14=0,0,1)","v":1},{"$f":"IF(年暦!AI10=\"\",\"\",年暦!AI10)","v":"○"},{"$f":"年暦!AI9","v":6},{"$f":"IF($O14=0,0,IF($O14>0,0,1))","v":0},{"$f":"IF($O14=0,0,IF($O14>1,0,1))","v":0},{"$f":"IF($O14=0,0,IF($O14>2,0,1))","v":0},{"$f":"IF($O14=0,0,IF($O14>3,0,1))","v":0},{"$f":"IF($O14=0,0,IF($O14>4,0,1))","v":0},{"$f":"IF($O14=0,0,IF($O14>5,0,1))","v":0},{"$f":"IF(AND(G14<>\"\",P14=1),2,0)","v":0},0,0,0,0,0,{"$f":"IF(年暦!AJ9=\"\",\"\",年暦!AJ9)","v":""}]
[]
[{"$f":"IF(AND(D16=0,O16<>0),1,IF(AND(D16<>0,O16=0),1,IF(O16>6,1,\"\")))","v":""},{"$f":"IF(SUM(V16:AA17)<>0,1,\"\")","v":""},{"$f":"IF(SUM(A16:B17)<>0,\"error\",\"\")","v":""},{"$f":"年暦!AH11","v":4},4,{"$f":"年暦!AH12","v":"金"},null,null,null,null,null,null,{"$f":"IF(D16=0,0,1)","v":1},{"$f":"IF(年暦!AI12=\"\",\"\",年暦!AI12)","v":"○"},{"$f":"年暦!AI11","v":4},{"$f":"IF($O16=0,0,IF($O16>0,0,1))","v":0},{"$f":"IF($O16=0,0,IF($O16>1,0,1))","v":0},{"$f":"IF($O16=0,0,IF($O16>2,0,1))","v":0},{"$f":"IF($O16=0,0,IF($O16>3,0,1))","v":0},{"$f":"IF($O16=0,0,IF($O16>4,0,1))","v":1},{"$f":"IF($O16=0,0,IF($O16>5,0,1))","v":1},{"$f":"IF(AND(G16<>\"\",P16=1),2,0)","v":0},0,0,0,0,0,{"$f":"IF(年暦!AJ11=\"\",\"\",年暦!AJ11)","v":"保護者懇談会①"}]
[]
[{"$f":"IF(AND(D18=0,O18<>0),1,IF(AND(D18<>0,O18=0),1,IF(O18>6,1,\"\")))","v":""},{"$f":"IF(SUM(V18:AA19)<>0,1,\"\")","v":""},{"$f":"IF(SUM(A18:B19)<>0,\"error\",\"\")","v":""},{"$f":"年暦!AH13","v":0},5,{"$f":"年暦!AH14","v":"土"},null,null,null,null,null,null,{"$f":"IF(D18=0,0,1)","v":0},{"$f":"IF(年暦!AI14=\"\",\"\",年暦!AI14)","v":""},{"$f":"年暦!AI13","v":0},{"$f":"IF($O18=0,0,IF($O18>0,0,1))","v":0},{"$f":"IF($O18=0,0,IF($O18>1,0,1))","v":0},{"$f":"IF($O18=0,0,IF($O18>2,0,1))","v":0},{"$f":"IF($O18=0,0,IF($O18>3,0,1))","v":0},{"$f":"IF($O18=0,0,IF($O18>4,0,1))","v":0},{"$f":"IF($O18=0,0,IF($O18>5,0,1))","v":0},{"$f":"IF(AND(G18<>\"\",P18=1),2,0)","v":0},0,0,0,0,0,{"$f":"IF(年暦!AJ13=\"\",\"\",年暦!AJ13)","v":"県立中学校入試"}]
[]
[{"$f":"IF(AND(D20=0,O20<>0),1,IF(AND(D20<>0,O20=0),1,IF(O20>6,1,\"\")))","v":""},{"$f":"IF(SUM(V20:AA21)<>0,1,\"\")","v":""},{"$f":"IF(SUM(A20:B21)<>0,\"error\",\"\")","v":""},{"$f":"年暦!AH15","v":0},6,{"$f":"年暦!AH16","v":"日"},null,null,null,null,null,null,{"$f":"IF(D20=0,0,1)","v":0},{"$f":"IF(年暦!AI16=\"\",\"\",年暦!AI16)","v":""},{"$f":"年暦!AI15","v":0},{"$f":"IF($O20=0,0,IF($O20>0,0,1))","v":0},{"$f":"IF($O20=0,0,IF($O20>1,0,1))","v":0},{"$f":"IF($O20=0,0,IF($O20>2,0,1))","v":0},{"$f":"IF($O20=0,0,IF($O20>3,0,1))","v":0},{"$f":"IF($O20=0,0,IF($O20>4,0,1))","v":0},{"$f":"IF($O20=0,0,IF($O20>5,0,1))","v":0},{"$f":"IF(AND(G20<>\"\",P20=1),2,0)","v":0},0,0,0,0,0,{"$f":"IF(年暦!AJ15=\"\",\"\",年暦!AJ15)","v":""}]
[]
[{"$f":"IF(AND(D22=0,O22<>0),1,IF(AND(D22<>0,O22=0),1,IF(O22>6,1,\"\")))","v":""},{"$f":"IF(SUM(V22:AA23)<>0,1,\"\")","v":""},{"$f":"IF(SUM(A22:B23)<>0,\"error\",\"\")","v":""},{"$f":"年暦!AH17","v":7},7,{"$f":"年暦!AH18","v":"月"},null,null,null,null,null,null,{"$f":"IF(D22=0,0,1)","v":1},{"$f":"IF(年暦!AI18=\"\",\"\",年暦!AI18)","v":"○"},{"$f":"年暦!AI17","v":4},{"$f":"IF($O22=0,0,IF($O22>0,0,1))","v":0},{"$f":"IF($O22=0,0,IF($O22>1,0,1))","v":0},{"$f":"IF($O22=0,0,IF($O22>2,0,1))","v":0},{"$f":"IF($O22=0,0,IF($O22>3,0,1))","v":0},{"$f":"IF($O22=0,0,IF($O22>4,0,1))","v":1},{"$f":"IF($O22=0,0,IF($O22>5,0,1))","v":1},{"$f":"IF(AND(G22<>\"\",P22=1),2,0)","v":0},0,0,0,0,0,{"$f":"IF(年暦!AJ17=\"\",\"\",年暦!AJ17)","v":"読書旬間（18日まで）\n保護者懇談会②"}]
[]
[{"$f":"IF(AND(D24=0,O24<>0),1,IF(AND(D24<>0,O24=0),1,IF(O24>6,1,\"\")))","v":""},{"$f":"IF(SUM(V24:AA25)<>0,1,\"\")","v":""},{"$f":"IF(SUM(A24:B25)<>0,\"error\",\"\")","v":""},{"$f":"年暦!AH19","v":8},8,{"$f":"年暦!AH20","v":"火"},null,null,null,null,null,null,{"$f":"IF(D24=0,0,1)","v":1},{"$f":"IF(年暦!AI20=\"\",\"\",年暦!AI20)","v":"○"},{"$f":"年暦!AI19","v":4},{"$f":"IF($O24=0,0,IF($O24>0,0,1))","v":0},{"$f":"IF($O24=0,0,IF($O24>1,0,1))","v":0},{"$f":"IF($O24=0,0,IF($O24>2,0,1))","v":0},{"$f":"IF($O24=0,0,IF($O24>3,0,1))","v":0},{"$f":"IF($O24=0,0,IF($O24>4,0,1))","v":1},{"$f":"IF($O24=0,0,IF($O24>5,0,1))","v":1},{"$f":"IF(AND(G24<>\"\",P24=1),2,0)","v":0},0,0,0,0,0,{"$f":"IF(年暦!AJ19=\"\",\"\",年暦!AJ19)","v":"保護者懇談会③"}]
[]
[{"$f":"IF(AND(D26=0,O26<>0),1,IF(AND(D26<>0,O26=0),1,IF(O26>6,1,\"\")))","v":""},{"$f":"IF(SUM(V26:AA27)<>0,1,\"\")","v":""},{"$f":"IF(SUM(A26:B27)<>0,\"error\",\"\")","v":""},{"$f":"年暦!AH21","v":9},9,{"$f":"年暦!AH22","v":"水"},null,null,null,null,null,null,{"$f":"IF(D26=0,0,1)","v":1},{"$f":"IF(年暦!AI22=\"\",\"\",年暦!AI22)","v":"○"},{"$f":"年暦!AI21","v":4},{"$f":"IF($O26=0,0,IF($O26>0,0,1))","v":0},{"$f":"IF($O26=0,0,IF($O26>1,0,1))","v":0},{"$f":"IF($O26=0,0,IF($O26>2,0,1))","v":0},{"$f":"IF($O26=0,0,IF($O26>3,0,1))","v":0},{"$f":"IF($O26=0,0,IF($O26>4,0,1))","v":1},{"$f":"IF($O26=0,0,IF($O26>5,0,1))","v":1},{"$f":"IF(AND(G26<>\"\",P26=1),2,0)","v":0},0,0,0,0,0,{"$f":"IF(年暦!AJ21=\"\",\"\",年暦!AJ21)","v":"保護者懇談会④"}]
[]
[{"$f":"IF(AND(D28=0,O28<>0),1,IF(AND(D28<>0,O28=0),1,IF(O28>6,1,\"\")))","v":""},{"$f":"IF(SUM(V28:AA29)<>0,1,\"\")","v":""},{"$f":"IF(SUM(A28:B29)<>0,\"error\",\"\")","v":""},{"$f":"年暦!AH23","v":10},10,{"$f":"年暦!AH24","v":"木"},null,null,null,null,null,null,{"$f":"IF(D28=0,0,1)","v":1},{"$f":"IF(年暦!AI24=\"\",\"\",年暦!AI24)","v":"○"},{"$f":"年暦!AI23","v":4},{"$f":"IF($O28=0,0,IF($O28>0,0,1))","v":0},{"$f":"IF($O28=0,0,IF($O28>1,0,1))","v":0},{"$f":"IF($O28=0,0,IF($O28>2,0,1))","v":0},{"$f":"IF($O28=0,0,IF($O28>3,0,1))","v":0},{"$f":"IF($O28=0,0,IF($O28>4,0,1))","v":1},{"$f":"IF($O28=0,0,IF($O28>5,0,1))","v":1},{"$f":"IF(AND(G28<>\"\",P28=1),2,0)","v":0},0,0,0,0,0,{"$f":"IF(年暦!AJ23=\"\",\"\",年暦!AJ23)","v":"保護者懇談会⑤"}]
[]
[{"$f":"IF(AND(D30=0,O30<>0),1,IF(AND(D30<>0,O30=0),1,IF(O30>6,1,\"\")))","v":""},{"$f":"IF(SUM(V30:AA31)<>0,1,\"\")","v":""},{"$f":"IF(SUM(A30:B31)<>0,\"error\",\"\")","v":""},{"$f":"年暦!AH25","v":11},11,{"$f":"年暦!AH26","v":"金"},null,null,null,null,null,null,{"$f":"IF(D30=0,0,1)","v":1},{"$f":"IF(年暦!AI26=\"\",\"\",年暦!AI26)","v":"○"},{"$f":"年暦!AI25","v":6},{"$f":"IF($O30=0,0,IF($O30>0,0,1))","v":0},{"$f":"IF($O30=0,0,IF($O30>1,0,1))","v":0},{"$f":"IF($O30=0,0,IF($O30>2,0,1))","v":0},{"$f":"IF($O30=0,0,IF($O30>3,0,1))","v":0},{"$f":"IF($O30=0,0,IF($O30>4,0,1))","v":0},{"$f":"IF($O30=0,0,IF($O30>5,0,1))","v":0},{"$f":"IF(AND(G30<>\"\",P30=1),2,0)","v":0},0,0,0,0,0,{"$f":"IF(年暦!AJ25=\"\",\"\",年暦!AJ25)","v":""}]
[]
[{"$f":"IF(AND(D32=0,O32<>0),1,IF(AND(D32<>0,O32=0),1,IF(O32>6,1,\"\")))","v":""},{"$f":"IF(SUM(V32:AA33)<>0,1,\"\")","v":""},{"$f":"IF(SUM(A32:B33)<>0,\"error\",\"\")","v":""},{"$f":"年暦!AH27","v":0},12,{"$f":"年暦!AH28","v":"土"},null,null,null,null,null,null,{"$f":"IF(D32=0,0,1)","v":0},{"$f":"IF(年暦!AI28=\"\",\"\",年暦!AI28)","v":""},{"$f":"年暦!AI27","v":0},{"$f":"IF($O32=0,0,IF($O32>0,0,1))","v":0},{"$f":"IF($O32=0,0,IF($O32>1,0,1))","v":0},{"$f":"IF($O32=0,0,IF($O32>2,0,1))","v":0},{"$f":"IF($O32=0,0,IF($O32>3,0,1))","v":0},{"$f":"IF($O32=0,0,IF($O32>4,0,1))","v":0},{"$f":"IF($O32=0,0,IF($O32>5,0,1))","v":0},{"$f":"IF(AND(G32<>\"\",P32=1),2,0)","v":0},0,0,0,0,0,{"$f":"IF(年暦!AJ27=\"\",\"\",年暦!AJ27)","v":""}]
[]
[{"$f":"IF(AND(D34=0,O34<>0),1,IF(AND(D34<>0,O34=0),1,IF(O34>6,1,\"\")))","v":""},{"$f":"IF(SUM(V34:AA35)<>0,1,\"\")","v":""},{"$f":"IF(SUM(A34:B35)<>0,\"error\",\"\")","v":""},{"$f":"年暦!AH29","v":0},13,{"$f":"年暦!AH30","v":"日"},null,null,null,null,null,null,{"$f":"IF(D34=0,0,1)","v":0},{"$f":"IF(年暦!AI30=\"\",\"\",年暦!AI30)","v":""},{"$f":"年暦!AI29","v":0},{"$f":"IF($O34=0,0,IF($O34>0,0,1))","v":0},{"$f":"IF($O34=0,0,IF($O34>1,0,1))","v":0},{"$f":"IF($O34=0,0,IF($O34>2,0,1))","v":0},{"$f":"IF($O34=0,0,IF($O34>3,0,1))","v":0},{"$f":"IF($O34=0,0,IF($O34>4,0,1))","v":0},{"$f":"IF($O34=0,0,IF($O34>5,0,1))","v":0},{"$f":"IF(AND(G34<>\"\",P34=1),2,0)","v":0},0,0,0,0,0,{"$f":"IF(年暦!AJ29=\"\",\"\",年暦!AJ29)","v":""}]
[]
[{"$f":"IF(AND(D36=0,O36<>0),1,IF(AND(D36<>0,O36=0),1,IF(O36>6,1,\"\")))","v":""},{"$f":"IF(SUM(V36:AA37)<>0,1,\"\")","v":""},{"$f":"IF(SUM(A36:B37)<>0,\"error\",\"\")","v":""},{"$f":"年暦!AH31","v":14},14,{"$f":"年暦!AH32","v":"月"},null,null,null,null,null,null,{"$f":"IF(D36=0,0,1)","v":1},{"$f":"IF(年暦!AI32=\"\",\"\",年暦!AI32)","v":"○"},{"$f":"年暦!AI31","v":6},{"$f":"IF($O36=0,0,IF($O36>0,0,1))","v":0},{"$f":"IF($O36=0,0,IF($O36>1,0,1))","v":0},{"$f":"IF($O36=0,0,IF($O36>2,0,1))","v":0},{"$f":"IF($O36=0,0,IF($O36>3,0,1))","v":0},{"$f":"IF($O36=0,0,IF($O36>4,0,1))","v":0},{"$f":"IF($O36=0,0,IF($O36>5,0,1))","v":0},{"$f":"IF(AND(G36<>\"\",P36=1),2,0)","v":0},0,0,0,0,0,{"$f":"IF(年暦!AJ31=\"\",\"\",年暦!AJ31)","v":"学期末清掃（24日まで）"}]
[]
[{"$f":"IF(AND(D38=0,O38<>0),1,IF(AND(D38<>0,O38=0),1,IF(O38>6,1,\"\")))","v":""},{"$f":"IF(SUM(V38:AA39)<>0,1,\"\")","v":""},{"$f":"IF(SUM(A38:B39)<>0,\"error\",\"\")","v":""},{"$f":"年暦!AH33","v":15},15,{"$f":"年暦!AH34","v":"火"},null,null,null,null,null,null,{"$f":"IF(D38=0,0,1)","v":1},{"$f":"IF(年暦!AI34=\"\",\"\",年暦!AI34)","v":"○"},{"$f":"年暦!AI33","v":6},{"$f":"IF($O38=0,0,IF($O38>0,0,1))","v":0},{"$f":"IF($O38=0,0,IF($O38>1,0,1))","v":0},{"$f":"IF($O38=0,0,IF($O38>2,0,1))","v":0},{"$f":"IF($O38=0,0,IF($O38>3,0,1))","v":0},{"$f":"IF($O38=0,0,IF($O38>4,0,1))","v":0},{"$f":"IF($O38=0,0,IF($O38>5,0,1))","v":0},{"$f":"IF(AND(G38<>\"\",P38=1),2,0)","v":0},0,0,0,0,0,{"$f":"IF(年暦!AJ33=\"\",\"\",年暦!AJ33)","v":"県立中学校合格発表"}]
[]
[{"$f":"IF(AND(D40=0,O40<>0),1,IF(AND(D40<>0,O40=0),1,IF(O40>6,1,\"\")))","v":""},{"$f":"IF(SUM(V40:AA41)<>0,1,\"\")","v":""},{"$f":"IF(SUM(A40:B41)<>0,\"error\",\"\")","v":""},{"$f":"年暦!AH35","v":16},16,{"$f":"年暦!AH36","v":"水"},null,null,null,null,null,null,{"$f":"IF(D40=0,0,1)","v":1},{"$f":"IF(年暦!AI36=\"\",\"\",年暦!AI36)","v":"○"},{"$f":"年暦!AI35","v":5},{"$f":"IF($O40=0,0,IF($O40>0,0,1))","v":0},{"$f":"IF($O40=0,0,IF($O40>1,0,1))","v":0},{"$f":"IF($O40=0,0,IF($O40>2,0,1))","v":0},{"$f":"IF($O40=0,0,IF($O40>3,0,1))","v":0},{"$f":"IF($O40=0,0,IF($O40>4,0,1))","v":0},{"$f":"IF($O40=0,0,IF($O40>5,0,1))","v":1},{"$f":"IF(AND(G40<>\"\",P40=1),2,0)","v":0},0,0,0,0,0,{"$f":"IF(年暦!AJ35=\"\",\"\",年暦!AJ35)","v":"村卒業記念写真"}]
[]
[{"$f":"IF(AND(D42=0,O42<>0),1,IF(AND(D42<>0,O42=0),1,IF(O42>6,1,\"\")))","v":""},{"$f":"IF(SUM(V42:AA43)<>0,1,\"\")","v":""},{"$f":"IF(SUM(A42:B43)<>0,\"error\",\"\")","v":""},{"$f":"年暦!AH37","v":17},17,{"$f":"年暦!AH38","v":"木"},null,null,null,null,null,null,{"$f":"IF(D42=0,0,1)","v":1},{"$f":"IF(年暦!AI38=\"\",\"\",年暦!AI38)","v":"○"},{"$f":"年暦!AI37","v":6},{"$f":"IF($O42=0,0,IF($O42>0,0,1))","v":0},{"$f":"IF($O42=0,0,IF($O42>1,0,1))","v":0},{"$f":"IF($O42=0,0,IF($O42>2,0,1))","v":0},{"$f":"IF($O42=0,0,IF($O42>3,0,1))","v":0},{"$f":"IF($O42=0,0,IF($O42>4,0,1))","v":0},{"$f":"IF($O42=0,0,IF($O42>5,0,1))","v":0},{"$f":"IF(AND(G42<>\"\",P42=1),2,0)","v":0},0,0,0,0,0,{"$f":"IF(年暦!AJ37=\"\",\"\",年暦!AJ37)","v":""}]
[]
[{"$f":"IF(AND(D44=0,O44<>0),1,IF(AND(D44<>0,O44=0),1,IF(O44>6,1,\"\")))","v":""},{"$f":"IF(SUM(V44:AA45)<>0,1,\"\")","v":""},{"$f":"IF(SUM(A44:B45)<>0,\"error\",\"\")","v":""},{"$f":"年暦!AH39","v":18},18,{"$f":"年暦!AH40","v":"金"},null,null,null,null,null,null,{"$f":"IF(D44=0,0,1)","v":1},{"$f":"IF(年暦!AI40=\"\",\"\",年暦!AI40)","v":"○"},{"$f":"年暦!AI39","v":6},{"$f":"IF($O44=0,0,IF($O44>0,0,1))","v":0},{"$f":"IF($O44=0,0,IF($O44>1,0,1))","v":0},{"$f":"IF($O44=0,0,IF($O44>2,0,1))","v":0},{"$f":"IF($O44=0,0,IF($O44>3,0,1))","v":0},{"$f":"IF($O44=0,0,IF($O44>4,0,1))","v":0},{"$f":"IF($O44=0,0,IF($O44>5,0,1))","v":0},{"$f":"IF(AND(G44<>\"\",P44=1),2,0)","v":0},0,0,0,0,0,{"$f":"IF(年暦!AJ39=\"\",\"\",年暦!AJ39)","v":"スケート教室（１・２年）"}]
[]
[{"$f":"IF(AND(D46=0,O46<>0),1,IF(AND(D46<>0,O46=0),1,IF(O46>6,1,\"\")))","v":""},{"$f":"IF(SUM(V46:AA47)<>0,1,\"\")","v":""},{"$f":"IF(SUM(A46:B47)<>0,\"error\",\"\")","v":""},{"$f":"年暦!AH41","v":0},19,{"$f":"年暦!AH42","v":"土"},null,null,null,null,null,null,{"$f":"IF(D46=0,0,1)","v":0},{"$f":"IF(年暦!AI42=\"\",\"\",年暦!AI42)","v":""},{"$f":"年暦!AI41","v":0},{"$f":"IF($O46=0,0,IF($O46>0,0,1))","v":0},{"$f":"IF($O46=0,0,IF($O46>1,0,1))","v":0},{"$f":"IF($O46=0,0,IF($O46>2,0,1))","v":0},{"$f":"IF($O46=0,0,IF($O46>3,0,1))","v":0},{"$f":"IF($O46=0,0,IF($O46>4,0,1))","v":0},{"$f":"IF($O46=0,0,IF($O46>5,0,1))","v":0},{"$f":"IF(AND(G46<>\"\",P46=1),2,0)","v":0},0,0,0,0,0,{"$f":"IF(年暦!AJ41=\"\",\"\",年暦!AJ41)","v":""}]
[]
[{"$f":"IF(AND(D48=0,O48<>0),1,IF(AND(D48<>0,O48=0),1,IF(O48>6,1,\"\")))","v":""},{"$f":"IF(SUM(V48:AA49)<>0,1,\"\")","v":""},{"$f":"IF(SUM(A48:B49)<>0,\"error\",\"\")","v":""},{"$f":"年暦!AH43","v":0},20,{"$f":"年暦!AH44","v":"日"},null,null,null,null,null,null,{"$f":"IF(D48=0,0,1)","v":0},{"$f":"IF(年暦!AI44=\"\",\"\",年暦!AI44)","v":""},{"$f":"年暦!AI43","v":0},{"$f":"IF($O48=0,0,IF($O48>0,0,1))","v":0},{"$f":"IF($O48=0,0,IF($O48>1,0,1))","v":0},{"$f":"IF($O48=0,0,IF($O48>2,0,1))","v":0},{"$f":"IF($O48=0,0,IF($O48>3,0,1))","v":0},{"$f":"IF($O48=0,0,IF($O48>4,0,1))","v":0},{"$f":"IF($O48=0,0,IF($O48>5,0,1))","v":0},{"$f":"IF(AND(G48<>\"\",P48=1),2,0)","v":0},0,0,0,0,0,{"$f":"IF(年暦!AJ43=\"\",\"\",年暦!AJ43)","v":""}]
[]
[{"$f":"IF(AND(D50=0,O50<>0),1,IF(AND(D50<>0,O50=0),1,IF(O50>6,1,\"\")))","v":""},{"$f":"IF(SUM(V50:AA51)<>0,1,\"\")","v":""},{"$f":"IF(SUM(A50:B51)<>0,\"error\",\"\")","v":""},{"$f":"年暦!AH45","v":21},21,{"$f":"年暦!AH46","v":"月"},null,null,null,null,null,null,{"$f":"IF(D50=0,0,1)","v":1},{"$f":"IF(年暦!AI46=\"\",\"\",年暦!AI46)","v":"○"},{"$f":"年暦!AI45","v":6},{"$f":"IF($O50=0,0,IF($O50>0,0,1))","v":0},{"$f":"IF($O50=0,0,IF($O50>1,0,1))","v":0},{"$f":"IF($O50=0,0,IF($O50>2,0,1))","v":0},{"$f":"IF($O50=0,0,IF($O50>3,0,1))","v":0},{"$f":"IF($O50=0,0,IF($O50>4,0,1))","v":0},{"$f":"IF($O50=0,0,IF($O50>5,0,1))","v":0},{"$f":"IF(AND(G50<>\"\",P50=1),2,0)","v":0},0,0,0,0,0,{"$f":"IF(年暦!AJ45=\"\",\"\",年暦!AJ45)","v":""}]
[]
[{"$f":"IF(AND(D52=0,O52<>0),1,IF(AND(D52<>0,O52=0),1,IF(O52>6,1,\"\")))","v":""},{"$f":"IF(SUM(V52:AA53)<>0,1,\"\")","v":""},{"$f":"IF(SUM(A52:B53)<>0,\"error\",\"\")","v":""},{"$f":"年暦!AH47","v":22},22,{"$f":"年暦!AH48","v":"火"},null,null,null,null,null,null,{"$f":"IF(D52=0,0,1)","v":1},{"$f":"IF(年暦!AI48=\"\",\"\",年暦!AI48)","v":"○"},{"$f":"年暦!AI47","v":6},{"$f":"IF($O52=0,0,IF($O52>0,0,1))","v":0},{"$f":"IF($O52=0,0,IF($O52>1,0,1))","v":0},{"$f":"IF($O52=0,0,IF($O52>2,0,1))","v":0},{"$f":"IF($O52=0,0,IF($O52>3,0,1))","v":0},{"$f":"IF($O52=0,0,IF($O52>4,0,1))","v":0},{"$f":"IF($O52=0,0,IF($O52>5,0,1))","v":0},{"$f":"IF(AND(G52<>\"\",P52=1),2,0)","v":0},0,0,0,0,0,{"$f":"IF(年暦!AJ47=\"\",\"\",年暦!AJ47)","v":""}]
[]
[{"$f":"IF(AND(D54=0,O54<>0),1,IF(AND(D54<>0,O54=0),1,IF(O54>6,1,\"\")))","v":""},{"$f":"IF(SUM(V54:AA55)<>0,1,\"\")","v":""},{"$f":"IF(SUM(A54:B55)<>0,\"error\",\"\")","v":""},{"$f":"年暦!AH49","v":23},23,{"$f":"年暦!AH50","v":"水"},null,null,null,null,null,null,{"$f":"IF(D54=0,0,1)","v":1},{"$f":"IF(年暦!AI50=\"\",\"\",年暦!AI50)","v":"○"},{"$f":"年暦!AI49","v":5},{"$f":"IF($O54=0,0,IF($O54>0,0,1))","v":0},{"$f":"IF($O54=0,0,IF($O54>1,0,1))","v":0},{"$f":"IF($O54=0,0,IF($O54>2,0,1))","v":0},{"$f":"IF($O54=0,0,IF($O54>3,0,1))","v":0},{"$f":"IF($O54=0,0,IF($O54>4,0,1))","v":0},{"$f":"IF($O54=0,0,IF($O54>5,0,1))","v":1},{"$f":"IF(AND(G54<>\"\",P54=1),2,0)","v":0},0,0,0,0,0,{"$f":"IF(年暦!AJ49=\"\",\"\",年暦!AJ49)","v":""}]
[]
[{"$f":"IF(AND(D56=0,O56<>0),1,IF(AND(D56<>0,O56=0),1,IF(O56>6,1,\"\")))","v":""},{"$f":"IF(SUM(V56:AA57)<>0,1,\"\")","v":""},{"$f":"IF(SUM(A56:B57)<>0,\"error\",\"\")","v":""},{"$f":"年暦!AH51","v":24},24,{"$f":"年暦!AH52","v":"木"},null,null,null,null,null,null,{"$f":"IF(D56=0,0,1)","v":1},{"$f":"IF(年暦!AI52=\"\",\"\",年暦!AI52)","v":"○"},{"$f":"年暦!AI51","v":6},{"$f":"IF($O56=0,0,IF($O56>0,0,1))","v":0},{"$f":"IF($O56=0,0,IF($O56>1,0,1))","v":0},{"$f":"IF($O56=0,0,IF($O56>2,0,1))","v":0},{"$f":"IF($O56=0,0,IF($O56>3,0,1))","v":0},{"$f":"IF($O56=0,0,IF($O56>4,0,1))","v":0},{"$f":"IF($O56=0,0,IF($O56>5,0,1))","v":0},{"$f":"IF(AND(G56<>\"\",P56=1),2,0)","v":0},0,0,0,0,0,{"$f":"IF(年暦!AJ51=\"\",\"\",年暦!AJ51)","v":""}]
[]
[{"$f":"IF(AND(D58=0,O58<>0),1,IF(AND(D58<>0,O58=0),1,IF(O58>6,1,\"\")))","v":""},{"$f":"IF(SUM(V58:AA59)<>0,1,\"\")","v":""},{"$f":"IF(SUM(A58:B59)<>0,\"error\",\"\")","v":""},{"$f":"年暦!AH53","v":25},25,{"$f":"年暦!AH54","v":"金"},null,null,null,null,null,null,{"$f":"IF(D58=0,0,1)","v":1},{"$f":"IF(年暦!AI54=\"\",\"\",年暦!AI54)","v":"○"},{"$f":"年暦!AI53","v":5},{"$f":"IF($O58=0,0,IF($O58>0,0,1))","v":0},{"$f":"IF($O58=0,0,IF($O58>1,0,1))","v":0},{"$f":"IF($O58=0,0,IF($O58>2,0,1))","v":0},{"$f":"IF($O58=0,0,IF($O58>3,0,1))","v":0},{"$f":"IF($O58=0,0,IF($O58>4,0,1))","v":0},{"$f":"IF($O58=0,0,IF($O58>5,0,1))","v":1},{"$f":"IF(AND(G58<>\"\",P58=1),2,0)","v":0},0,0,0,0,0,{"$f":"IF(年暦!AJ53=\"\",\"\",年暦!AJ53)","v":"２学期終業式"}]
[]
[{"$f":"IF(AND(D60=0,O60<>0),1,IF(AND(D60<>0,O60=0),1,IF(O60>6,1,\"\")))","v":""},{"$f":"IF(SUM(V60:AA61)<>0,1,\"\")","v":""},{"$f":"IF(SUM(A60:B61)<>0,\"error\",\"\")","v":""},{"$f":"年暦!AH55","v":0},26,{"$f":"年暦!AH56","v":"土"},null,null,null,null,null,null,{"$f":"IF(D60=0,0,1)","v":0},{"$f":"IF(年暦!AI56=\"\",\"\",年暦!AI56)","v":""},{"$f":"年暦!AI55","v":0},{"$f":"IF($O60=0,0,IF($O60>0,0,1))","v":0},{"$f":"IF($O60=0,0,IF($O60>1,0,1))","v":0},{"$f":"IF($O60=0,0,IF($O60>2,0,1))","v":0},{"$f":"IF($O60=0,0,IF($O60>3,0,1))","v":0},{"$f":"IF($O60=0,0,IF($O60>4,0,1))","v":0},{"$f":"IF($O60=0,0,IF($O60>5,0,1))","v":0},{"$f":"IF(AND(G60<>\"\",P60=1),2,0)","v":0},0,0,0,0,0,{"$f":"IF(年暦!AJ55=\"\",\"\",年暦!AJ55)","v":"冬休み（1/6まで）"}]
[]
[{"$f":"IF(AND(D62=0,O62<>0),1,IF(AND(D62<>0,O62=0),1,IF(O62>6,1,\"\")))","v":""},{"$f":"IF(SUM(V62:AA63)<>0,1,\"\")","v":""},{"$f":"IF(SUM(A62:B63)<>0,\"error\",\"\")","v":""},{"$f":"年暦!AH57","v":0},27,{"$f":"年暦!AH58","v":"日"},null,null,null,null,null,null,{"$f":"IF(D62=0,0,1)","v":0},{"$f":"IF(年暦!AI58=\"\",\"\",年暦!AI58)","v":""},{"$f":"年暦!AI57","v":0},{"$f":"IF($O62=0,0,IF($O62>0,0,1))","v":0},{"$f":"IF($O62=0,0,IF($O62>1,0,1))","v":0},{"$f":"IF($O62=0,0,IF($O62>2,0,1))","v":0},{"$f":"IF($O62=0,0,IF($O62>3,0,1))","v":0},{"$f":"IF($O62=0,0,IF($O62>4,0,1))","v":0},{"$f":"IF($O62=0,0,IF($O62>5,0,1))","v":0},{"$f":"IF(AND(G62<>\"\",P62=1),2,0)","v":0},0,0,0,0,0,{"$f":"IF(年暦!AJ57=\"\",\"\",年暦!AJ57)","v":""}]
[]
[{"$f":"IF(AND(D64=0,O64<>0),1,IF(AND(D64<>0,O64=0),1,IF(O64>6,1,\"\")))","v":""},{"$f":"IF(SUM(V64:AA65)<>0,1,\"\")","v":""},{"$f":"IF(SUM(A64:B65)<>0,\"error\",\"\")","v":""},{"$f":"年暦!AH59","v":0},28,{"$f":"年暦!AH60","v":"月"},null,null,null,null,null,null,{"$f":"IF(D64=0,0,1)","v":0},{"$f":"IF(年暦!AI60=\"\",\"\",年暦!AI60)","v":""},{"$f":"年暦!AI59","v":0},{"$f":"IF($O64=0,0,IF($O64>0,0,1))","v":0},{"$f":"IF($O64=0,0,IF($O64>1,0,1))","v":0},{"$f":"IF($O64=0,0,IF($O64>2,0,1))","v":0},{"$f":"IF($O64=0,0,IF($O64>3,0,1))","v":0},{"$f":"IF($O64=0,0,IF($O64>4,0,1))","v":0},{"$f":"IF($O64=0,0,IF($O64>5,0,1))","v":0},{"$f":"IF(AND(G64<>\"\",P64=1),2,0)","v":0},0,0,0,0,0,{"$f":"IF(年暦!AJ59=\"\",\"\",年暦!AJ59)","v":""}]
[]
[{"$f":"IF(AND(D66=0,O66<>0),1,IF(AND(D66<>0,O66=0),1,IF(O66>6,1,\"\")))","v":""},{"$f":"IF(SUM(V66:AA67)<>0,1,\"\")","v":""},{"$f":"IF(SUM(A66:B67)<>0,\"error\",\"\")","v":""},{"$f":"年暦!AH61","v":0},29,{"$f":"年暦!AH62","v":"火"},null,null,null,null,null,null,{"$f":"IF(D66=0,0,1)","v":0},{"$f":"IF(年暦!AI62=\"\",\"\",年暦!AI62)","v":""},{"$f":"年暦!AI61","v":0},{"$f":"IF($O66=0,0,IF($O66>0,0,1))","v":0},{"$f":"IF($O66=0,0,IF($O66>1,0,1))","v":0},{"$f":"IF($O66=0,0,IF($O66>2,0,1))","v":0},{"$f":"IF($O66=0,0,IF($O66>3,0,1))","v":0},{"$f":"IF($O66=0,0,IF($O66>4,0,1))","v":0},{"$f":"IF($O66=0,0,IF($O66>5,0,1))","v":0},{"$f":"IF(AND(G66<>\"\",P66=1),2,0)","v":0},0,0,0,0,0,{"$f":"IF(年暦!AJ61=\"\",\"\",年暦!AJ61)","v":""}]
[]
[{"$f":"IF(AND(D68=0,O68<>0),1,IF(AND(D68<>0,O68=0),1,IF(O68>6,1,\"\")))","v":""},{"$f":"IF(SUM(V68:AA69)<>0,1,\"\")","v":""},{"$f":"IF(SUM(A68:B69)<>0,\"error\",\"\")","v":""},{"$f":"年暦!AH63","v":0},30,{"$f":"年暦!AH64","v":"水"},null,null,null,null,null,null,{"$f":"IF(D68=0,0,1)","v":0},{"$f":"IF(年暦!AI64=\"\",\"\",年暦!AI64)","v":""},{"$f":"年暦!AI63","v":0},{"$f":"IF($O68=0,0,IF($O68>0,0,1))","v":0},{"$f":"IF($O68=0,0,IF($O68>1,0,1))","v":0},{"$f":"IF($O68=0,0,IF($O68>2,0,1))","v":0},{"$f":"IF($O68=0,0,IF($O68>3,0,1))","v":0},{"$f":"IF($O68=0,0,IF($O68>4,0,1))","v":0},{"$f":"IF($O68=0,0,IF($O68>5,0,1))","v":0},{"$f":"IF(AND(G68<>\"\",P68=1),2,0)","v":0},0,0,0,0,0,{"$f":"IF(年暦!AJ63=\"\",\"\",年暦!AJ63)","v":""}]
[]
[{"$f":"IF(AND(D70=0,O70<>0),1,IF(AND(D70<>0,O70=0),1,IF(O70>6,1,\"\")))","v":""},{"$f":"IF(SUM(V70:AA71)<>0,1,\"\")","v":""},{"$f":"IF(SUM(A70:B71)<>0,\"error\",\"\")","v":""},{"$f":"年暦!AH65","v":0},31,{"$f":"年暦!AH66","v":"木"},null,null,null,null,null,null,{"$f":"IF(D70=0,0,1)","v":0},{"$f":"IF(年暦!AI66=\"\",\"\",年暦!AI66)","v":""},{"$f":"年暦!AI65","v":0},{"$f":"IF($O70=0,0,IF($O70>0,0,1))","v":0},{"$f":"IF($O70=0,0,IF($O70>1,0,1))","v":0},{"$f":"IF($O70=0,0,IF($O70>2,0,1))","v":0},{"$f":"IF($O70=0,0,IF($O70>3,0,1))","v":0},{"$f":"IF($O70=0,0,IF($O70>4,0,1))","v":0},{"$f":"IF($O70=0,0,IF($O70>5,0,1))","v":0},{"$f":"IF(AND(G70<>\"\",P70=1),2,0)","v":0},0,0,0,0,0,{"$f":"IF(年暦!AJ65=\"\",\"\",年暦!AJ65)","v":""}]
[]
[]
[]
[null,null,null,null,"日","曜","○","●","児","ク","学","△","登校","給食","時数","授業時数確認",null,null,null,null,null,"誤入力確認",null,null,null,null,null,"行　事　等"]
[null,null,null,null,null,null,{"$f":"COUNTIF($G$10:$L$71,G74)","v":0},0,0,0,0,0,{"$f":"SUM(M10:M72)","v":19},{"$f":"COUNTIF(N10:N71,\"○\")","v":19},{"$f":"SUM(O10:O72)","v":99}]
[]
[null,null,null,null,null,null,null,"小計",null,null,"累計",null,null,null,null,null,null,null,null,null,null,null,null,null,null,null,null,null,null,null,"小計",null,null,"累計",null,null,null,null,null,"小計",null,null,"累計"]
[null,{"$f":"SUM(AE78,AE79,AE80,AN78,AN79,AN80)","v":0},{"$f":"IF(H79<>B78,\"error\",\"\")","v":"error"},null,"登校日数",null,null,{"$f":"M75","v":19},null,null,{"$f":"H78+'11'!K76:N76","v":160},null,null,null,null,null,null,null,null,null,null,null,null,null,null,null,null,"教科，道徳，総合",null,null,{"$f":"G75","v":0},null,null,{"$f":"AE78+'11'!AH76:AJ76","v":0},null,null,"クラブ",null,null,{"$f":"J75","v":0},null,null,{"$f":"AN78+'11'!AQ76:AS76","v":0}]
[null,null,null,null,"授業時数",null,null,{"$f":"O75","v":99},null,null,{"$f":"H79+'11'!K77:N77","v":890},null,null,null,null,null,null,null,null,null,null,null,null,null,null,null,null,"行事",null,null,{"$f":"H75","v":0},null,null,{"$f":"AE79+'11'!AH77:AJ77","v":2},null,null,"学級",null,null,{"$f":"K75","v":0},null,null,{"$f":"AN79+'11'!AQ77:AS77","v":1}]
[null,null,null,null,"給食日数",null,null,{"$f":"N75","v":19},null,null,{"$f":"H80+'11'!K78:N78","v":154},null,null,null,null,null,null,null,null,null,null,null,null,null,null,null,null,"児童会",null,null,{"$f":"I75","v":0},null,null,{"$f":"AE80+'11'!AH78:AJ78","v":0},null,null,"学校裁量",null,null,{"$f":"L75","v":0},null,null,{"$f":"AN80+'11'!AQ78:AS78","v":0}]

{"sheet":"1","index":9,"n_rows":80,"n_cols":43,"rows_kept":80,"cut":false,"hidden":false,"merged":[[79,42,79,44],[78,42,78,44],[77,42,77,44],[79,39,79,41],[78,39,78,41],[77,39,77,41],[77,27,77,29],[79,33,79,35],[78,33,78,35],[77,33,77,35],[79,30,79,32],[78,30,78,32],[77,30,77,32],[79,4,79,6],[78,4,78,6],[79,10,79,13],[78,10,78,13],[79,27,79,29],[78,27,78,29],[76,27,76,29],[76,10,76,13],[7,4,7,44],[77,4,77,6],[77,10,77,13],[76,42,76,44],[76,39,76,41],[76,36,76,38],[8,27,8,44],[41,27,42,44],[79,36,79,38],[78,36,78,38],[77,36,77,38],[76,4,76,6],[76,7,76,9],[79,7,79,9],[78,7,78,9],[77,7,77,9],[76,33,76,35],[76,30,76,32],[6,4,6,44],[5,4,5,44],[3,36,3,37],[3,33,3,34],[3,30,3,31],[3,27,3,28],[3,10,3,11],[3,7,3,8],[3,4,3,5],[27,27,28,44],[25,27,26,44],[39,27,40,44],[37,27,38,44],[35,27,36,44],[33,27,34,44],[67,27,68,44],[65,27,66,44],[63,27,64,44],[61,27,62,44],[31,27,32,44],[29,27,30,44],[47,27,48,44],[43,45,44,45],[45,45,46,45],[47,45,48,45],[49,45,50,45],[43,27,44,44],[67,45,68,45],[59,45,60,45],[61,45,62,45],[63,45,64,45],[65,45,66,45],[45,27,46,44],[57,27,58,44],[55,27,56,44],[53,27,54,44],[59,27,60,44],[51,45,52,45],[53,45,54,45],[55,45,56,45],[57,45,58,45],[51,27,52,44],[49,27,50,44],[31,45,32,45],[33,45,34,45],[35,45,36,45],[37,45,38,45],[39,45,40,45],[41,45,42,45],[19,45,20,45],[21,45,22,45],[23,45,24,45],[25,45,26,45],[27,45,28,45],[29,45,30,45],[65,0,66,0],[67,0,68,0],[57,0,58,0],[59,0,60,0],[61,0,62,0],[63,0,64,0],[45,0,46,0],[47,0,48,0],[49,0,50,0],[51,0,52,0],[53,0,54,0],[55,0,56,0],[33,0,34,0],[35,0,36,0],[37,0,38,0],[39,0,40,0],[41,0,42,0],[43,0,44,0],[21,0,22,0],[23,0,24,0],[25,0,26,0],[27,0,28,0],[29,0,30,0],[31,0,32,0],[67,19,68,19],[67,20,68,20],[65,19,66,19],[65,20,66,20],[9,0,10,0],[11,0,12,0],[13,0,14,0],[15,0,16,0],[17,0,18,0],[19,0,20,0],[53,19,54,19],[41,19,42,19],[41,20,42,20],[33,19,34,19],[33,20,34,20],[25,19,26,19],[25,20,26,20],[11,20,12,20],[65,17,66,17],[65,18,66,18],[67,15,68,15],[67,16,68,16],[67,17,68,17],[67,18,68,18],[63,25,64,25],[63,26,64,26],[63,19,64,19],[63,20,64,20],[63,21,64,21],[63,22,64,22],[63,23,64,23],[63,24,64,24],[53,20,54,20],[55,21,56,21],[55,22,56,22],[61,19,62,19],[61,20,62,20],[59,19,60,19],[59,20,60,20],[53,24,54,24],[53,25,54,25],[53,26,54,26],[57,19,58,19],[57,20,58,20],[53,21,54,21],[53,22,54,22],[55,19,56,19],[55,20,56,20],[51,19,52,19],[51,20,52,20],[49,19,50,19],[49,20,50,20],[45,19,46,19],[45,20,46,20],[43,19,44,19],[43,20,44,20],[47,19,48,19],[47,20,48,20],[39,19,40,19],[39,20,40,20],[37,19,38,19],[37,20,38,20],[39,21,40,21],[39,22,40,22],[35,19,36,19],[35,20,36,20],[47,21,48,21],[47,22,48,22],[43,21,44,21],[43,22,44,22],[41,21,42,21],[41,22,42,22],[29,24,30,24],[27,23,28,23],[27,24,28,24],[37,21,38,21],[37,22,38,22],[29,25,30,25],[29,26,30,26],[31,23,32,23],[31,24,32,24],[37,23,38,23],[37,24,38,24],[35,22,36,22],[35,23,36,23],[35,24,36,24],[33,25,34,25],[33,26,34,26],[35,25,36,25],[35,26,36,26],[37,26,38,26],[31,26,32,26],[27,26,28,26],[27,22,28,22],[29,22,30,22],[29,23,30,23],[23,19,24,19],[23,20,24,20],[21,19,22,19],[21,20,22,20],[25,21,26,21],[25,22,26,22],[19,25,20,25],[25,25,26,25],[37,25,38,25],[33,21,34,21],[33,22,34,22],[33,23,34,23],[33,24,34,24],[29,19,30,19],[29,20,30,20],[27,19,28,19],[27,20,28,20],[31,25,32,25],[31,19,32,19],[31,20,32,20],[31,21,32,21],[31,22,32,22],[27,25,28,25],[19,19,20,19],[17,27,18,44],[21,23,22,23],[21,24,22,24],[21,25,22,25],[21,26,22,26],[19,23,20,23],[19,24,20,24],[17,23,18,23],[21,21,22,21],[21,22,22,22],[9,22,10,22],[15,24,16,24],[15,25,16,25],[15,26,16,26],[17,24,18,24],[17,25,18,25],[17,26,18,26],[15,21,16,21],[15,22,16,22],[15,23,16,23],[11,21,12,21],[9,21,10,21],[11,26,12,26],[13,21,14,21],[13,22,14,22],[13,23,14,23],[13,24,14,24],[13,25,14,25],[13,26,14,26],[11,22,12,22],[11,24,12,24],[11,25,12,25],[11,23,12,23],[19,20,20,20],[17,19,18,19],[17,20,18,20],[9,19,10,19],[15,19,16,19],[15,20,16,20],[13,19,14,19],[13,20,14,20],[9,20,10,20],[11,19,12,19],[67,9,68,9],[67,10,68,10],[67,11,68,11],[67,14,68,14],[67,13,68,13],[67,12,68,12],[63,17,64,17],[63,18,64,18],[65,9,66,9],[65,10,66,10],[65,11,66,11],[65,14,66,14],[65,13,66,13],[65,12,66,12],[65,15,66,15],[65,16,66,16],[61,18,62,18],[63,9,64,9],[63,10,64,10],[63,11,64,11],[63,14,64,14],[63,13,64,13],[63,12,64,12],[63,15,64,15],[63,16,64,16],[61,9,62,9],[61,10,62,10],[61,11,62,11],[61,14,62,14],[61,13,62,13],[61,12,62,12],[61,15,62,15],[61,16,62,16],[61,17,62,17],[57,18,58,18],[59,9,60,9],[59,10,60,10],[59,11,60,11],[59,14,60,14],[59,13,60,13],[59,12,60,12],[59,15,60,15],[59,16,60,16],[59,17,60,17],[59,18,60,18],[57,9,58,9],[57,10,58,10],[57,11,58,11],[57,14,58,14],[57,13,58,13],[57,12,58,12],[57,15,58,15],[57,16,58,16],[57,17,58,17],[53,18,54,18],[55,9,56,9],[55,10,56,10],[55,11,56,11],[55,14,56,14],[55,13,56,13],[55,12,56,12],[55,15,56,15],[55,16,56,16],[55,17,56,17],[55,18,56,18],[53,9,54,9],[53,10,54,10],[53,11,54,11],[53,14,54,14],[53,13,54,13],[53,12,54,12],[53,15,54,15],[53,16,54,16],[53,17,54,17],[49,18,50,18],[51,9,52,9],[51,10,52,10],[51,11,52,11],[51,14,52,14],[51,13,52,13],[51,12,52,12],[51,15,52,15],[51,16,52,16],[51,17,52,17],[51,18,52,18],[49,9,50,9],[49,10,50,10],[49,11,50,11],[49,14,50,14],[49,13,50,13],[49,12,50,12],[49,15,50,15],[49,16,50,16],[49,17,50,17],[45,18,46,18],[47,9,48,9],[47,10,48,10],[47,11,48,11],[47,14,48,14],[47,13,48,13],[47,12,48,12],[47,15,48,15],[47,16,48,16],[47,17,48,17],[47,18,48,18],[45,9,46,9],[45,10,46,10],[45,11,46,11],[45,14,46,14],[45,13,46,13],[45,12,46,12],[45,15,46,15],[45,16,46,16],[45,17,46,17],[41,18,42,18],[43,9,44,9],[43,10,44,10],[43,11,44,11],[43,14,44,14],[43,13,44,13],[43,12,44,12],[43,15,44,15],[43,16,44,16],[43,17,44,17],[43,18,44,18],[41,9,42,9],[41,10,42,10],[41,11,42,11],[41,14,42,14],[41,13,42,13],[41,12,42,12],[41,15,42,15],[41,16,42,16],[41,17,42,17],[37,18,38,18],[39,9,40,9],[39,10,40,10],[39,11,40,11],[39,14,40,14],[39,13,40,13],[39,12,40,12],[39,15,40,15],[39,16,40,16],[39,17,40,17],[39,18,40,18],[37,9,38,9],[37,10,38,10],[37,11,38,11],[37,14,38,14],[37,13,38,13],[37,12,38,12],[37,15,38,15],[37,16,38,16],[37,17,38,17],[33,18,34,18],[35,9,36,9],[35,10,36,10],[35,11,36,11],[35,14,36,14],[35,13,36,13],[35,12,36,12],[35,15,36,15],[35,16,36,16],[35,17,36,17],[35,18,36,18],[33,9,34,9],[33,10,34,10],[33,11,34,11],[33,14,34,14],[33,13,34,13],[33,12,34,12],[33,15,34,15],[33,16,34,16],[33,17,34,17],[29,18,30,18],[31,9,32,9],[31,10,32,10],[31,11,32,11],[31,14,32,14],[31,13,32,13],[31,12,32,12],[31,15,32,15],[31,16,32,16],[31,17,32,17],[31,18,32,18],[29,9,30,9],[29,10,30,10],[29,11,30,11],[29,14,30,14],[29,13,30,13],[29,12,30,12],[29,15,30,15],[29,16,30,16],[29,17,30,17],[25,18,26,18],[27,9,28,9],[27,10,28,10],[27,11,28,11],[27,14,28,14],[27,13,28,13],[27,12,28,12],[27,15,28,15],[27,16,28,16],[27,17,28,17],[27,18,28,18],[25,9,26,9],[25,10,26,10],[25,11,26,11],[25,14,26,14],[25,13,26,13],[25,12,26,12],[25,15,26,15],[25,16,26,16],[25,17,26,17],[21,18,22,18],[23,9,24,9],[23,10,24,10],[23,11,24,11],[23,14,24,14],[23,13,24,13],[23,12,24,12],[23,15,24,15],[23,16,24,16],[23,17,24,17],[23,18,24,18],[21,9,22,9],[21,10,22,10],[21,11,22,11],[21,14,22,14],[21,13,22,13],[21,12,22,12],[21,15,22,15],[21,16,22,16],[21,17,22,17],[17,18,18,18],[19,9,20,9],[19,10,20,10],[19,11,20,11],[19,14,20,14],[19,13,20,13],[19,12,20,12],[19,15,20,15],[19,16,20,16],[19,17,20,17],[19,18,20,18],[17,9,18,9],[17,10,18,10],[17,11,18,11],[17,14,18,14],[17,13,18,13],[17,12,18,12],[17,15,18,15],[17,16,18,16],[17,17,18,17],[13,17,14,17],[13,18,14,18],[15,9,16,9],[15,10,16,10],[15,11,16,11],[15,14,16,14],[15,13,16,13],[15,12,16,12],[15,15,16,15],[15,16,16,16],[13,9,14,9],[13,10,14,10],[13,11,14,11],[13,14,14,14],[13,15,14,15],[13,16,14,16],[15,17,16,17],[15,18,16,18],[13,13,14,13],[13,12,14,12],[9,18,10,18],[11,9,12,9],[11,10,12,10],[11,11,12,11],[11,14,12,14],[11,15,12,15],[11,16,12,16],[11,17,12,17],[11,18,12,18],[9,9,10,9],[9,10,10,10],[9,11,10,11],[9,14,10,14],[9,13,10,13],[11,13,12,13],[9,12,10,12],[11,12,12,12],[9,15,10,15],[9,16,10,16],[9,17,10,17],[67,5,68,5],[67,6,68,6],[67,7,68,7],[67,8,68,8],[65,5,66,5],[65,6,66,6],[65,7,66,7],[61,5,62,5],[61,6,62,6],[61,7,62,7],[61,8,62,8],[65,8,66,8],[63,5,64,5],[63,6,64,6],[63,7,64,7],[63,8,64,8],[57,5,58,5],[57,6,58,6],[57,7,58,7],[57,8,58,8],[59,5,60,5],[59,6,60,6],[59,7,60,7],[59,8,60,8],[53,5,54,5],[53,6,54,6],[53,7,54,7],[53,8,54,8],[55,5,56,5],[55,6,56,6],[55,7,56,7],[55,8,56,8],[49,5,50,5],[49,6,50,6],[49,7,50,7],[49,8,50,8],[51,5,52,5],[51,6,52,6],[51,7,52,7],[51,8,52,8],[45,5,46,5],[45,6,46,6],[45,7,46,7],[45,8,46,8],[47,5,48,5],[47,6,48,6],[47,7,48,7],[47,8,48,8],[43,6,44,6],[43,7,44,7],[43,8,44,8],[37,5,38,5],[37,6,38,6],[37,7,38,7],[37,8,38,8],[39,5,40,5],[39,6,40,6],[39,7,40,7],[39,8,40,8],[23,5,24,5],[23,6,24,6],[23,7,24,7],[23,8,24,8],[33,5,34,5],[33,6,34,6],[33,7,34,7],[33,8,34,8],[27,7,28,7],[27,8,28,8],[29,5,30,5],[29,6,30,6],[29,7,30,7],[29,8,30,8],[31,5,32,5],[31,6,32,6],[31,7,32,7],[31,8,32,8],[27,6,28,6],[9,7,10,7],[9,8,10,8],[11,5,12,5],[11,6,12,6],[11,7,12,7],[9,6,10,6],[21,5,22,5],[21,6,22,6],[21,7,22,7],[21,8,22,8],[17,5,18,5],[17,6,18,6],[17,7,18,7],[17,8,18,8],[19,5,20,5],[19,6,20,6],[19,7,20,7],[19,8,20,8],[13,6,14,6],[13,7,14,7],[13,8,14,8],[15,5,16,5],[15,6,16,6],[15,7,16,7],[67,4,68,4],[65,4,66,4],[63,4,64,4],[61,4,62,4],[59,4,60,4],[57,4,58,4],[59,3,60,3],[57,3,58,3],[55,3,56,3],[55,4,56,4],[67,3,68,3],[65,3,66,3],[63,3,64,3],[61,3,62,3],[15,4,16,4],[19,3,20,3],[17,3,18,3],[15,3,16,3],[33,4,34,4],[23,4,24,4],[53,4,54,4],[51,4,52,4],[49,4,50,4],[47,4,48,4],[45,4,46,4],[31,4,32,4],[29,4,30,4],[27,4,28,4],[25,4,26,4],[43,3,44,3],[41,3,42,3],[39,3,40,3],[37,3,38,3],[51,3,52,3],[49,3,50,3],[47,3,48,3],[45,3,46,3],[35,3,36,3],[9,2,10,2],[11,2,12,2],[13,2,14,2],[13,3,14,3],[11,4,12,4],[9,4,10,4],[11,3,12,3],[9,3,10,3],[9,5,10,5],[13,4,14,4],[13,5,14,5],[15,8,16,8],[65,2,66,2],[55,2,56,2],[11,8,12,8],[23,2,24,2],[25,2,26,2],[27,2,28,2],[29,2,30,2],[15,2,16,2],[17,2,18,2],[19,2,20,2],[21,2,22,2],[21,4,22,4],[19,4,20,4],[17,4,18,4],[27,3,28,3],[25,3,26,3],[23,3,24,3],[21,3,22,3],[25,5,26,5],[25,6,26,6],[25,7,26,7],[25,8,26,8],[27,5,28,5],[55,1,56,1],[57,1,58,1],[59,1,60,1],[61,1,62,1],[47,1,48,1],[63,1,64,1],[57,2,58,2],[59,2,60,2],[61,2,62,2],[47,2,48,2],[49,2,50,2],[51,2,52,2],[53,2,54,2],[63,2,64,2],[53,3,54,3],[43,4,44,4],[41,4,42,4],[39,4,40,4],[37,4,38,4],[35,4,36,4],[67,2,68,2],[9,1,10,1],[11,1,12,1],[13,1,14,1],[15,1,16,1],[17,1,18,1],[19,1,20,1],[21,1,22,1],[31,1,32,1],[33,1,34,1],[35,1,36,1],[37,1,38,1],[23,1,24,1],[25,1,26,1],[27,1,28,1],[29,1,30,1],[65,1,66,1],[67,1,68,1],[43,25,44,25],[43,26,44,26],[51,1,52,1],[53,1,54,1],[39,1,40,1],[41,1,42,1],[43,1,44,1],[45,1,46,1],[49,1,50,1],[39,25,40,25],[39,26,40,26],[41,23,42,23],[41,24,42,24],[41,25,42,25],[41,26,42,26],[39,23,40,23],[39,24,40,24],[43,23,44,23],[43,24,44,24],[53,23,54,23],[45,25,46,25],[45,26,46,26],[45,22,46,22],[45,23,46,23],[27,21,28,21],[29,21,30,21],[35,21,36,21],[39,2,40,2],[41,2,42,2],[43,2,44,2],[45,2,46,2],[31,2,32,2],[33,2,34,2],[35,2,36,2],[37,2,38,2],[45,21,46,21],[33,3,34,3],[31,3,32,3],[29,3,30,3],[35,5,36,5],[35,6,36,6],[35,7,36,7],[35,8,36,8],[41,5,42,5],[41,6,42,6],[41,7,42,7],[41,8,42,8],[43,5,44,5],[25,26,26,26],[17,21,18,21],[17,22,18,22],[23,21,24,21],[23,22,24,22],[19,21,20,21],[19,22,20,22],[23,23,24,23],[23,24,24,24],[23,25,24,25],[23,26,24,26],[25,23,26,23],[25,24,26,24],[19,26,20,26],[45,24,46,24],[49,25,50,25],[49,26,50,26],[49,21,50,21],[49,22,50,22],[51,21,52,21],[51,22,52,22],[47,25,48,25],[47,26,48,26],[47,23,48,23],[47,24,48,24],[49,23,50,23],[49,24,50,24],[51,23,52,23],[51,24,52,24],[51,25,52,25],[51,26,52,26],[59,25,60,25],[59,26,60,26],[55,23,56,23],[55,24,56,24],[55,25,56,25],[55,26,56,26],[57,25,58,25],[57,26,58,26],[57,21,58,21],[57,22,58,22],[57,23,58,23],[57,24,58,24],[73,15,73,20],[73,21,73,26],[65,25,66,25],[65,26,66,26],[67,21,68,21],[67,22,68,22],[67,23,68,23],[11,27,12,44],[21,27,22,44],[19,27,20,44],[69,27,70,44],[65,22,66,22],[65,23,66,23],[65,24,66,24],[61,25,62,25],[61,26,62,26],[59,21,60,21],[59,22,60,22],[61,21,62,21],[61,22,62,22],[61,23,62,23],[61,24,62,24],[59,23,60,23],[59,24,60,24],[9,27,10,44],[8,15,8,20],[8,21,8,26],[9,23,10,23],[9,24,10,24],[9,25,10,25],[9,26,10,26],[69,5,70,5],[69,6,70,6],[69,7,70,7],[69,8,70,8],[15,27,16,44],[13,27,14,44],[67,24,68,24],[67,25,68,25],[67,26,68,26],[65,21,66,21],[69,9,70,9],[69,10,70,10],[69,11,70,11],[69,12,70,12],[23,27,24,44],[69,25,70,25],[69,26,70,26],[69,45,70,45],[69,21,70,21],[69,22,70,22],[69,23,70,23],[69,24,70,24],[69,0,70,0],[69,1,70,1],[69,2,70,2],[69,3,70,3],[69,4,70,4],[69,17,70,17],[69,18,70,18],[69,19,70,19],[69,20,70,20],[69,13,70,13],[69,14,70,14],[69,15,70,15],[69,16,70,16]]}
[]
[]
[]
[null,null,null,null,"q",null,null,"w",null,null,"e",null,null,null,null,null,null,null,null,null,null,null,null,null,null,null,null,"r",null,null,"t",null,null,"y",null,null,"u"]
[]
[null,null,null,null,"○：教科，道徳，総合　　●：行事　　児：児童会　　ク：クラブ　　学：学級　　△：学裁"]
[null,null,null,null,{"$f":"CONCATENATE(年暦!AL4,\"　　　予　定　表\")","v":"1　　　月　　　予　定　表"}]
[null,null,null,null,"○：教科，道徳，総合　　●：行事　　児：児童会　　ク：クラブ　　学：学級　　△：学裁"]
[null,null,null,null,"日","曜",1,2,3,4,5,6,"登校","給食","時数","授業時数確認",null,null,null,null,null,"誤入力確認",null,null,null,null,null,"行　事　等"]
[{"$f":"IF(AND(D10=0,O10<>0),1,IF(AND(D10<>0,O10=0),1,IF(O10>6,1,\"\")))","v":""},{"$f":"IF(SUM(V10:AA11)<>0,1,\"\")","v":""},{"$f":"IF(SUM(A10:B11)<>0,\"error\",\"\")","v":""},{"$f":"年暦!AL5","v":0},1,{"$f":"年暦!AL6","v":"金"},null,null,null,null,null,null,{"$f":"IF(D10=0,0,1)","v":0},{"$f":"IF(年暦!AM6=\"\",\"\",年暦!AM6)","v":""},{"$f":"年暦!AM5","v":0},{"$f":"IF($O10=0,0,IF($O10>0,0,1))","v":0},{"$f":"IF($O10=0,0,IF($O10>1,0,1))","v":0},{"$f":"IF($O10=0,0,IF($O10>2,0,1))","v":0},{"$f":"IF($O10=0,0,IF($O10>3,0,1))","v":0},{"$f":"IF($O10=0,0,IF($O10>4,0,1))","v":0},{"$f":"IF($O10=0,0,IF($O10>5,0,1))","v":0},{"$f":"IF(AND(G10<>\"\",P10=1),2,0)","v":0},0,0,0,0,0,{"$f":"IF(年暦!AN5=\"\",\"\",年暦!AN5)","v":"元日\n冬休み（６日まで）"}]
[]
[{"$f":"IF(AND(D12=0,O12<>0),1,IF(AND(D12<>0,O12=0),1,IF(O12>6,1,\"\")))","v":""},{"$f":"IF(SUM(V12:AA13)<>0,1,\"\")","v":""},{"$f":"IF(SUM(A12:B13)<>0,\"error\",\"\")","v":""},{"$f":"年暦!AL7","v":0},2,{"$f":"年暦!AL8","v":"土"},null,null,null,null,null,null,{"$f":"IF(D12=0,0,1)","v":0},{"$f":"IF(年暦!AM8=\"\",\"\",年暦!AM8)","v":""},{"$f":"年暦!AM7","v":0},{"$f":"IF($O12=0,0,IF($O12>0,0,1))","v":0},{"$f":"IF($O12=0,0,IF($O12>1,0,1))","v":0},{"$f":"IF($O12=0,0,IF($O12>2,0,1))","v":0},{"$f":"IF($O12=0,0,IF($O12>3,0,1))","v":0},{"$f":"IF($O12=0,0,IF($O12>4,0,1))","v":0},{"$f":"IF($O12=0,0,IF($O12>5,0,1))","v":0},{"$f":"IF(AND(G12<>\"\",P12=1),2,0)","v":0},0,0,0,0,0,{"$f":"IF(年暦!AN7=\"\",\"\",年暦!AN7)","v":""}]
[]
[{"$f":"IF(AND(D14=0,O14<>0),1,IF(AND(D14<>0,O14=0),1,IF(O14>6,1,\"\")))","v":""},{"$f":"IF(SUM(V14:AA15)<>0,1,\"\")","v":""},{"$f":"IF(SUM(A14:B15)<>0,\"error\",\"\")","v":""},{"$f":"年暦!AL9","v":0},3,{"$f":"年暦!AL10","v":"日"},null,null,null,null,null,null,{"$f":"IF(D14=0,0,1)","v":0},{"$f":"IF(年暦!AM10=\"\",\"\",年暦!AM10)","v":""},{"$f":"年暦!AM9","v":0},{"$f":"IF($O14=0,0,IF($O14>0,0,1))","v":0},{"$f":"IF($O14=0,0,IF($O14>1,0,1))","v":0},{"$f":"IF($O14=0,0,IF($O14>2,0,1))","v":0},{"$f":"IF($O14=0,0,IF($O14>3,0,1))","v":0},{"$f":"IF($O14=0,0,IF($O14>4,0,1))","v":0},{"$f":"IF($O14=0,0,IF($O14>5,0,1))","v":0},{"$f":"IF(AND(G14<>\"\",P14=1),2,0)","v":0},0,0,0,0,0,{"$f":"IF(年暦!AN9=\"\",\"\",年暦!AN9)","v":""}]
[]
[{"$f":"IF(AND(D16=0,O16<>0),1,IF(AND(D16<>0,O16=0),1,IF(O16>6,1,\"\")))","v":""},{"$f":"IF(SUM(V16:AA17)<>0,1,\"\")","v":""},{"$f":"IF(SUM(A16:B17)<>0,\"error\",\"\")","v":""},{"$f":"年暦!AL11","v":0},4,{"$f":"年暦!AL12","v":"月"},null,null,null,null,null,null,{"$f":"IF(D16=0,0,1)","v":0},{"$f":"IF(年暦!AM12=\"\",\"\",年暦!AM12)","v":""},{"$f":"年暦!AM11","v":0},{"$f":"IF($O16=0,0,IF($O16>0,0,1))","v":0},{"$f":"IF($O16=0,0,IF($O16>1,0,1))","v":0},{"$f":"IF($O16=0,0,IF($O16>2,0,1))","v":0},{"$f":"IF($O16=0,0,IF($O16>3,0,1))","v":0},{"$f":"IF($O16=0,0,IF($O16>4,0,1))","v":0},{"$f":"IF($O16=0,0,IF($O16>5,0,1))","v":0},{"$f":"IF(AND(G16<>\"\",P16=1),2,0)","v":0},0,0,0,0,0,{"$f":"IF(年暦!AN11=\"\",\"\",年暦!AN11)","v":""}]
[]
[{"$f":"IF(AND(D18=0,O18<>0),1,IF(AND(D18<>0,O18=0),1,IF(O18>6,1,\"\")))","v":""},{"$f":"IF(SUM(V18:AA19)<>0,1,\"\")","v":""},{"$f":"IF(SUM(A18:B19)<>0,\"error\",\"\")","v":""},{"$f":"年暦!AL13","v":0},5,{"$f":"年暦!AL14","v":"火"},null,null,null,null,null,null,{"$f":"IF(D18=0,0,1)","v":0},{"$f":"IF(年暦!AM14=\"\",\"\",年暦!AM14)","v":""},{"$f":"年暦!AM13","v":0},{"$f":"IF($O18=0,0,IF($O18>0,0,1))","v":0},{"$f":"IF($O18=0,0,IF($O18>1,0,1))","v":0},{"$f":"IF($O18=0,0,IF($O18>2,0,1))","v":0},{"$f":"IF($O18=0,0,IF($O18>3,0,1))","v":0},{"$f":"IF($O18=0,0,IF($O18>4,0,1))","v":0},{"$f":"IF($O18=0,0,IF($O18>5,0,1))","v":0},{"$f":"IF(AND(G18<>\"\",P18=1),2,0)","v":0},0,0,0,0,0,{"$f":"IF(年暦!AN13=\"\",\"\",年暦!AN13)","v":""}]
[]
[{"$f":"IF(AND(D20=0,O20<>0),1,IF(AND(D20<>0,O20=0),1,IF(O20>6,1,\"\")))","v":""},{"$f":"IF(SUM(V20:AA21)<>0,1,\"\")","v":""},{"$f":"IF(SUM(A20:B21)<>0,\"error\",\"\")","v":""},{"$f":"年暦!AL15","v":0},6,{"$f":"年暦!AL16","v":"水"},null,null,null,null,null,null,{"$f":"IF(D20=0,0,1)","v":0},{"$f":"IF(年暦!AM16=\"\",\"\",年暦!AM16)","v":""},{"$f":"年暦!AM15","v":0},{"$f":"IF($O20=0,0,IF($O20>0,0,1))","v":0},{"$f":"IF($O20=0,0,IF($O20>1,0,1))","v":0},{"$f":"IF($O20=0,0,IF($O20>2,0,1))","v":0},{"$f":"IF($O20=0,0,IF($O20>3,0,1))","v":0},{"$f":"IF($O20=0,0,IF($O20>4,0,1))","v":0},{"$f":"IF($O20=0,0,IF($O20>5,0,1))","v":0},{"$f":"IF(AND(G20<>\"\",P20=1),2,0)","v":0},0,0,0,0,0,{"$f":"IF(年暦!AN15=\"\",\"\",年暦!AN15)","v":""}]
[]
[{"$f":"IF(AND(D22=0,O22<>0),1,IF(AND(D22<>0,O22=0),1,IF(O22>6,1,\"\")))","v":""},{"$f":"IF(SUM(V22:AA23)<>0,1,\"\")","v":""},{"$f":"IF(SUM(A22:B23)<>0,\"error\",\"\")","v":""},{"$f":"年暦!AL17","v":7},7,{"$f":"年暦!AL18","v":"木"},null,null,null,null,null,null,{"$f":"IF(D22=0,0,1)","v":1},{"$f":"IF(年暦!AM18=\"\",\"\",年暦!AM18)","v":"○"},{"$f":"年暦!AM17","v":5},{"$f":"IF($O22=0,0,IF($O22>0,0,1))","v":0},{"$f":"IF($O22=0,0,IF($O22>1,0,1))","v":0},{"$f":"IF($O22=0,0,IF($O22>2,0,1))","v":0},{"$f":"IF($O22=0,0,IF($O22>3,0,1))","v":0},{"$f":"IF($O22=0,0,IF($O22>4,0,1))","v":0},{"$f":"IF($O22=0,0,IF($O22>5,0,1))","v":1},{"$f":"IF(AND(G22<>\"\",P22=1),2,0)","v":0},0,0,0,0,0,{"$f":"IF(年暦!AN17=\"\",\"\",年暦!AN17)","v":"３学期始業式"}]
[]
[{"$f":"IF(AND(D24=0,O24<>0),1,IF(AND(D24<>0,O24=0),1,IF(O24>6,1,\"\")))","v":""},{"$f":"IF(SUM(V24:AA25)<>0,1,\"\")","v":""},{"$f":"IF(SUM(A24:B25)<>0,\"error\",\"\")","v":""},{"$f":"年暦!AL19","v":8},8,{"$f":"年暦!AL20","v":"金"},null,null,null,null,null,null,{"$f":"IF(D24=0,0,1)","v":1},{"$f":"IF(年暦!AM20=\"\",\"\",年暦!AM20)","v":"○"},{"$f":"年暦!AM19","v":6},{"$f":"IF($O24=0,0,IF($O24>0,0,1))","v":0},{"$f":"IF($O24=0,0,IF($O24>1,0,1))","v":0},{"$f":"IF($O24=0,0,IF($O24>2,0,1))","v":0},{"$f":"IF($O24=0,0,IF($O24>3,0,1))","v":0},{"$f":"IF($O24=0,0,IF($O24>4,0,1))","v":0},{"$f":"IF($O24=0,0,IF($O24>5,0,1))","v":0},{"$f":"IF(AND(G24<>\"\",P24=1),2,0)","v":0},0,0,0,0,0,{"$f":"IF(年暦!AN19=\"\",\"\",年暦!AN19)","v":""}]
[]
[{"$f":"IF(AND(D26=0,O26<>0),1,IF(AND(D26<>0,O26=0),1,IF(O26>6,1,\"\")))","v":""},{"$f":"IF(SUM(V26:AA27)<>0,1,\"\")","v":""},{"$f":"IF(SUM(A26:B27)<>0,\"error\",\"\")","v":""},{"$f":"年暦!AL21","v":0},9,{"$f":"年暦!AL22","v":"土"},null,null,null,null,null,null,{"$f":"IF(D26=0,0,1)","v":0},{"$f":"IF(年暦!AM22=\"\",\"\",年暦!AM22)","v":""},{"$f":"年暦!AM21","v":0},{"$f":"IF($O26=0,0,IF($O26>0,0,1))","v":0},{"$f":"IF($O26=0,0,IF($O26>1,0,1))","v":0},{"$f":"IF($O26=0,0,IF($O26>2,0,1))","v":0},{"$f":"IF($O26=0,0,IF($O26>3,0,1))","v":0},{"$f":"IF($O26=0,0,IF($O26>4,0,1))","v":0},{"$f":"IF($O26=0,0,IF($O26>5,0,1))","v":0},{"$f":"IF(AND(G26<>\"\",P26=1),2,0)","v":0},0,0,0,0,0,{"$f":"IF(年暦!AN21=\"\",\"\",年暦!AN21)","v":""}]
[]
[{"$f":"IF(AND(D28=0,O28<>0),1,IF(AND(D28<>0,O28=0),1,IF(O28>6,1,\"\")))","v":""},{"$f":"IF(SUM(V28:AA29)<>0,1,\"\")","v":""},{"$f":"IF(SUM(A28:B29)<>0,\"error\",\"\")","v":""},{"$f":"年暦!AL23","v":0},10,{"$f":"年暦!AL24","v":"日"},null,null,null,null,null,null,{"$f":"IF(D28=0,0,1)","v":0},{"$f":"IF(年暦!AM24=\"\",\"\",年暦!AM24)","v":""},{"$f":"年暦!AM23","v":0},{"$f":"IF($O28=0,0,IF($O28>0,0,1))","v":0},{"$f":"IF($O28=0,0,IF($O28>1,0,1))","v":0},{"$f":"IF($O28=0,0,IF($O28>2,0,1))","v":0},{"$f":"IF($O28=0,0,IF($O28>3,0,1))","v":0},{"$f":"IF($O28=0,0,IF($O28>4,0,1))","v":0},{"$f":"IF($O28=0,0,IF($O28>5,0,1))","v":0},{"$f":"IF(AND(G28<>\"\",P28=1),2,0)","v":0},0,0,0,0,0,{"$f":"IF(年暦!AN23=\"\",\"\",年暦!AN23)","v":""}]
[]
[{"$f":"IF(AND(D30=0,O30<>0),1,IF(AND(D30<>0,O30=0),1,IF(O30>6,1,\"\")))","v":""},{"$f":"IF(SUM(V30:AA31)<>0,1,\"\")","v":""},{"$f":"IF(SUM(A30:B31)<>0,\"error\",\"\")","v":""},{"$f":"年暦!AL25","v":0},11,{"$f":"年暦!AL26","v":"月"},null,null,null,null,null,null,{"$f":"IF(D30=0,0,1)","v":0},{"$f":"IF(年暦!AM26=\"\",\"\",年暦!AM26)","v":""},{"$f":"年暦!AM25","v":0},{"$f":"IF($O30=0,0,IF($O30>0,0,1))","v":0},{"$f":"IF($O30=0,0,IF($O30>1,0,1))","v":0},{"$f":"IF($O30=0,0,IF($O30>2,0,1))","v":0},{"$f":"IF($O30=0,0,IF($O30>3,0,1))","v":0},{"$f":"IF($O30=0,0,IF($O30>4,0,1))","v":0},{"$f":"IF($O30=0,0,IF($O30>5,0,1))","v":0},{"$f":"IF(AND(G30<>\"\",P30=1),2,0)","v":0},0,0,0,0,0,{"$f":"IF(年暦!AN25=\"\",\"\",年暦!AN25)","v":"成人の日"}]
[]
[{"$f":"IF(AND(D32=0,O32<>0),1,IF(AND(D32<>0,O32=0),1,IF(O32>6,1,\"\")))","v":""},{"$f":"IF(SUM(V32:AA33)<>0,1,\"\")","v":""},{"$f":"IF(SUM(A32:B33)<>0,\"error\",\"\")","v":""},{"$f":"年暦!AL27","v":12},12,{"$f":"年暦!AL28","v":"火"},null,null,null,null,null,null,{"$f":"IF(D32=0,0,1)","v":1},{"$f":"IF(年暦!AM28=\"\",\"\",年暦!AM28)","v":"○"},{"$f":"年暦!AM27","v":6},{"$f":"IF($O32=0,0,IF($O32>0,0,1))","v":0},{"$f":"IF($O32=0,0,IF($O32>1,0,1))","v":0},{"$f":"IF($O32=0,0,IF($O32>2,0,1))","v":0},{"$f":"IF($O32=0,0,IF($O32>3,0,1))","v":0},{"$f":"IF($O32=0,0,IF($O32>4,0,1))","v":0},{"$f":"IF($O32=0,0,IF($O32>5,0,1))","v":0},{"$f":"IF(AND(G32<>\"\",P32=1),2,0)","v":0},0,0,0,0,0,{"$f":"IF(年暦!AN27=\"\",\"\",年暦!AN27)","v":""}]
[]
[{"$f":"IF(AND(D34=0,O34<>0),1,IF(AND(D34<>0,O34=0),1,IF(O34>6,1,\"\")))","v":""},{"$f":"IF(SUM(V34:AA35)<>0,1,\"\")","v":""},{"$f":"IF(SUM(A34:B35)<>0,\"error\",\"\")","v":""},{"$f":"年暦!AL29","v":13},13,{"$f":"年暦!AL30","v":"水"},null,null,null,null,null,null,{"$f":"IF(D34=0,0,1)","v":1},{"$f":"IF(年暦!AM30=\"\",\"\",年暦!AM30)","v":"○"},{"$f":"年暦!AM29","v":5},{"$f":"IF($O34=0,0,IF($O34>0,0,1))","v":0},{"$f":"IF($O34=0,0,IF($O34>1,0,1))","v":0},{"$f":"IF($O34=0,0,IF($O34>2,0,1))","v":0},{"$f":"IF($O34=0,0,IF($O34>3,0,1))","v":0},{"$f":"IF($O34=0,0,IF($O34>4,0,1))","v":0},{"$f":"IF($O34=0,0,IF($O34>5,0,1))","v":1},{"$f":"IF(AND(G34<>\"\",P34=1),2,0)","v":0},0,0,0,0,0,{"$f":"IF(年暦!AN29=\"\",\"\",年暦!AN29)","v":""}]
[]
[{"$f":"IF(AND(D36=0,O36<>0),1,IF(AND(D36<>0,O36=0),1,IF(O36>6,1,\"\")))","v":""},{"$f":"IF(SUM(V36:AA37)<>0,1,\"\")","v":""},{"$f":"IF(SUM(A36:B37)<>0,\"error\",\"\")","v":""},{"$f":"年暦!AL31","v":14},14,{"$f":"年暦!AL32","v":"木"},null,null,null,null,null,null,{"$f":"IF(D36=0,0,1)","v":1},{"$f":"IF(年暦!AM32=\"\",\"\",年暦!AM32)","v":"○"},{"$f":"年暦!AM31","v":6},{"$f":"IF($O36=0,0,IF($O36>0,0,1))","v":0},{"$f":"IF($O36=0,0,IF($O36>1,0,1))","v":0},{"$f":"IF($O36=0,0,IF($O36>2,0,1))","v":0},{"$f":"IF($O36=0,0,IF($O36>3,0,1))","v":0},{"$f":"IF($O36=0,0,IF($O36>4,0,1))","v":0},{"$f":"IF($O36=0,0,IF($O36>5,0,1))","v":0},{"$f":"IF(AND(G36<>\"\",P36=1),2,0)","v":0},0,0,0,0,0,{"$f":"IF(年暦!AN31=\"\",\"\",年暦!AN31)","v":""}]
[]
[{"$f":"IF(AND(D38=0,O38<>0),1,IF(AND(D38<>0,O38=0),1,IF(O38>6,1,\"\")))","v":""},{"$f":"IF(SUM(V38:AA39)<>0,1,\"\")","v":""},{"$f":"IF(SUM(A38:B39)<>0,\"error\",\"\")","v":""},{"$f":"年暦!AL33","v":15},15,{"$f":"年暦!AL34","v":"金"},null,null,null,null,null,null,{"$f":"IF(D38=0,0,1)","v":1},{"$f":"IF(年暦!AM34=\"\",\"\",年暦!AM34)","v":"○"},{"$f":"年暦!AM33","v":6},{"$f":"IF($O38=0,0,IF($O38>0,0,1))","v":0},{"$f":"IF($O38=0,0,IF($O38>1,0,1))","v":0},{"$f":"IF($O38=0,0,IF($O38>2,0,1))","v":0},{"$f":"IF($O38=0,0,IF($O38>3,0,1))","v":0},{"$f":"IF($O38=0,0,IF($O38>4,0,1))","v":0},{"$f":"IF($O38=0,0,IF($O38>5,0,1))","v":0},{"$f":"IF(AND(G38<>\"\",P38=1),2,0)","v":0},0,0,0,0,0,{"$f":"IF(年暦!AN33=\"\",\"\",年暦!AN33)","v":""}]
[]
[{"$f":"IF(AND(D40=0,O40<>0),1,IF(AND(D40<>0,O40=0),1,IF(O40>6,1,\"\")))","v":""},{"$f":"IF(SUM(V40:AA41)<>0,1,\"\")","v":""},{"$f":"IF(SUM(A40:B41)<>0,\"error\",\"\")","v":""},{"$f":"年暦!AL35","v":0},16,{"$f":"年暦!AL36","v":"土"},null,null,null,null,null,null,{"$f":"IF(D40=0,0,1)","v":0},{"$f":"IF(年暦!AM36=\"\",\"\",年暦!AM36)","v":""},{"$f":"年暦!AM35","v":0},{"$f":"IF($O40=0,0,IF($O40>0,0,1))","v":0},{"$f":"IF($O40=0,0,IF($O40>1,0,1))","v":0},{"$f":"IF($O40=0,0,IF($O40>2,0,1))","v":0},{"$f":"IF($O40=0,0,IF($O40>3,0,1))","v":0},{"$f":"IF($O40=0,0,IF($O40>4,0,1))","v":0},{"$f":"IF($O40=0,0,IF($O40>5,0,1))","v":0},{"$f":"IF(AND(G40<>\"\",P40=1),2,0)","v":0},0,0,0,0,0,{"$f":"IF(年暦!AN35=\"\",\"\",年暦!AN35)","v":"郡Pまとめの会"}]
[]
[{"$f":"IF(AND(D42=0,O42<>0),1,IF(AND(D42<>0,O42=0),1,IF(O42>6,1,\"\")))","v":""},{"$f":"IF(SUM(V42:AA43)<>0,1,\"\")","v":""},{"$f":"IF(SUM(A42:B43)<>0,\"error\",\"\")","v":""},{"$f":"年暦!AL37","v":0},17,{"$f":"年暦!AL38","v":"日"},null,null,null,null,null,null,{"$f":"IF(D42=0,0,1)","v":0},{"$f":"IF(年暦!AM38=\"\",\"\",年暦!AM38)","v":""},{"$f":"年暦!AM37","v":0},{"$f":"IF($O42=0,0,IF($O42>0,0,1))","v":0},{"$f":"IF($O42=0,0,IF($O42>1,0,1))","v":0},{"$f":"IF($O42=0,0,IF($O42>2,0,1))","v":0},{"$f":"IF($O42=0,0,IF($O42>3,0,1))","v":0},{"$f":"IF($O42=0,0,IF($O42>4,0,1))","v":0},{"$f":"IF($O42=0,0,IF($O42>5,0,1))","v":0},{"$f":"IF(AND(G42<>\"\",P42=1),2,0)","v":0},0,0,0,0,0,{"$f":"IF(年暦!AN37=\"\",\"\",年暦!AN37)","v":""}]
[]
[{"$f":"IF(AND(D44=0,O44<>0),1,IF(AND(D44<>0,O44=0),1,IF(O44>6,1,\"\")))","v":""},{"$f":"IF(SUM(V44:AA45)<>0,1,\"\")","v":""},{"$f":"IF(SUM(A44:B45)<>0,\"error\",\"\")","v":""},{"$f":"年暦!AL39","v":18},18,{"$f":"年暦!AL40","v":"月"},null,null,null,null,null,null,{"$f":"IF(D44=0,0,1)","v":1},{"$f":"IF(年暦!AM40=\"\",\"\",年暦!AM40)","v":"○"},{"$f":"年暦!AM39","v":6},{"$f":"IF($O44=0,0,IF($O44>0,0,1))","v":0},{"$f":"IF($O44=0,0,IF($O44>1,0,1))","v":0},{"$f":"IF($O44=0,0,IF($O44>2,0,1))","v":0},{"$f":"IF($O44=0,0,IF($O44>3,0,1))","v":0},{"$f":"IF($O44=0,0,IF($O44>4,0,1))","v":0},{"$f":"IF($O44=0,0,IF($O44>5,0,1))","v":0},{"$f":"IF(AND(G44<>\"\",P44=1),2,0)","v":0},0,0,0,0,0,{"$f":"IF(年暦!AN39=\"\",\"\",年暦!AN39)","v":""}]
[]
[{"$f":"IF(AND(D46=0,O46<>0),1,IF(AND(D46<>0,O46=0),1,IF(O46>6,1,\"\")))","v":""},{"$f":"IF(SUM(V46:AA47)<>0,1,\"\")","v":""},{"$f":"IF(SUM(A46:B47)<>0,\"error\",\"\")","v":""},{"$f":"年暦!AL41","v":19},19,{"$f":"年暦!AL42","v":"火"},null,null,null,null,null,null,{"$f":"IF(D46=0,0,1)","v":1},{"$f":"IF(年暦!AM42=\"\",\"\",年暦!AM42)","v":"○"},{"$f":"年暦!AM41","v":6},{"$f":"IF($O46=0,0,IF($O46>0,0,1))","v":0},{"$f":"IF($O46=0,0,IF($O46>1,0,1))","v":0},{"$f":"IF($O46=0,0,IF($O46>2,0,1))","v":0},{"$f":"IF($O46=0,0,IF($O46>3,0,1))","v":0},{"$f":"IF($O46=0,0,IF($O46>4,0,1))","v":0},{"$f":"IF($O46=0,0,IF($O46>5,0,1))","v":0},{"$f":"IF(AND(G46<>\"\",P46=1),2,0)","v":0},0,0,0,0,0,{"$f":"IF(年暦!AN41=\"\",\"\",年暦!AN41)","v":""}]
[]
[{"$f":"IF(AND(D48=0,O48<>0),1,IF(AND(D48<>0,O48=0),1,IF(O48>6,1,\"\")))","v":""},{"$f":"IF(SUM(V48:AA49)<>0,1,\"\")","v":""},{"$f":"IF(SUM(A48:B49)<>0,\"error\",\"\")","v":""},{"$f":"年暦!AL43","v":20},20,{"$f":"年暦!AL44","v":"水"},null,null,null,null,null,null,{"$f":"IF(D48=0,0,1)","v":1},{"$f":"IF(年暦!AM44=\"\",\"\",年暦!AM44)","v":"○"},{"$f":"年暦!AM43","v":5},{"$f":"IF($O48=0,0,IF($O48>0,0,1))","v":0},{"$f":"IF($O48=0,0,IF($O48>1,0,1))","v":0},{"$f":"IF($O48=0,0,IF($O48>2,0,1))","v":0},{"$f":"IF($O48=0,0,IF($O48>3,0,1))","v":0},{"$f":"IF($O48=0,0,IF($O48>4,0,1))","v":0},{"$f":"IF($O48=0,0,IF($O48>5,0,1))","v":1},{"$f":"IF(AND(G48<>\"\",P48=1),2,0)","v":0},0,0,0,0,0,{"$f":"IF(年暦!AN43=\"\",\"\",年暦!AN43)","v":"発育測定（５・６年）"}]
[]
[{"$f":"IF(AND(D50=0,O50<>0),1,IF(AND(D50<>0,O50=0),1,IF(O50>6,1,\"\")))","v":""},{"$f":"IF(SUM(V50:AA51)<>0,1,\"\")","v":""},{"$f":"IF(SUM(A50:B51)<>0,\"error\",\"\")","v":""},{"$f":"年暦!AL45","v":21},21,{"$f":"年暦!AL46","v":"木"},null,null,null,null,null,null,{"$f":"IF(D50=0,0,1)","v":1},{"$f":"IF(年暦!AM46=\"\",\"\",年暦!AM46)","v":"○"},{"$f":"年暦!AM45","v":6},{"$f":"IF($O50=0,0,IF($O50>0,0,1))","v":0},{"$f":"IF($O50=0,0,IF($O50>1,0,1))","v":0},{"$f":"IF($O50=0,0,IF($O50>2,0,1))","v":0},{"$f":"IF($O50=0,0,IF($O50>3,0,1))","v":0},{"$f":"IF($O50=0,0,IF($O50>4,0,1))","v":0},{"$f":"IF($O50=0,0,IF($O50>5,0,1))","v":0},{"$f":"IF(AND(G50<>\"\",P50=1),2,0)","v":0},0,0,0,0,0,{"$f":"IF(年暦!AN45=\"\",\"\",年暦!AN45)","v":"\n発育測定（３・４年）\n北部P連総会"}]
[]
[{"$f":"IF(AND(D52=0,O52<>0),1,IF(AND(D52<>0,O52=0),1,IF(O52>6,1,\"\")))","v":""},{"$f":"IF(SUM(V52:AA53)<>0,1,\"\")","v":""},{"$f":"IF(SUM(A52:B53)<>0,\"error\",\"\")","v":""},{"$f":"年暦!AL47","v":22},22,{"$f":"年暦!AL48","v":"金"},null,null,null,null,null,null,{"$f":"IF(D52=0,0,1)","v":1},{"$f":"IF(年暦!AM48=\"\",\"\",年暦!AM48)","v":"○"},{"$f":"年暦!AM47","v":6},{"$f":"IF($O52=0,0,IF($O52>0,0,1))","v":0},{"$f":"IF($O52=0,0,IF($O52>1,0,1))","v":0},{"$f":"IF($O52=0,0,IF($O52>2,0,1))","v":0},{"$f":"IF($O52=0,0,IF($O52>3,0,1))","v":0},{"$f":"IF($O52=0,0,IF($O52>4,0,1))","v":0},{"$f":"IF($O52=0,0,IF($O52>5,0,1))","v":0},{"$f":"IF(AND(G52<>\"\",P52=1),2,0)","v":0},0,0,0,0,0,{"$f":"IF(年暦!AN47=\"\",\"\",年暦!AN47)","v":"発育測定（１・２年）"}]
[]
[{"$f":"IF(AND(D54=0,O54<>0),1,IF(AND(D54<>0,O54=0),1,IF(O54>6,1,\"\")))","v":""},{"$f":"IF(SUM(V54:AA55)<>0,1,\"\")","v":""},{"$f":"IF(SUM(A54:B55)<>0,\"error\",\"\")","v":""},{"$f":"年暦!AL49","v":0},23,{"$f":"年暦!AL50","v":"土"},null,null,null,null,null,null,{"$f":"IF(D54=0,0,1)","v":0},{"$f":"IF(年暦!AM50=\"\",\"\",年暦!AM50)","v":""},{"$f":"年暦!AM49","v":0},{"$f":"IF($O54=0,0,IF($O54>0,0,1))","v":0},{"$f":"IF($O54=0,0,IF($O54>1,0,1))","v":0},{"$f":"IF($O54=0,0,IF($O54>2,0,1))","v":0},{"$f":"IF($O54=0,0,IF($O54>3,0,1))","v":0},{"$f":"IF($O54=0,0,IF($O54>4,0,1))","v":0},{"$f":"IF($O54=0,0,IF($O54>5,0,1))","v":0},{"$f":"IF(AND(G54<>\"\",P54=1),2,0)","v":0},0,0,0,0,0,{"$f":"IF(年暦!AN49=\"\",\"\",年暦!AN49)","v":""}]
[]
[{"$f":"IF(AND(D56=0,O56<>0),1,IF(AND(D56<>0,O56=0),1,IF(O56>6,1,\"\")))","v":""},{"$f":"IF(SUM(V56:AA57)<>0,1,\"\")","v":""},{"$f":"IF(SUM(A56:B57)<>0,\"error\",\"\")","v":""},{"$f":"年暦!AL51","v":0},24,{"$f":"年暦!AL52","v":"日"},null,null,null,null,null,null,{"$f":"IF(D56=0,0,1)","v":0},{"$f":"IF(年暦!AM52=\"\",\"\",年暦!AM52)","v":""},{"$f":"年暦!AM51","v":0},{"$f":"IF($O56=0,0,IF($O56>0,0,1))","v":0},{"$f":"IF($O56=0,0,IF($O56>1,0,1))","v":0},{"$f":"IF($O56=0,0,IF($O56>2,0,1))","v":0},{"$f":"IF($O56=0,0,IF($O56>3,0,1))","v":0},{"$f":"IF($O56=0,0,IF($O56>4,0,1))","v":0},{"$f":"IF($O56=0,0,IF($O56>5,0,1))","v":0},{"$f":"IF(AND(G56<>\"\",P56=1),2,0)","v":0},0,0,0,0,0,{"$f":"IF(年暦!AN51=\"\",\"\",年暦!AN51)","v":""}]
[]
[{"$f":"IF(AND(D58=0,O58<>0),1,IF(AND(D58<>0,O58=0),1,IF(O58>6,1,\"\")))","v":""},{"$f":"IF(SUM(V58:AA59)<>0,1,\"\")","v":""},{"$f":"IF(SUM(A58:B59)<>0,\"error\",\"\")","v":""},{"$f":"年暦!AL53","v":25},25,{"$f":"年暦!AL54","v":"月"},null,null,null,null,null,null,{"$f":"IF(D58=0,0,1)","v":1},{"$f":"IF(年暦!AM54=\"\",\"\",年暦!AM54)","v":"○"},{"$f":"年暦!AM53","v":6},{"$f":"IF($O58=0,0,IF($O58>0,0,1))","v":0},{"$f":"IF($O58=0,0,IF($O58>1,0,1))","v":0},{"$f":"IF($O58=0,0,IF($O58>2,0,1))","v":0},{"$f":"IF($O58=0,0,IF($O58>3,0,1))","v":0},{"$f":"IF($O58=0,0,IF($O58>4,0,1))","v":0},{"$f":"IF($O58=0,0,IF($O58>5,0,1))","v":0},{"$f":"IF(AND(G58<>\"\",P58=1),2,0)","v":0},0,0,0,0,0,{"$f":"IF(年暦!AN53=\"\",\"\",年暦!AN53)","v":""}]
[]
[{"$f":"IF(AND(D60=0,O60<>0),1,IF(AND(D60<>0,O60=0),1,IF(O60>6,1,\"\")))","v":""},{"$f":"IF(SUM(V60:AA61)<>0,1,\"\")","v":""},{"$f":"IF(SUM(A60:B61)<>0,\"error\",\"\")","v":""},{"$f":"年暦!AL55","v":26},26,{"$f":"年暦!AL56","v":"火"},null,null,null,null,null,null,{"$f":"IF(D60=0,0,1)","v":1},{"$f":"IF(年暦!AM56=\"\",\"\",年暦!AM56)","v":"○"},{"$f":"年暦!AM55","v":6},{"$f":"IF($O60=0,0,IF($O60>0,0,1))","v":0},{"$f":"IF($O60=0,0,IF($O60>1,0,1))","v":0},{"$f":"IF($O60=0,0,IF($O60>2,0,1))","v":0},{"$f":"IF($O60=0,0,IF($O60>3,0,1))","v":0},{"$f":"IF($O60=0,0,IF($O60>4,0,1))","v":0},{"$f":"IF($O60=0,0,IF($O60>5,0,1))","v":0},{"$f":"IF(AND(G60<>\"\",P60=1),2,0)","v":0},0,0,0,0,0,{"$f":"IF(年暦!AN55=\"\",\"\",年暦!AN55)","v":"入学児童保護者会②"}]
[]
[{"$f":"IF(AND(D62=0,O62<>0),1,IF(AND(D62<>0,O62=0),1,IF(O62>6,1,\"\")))","v":""},{"$f":"IF(SUM(V62:AA63)<>0,1,\"\")","v":""},{"$f":"IF(SUM(A62:B63)<>0,\"error\",\"\")","v":""},{"$f":"年暦!AL57","v":27},27,{"$f":"年暦!AL58","v":"水"},null,null,null,null,null,null,{"$f":"IF(D62=0,0,1)","v":1},{"$f":"IF(年暦!AM58=\"\",\"\",年暦!AM58)","v":"○"},{"$f":"年暦!AM57","v":5},{"$f":"IF($O62=0,0,IF($O62>0,0,1))","v":0},{"$f":"IF($O62=0,0,IF($O62>1,0,1))","v":0},{"$f":"IF($O62=0,0,IF($O62>2,0,1))","v":0},{"$f":"IF($O62=0,0,IF($O62>3,0,1))","v":0},{"$f":"IF($O62=0,0,IF($O62>4,0,1))","v":0},{"$f":"IF($O62=0,0,IF($O62>5,0,1))","v":1},{"$f":"IF(AND(G62<>\"\",P62=1),2,0)","v":0},0,0,0,0,0,{"$f":"IF(年暦!AN57=\"\",\"\",年暦!AN57)","v":"スキー教室\n年長児と交流③"}]
[]
[{"$f":"IF(AND(D64=0,O64<>0),1,IF(AND(D64<>0,O64=0),1,IF(O64>6,1,\"\")))","v":""},{"$f":"IF(SUM(V64:AA65)<>0,1,\"\")","v":""},{"$f":"IF(SUM(A64:B65)<>0,\"error\",\"\")","v":""},{"$f":"年暦!AL59","v":28},28,{"$f":"年暦!AL60","v":"木"},null,null,null,null,null,null,{"$f":"IF(D64=0,0,1)","v":1},{"$f":"IF(年暦!AM60=\"\",\"\",年暦!AM60)","v":"○"},{"$f":"年暦!AM59","v":6},{"$f":"IF($O64=0,0,IF($O64>0,0,1))","v":0},{"$f":"IF($O64=0,0,IF($O64>1,0,1))","v":0},{"$f":"IF($O64=0,0,IF($O64>2,0,1))","v":0},{"$f":"IF($O64=0,0,IF($O64>3,0,1))","v":0},{"$f":"IF($O64=0,0,IF($O64>4,0,1))","v":0},{"$f":"IF($O64=0,0,IF($O64>5,0,1))","v":0},{"$f":"IF(AND(G64<>\"\",P64=1),2,0)","v":0},0,0,0,0,0,{"$f":"IF(年暦!AN59=\"\",\"\",年暦!AN59)","v":"漢字検定②"}]
[]
[{"$f":"IF(AND(D66=0,O66<>0),1,IF(AND(D66<>0,O66=0),1,IF(O66>6,1,\"\")))","v":""},{"$f":"IF(SUM(V66:AA67)<>0,1,\"\")","v":""},{"$f":"IF(SUM(A66:B67)<>0,\"error\",\"\")","v":""},{"$f":"年暦!AL61","v":29},29,{"$f":"年暦!AL62","v":"金"},null,null,null,null,null,null,{"$f":"IF(D66=0,0,1)","v":1},{"$f":"IF(年暦!AM62=\"\",\"\",年暦!AM62)","v":"○"},{"$f":"年暦!AM61","v":6},{"$f":"IF($O66=0,0,IF($O66>0,0,1))","v":0},{"$f":"IF($O66=0,0,IF($O66>1,0,1))","v":0},{"$f":"IF($O66=0,0,IF($O66>2,0,1))","v":0},{"$f":"IF($O66=0,0,IF($O66>3,0,1))","v":0},{"$f":"IF($O66=0,0,IF($O66>4,0,1))","v":0},{"$f":"IF($O66=0,0,IF($O66>5,0,1))","v":0},{"$f":"IF(AND(G66<>\"\",P66=1),2,0)","v":0},0,0,0,0,0,{"$f":"IF(年暦!AN61=\"\",\"\",年暦!AN61)","v":""}]
[]
[{"$f":"IF(AND(D68=0,O68<>0),1,IF(AND(D68<>0,O68=0),1,IF(O68>6,1,\"\")))","v":""},{"$f":"IF(SUM(V68:AA69)<>0,1,\"\")","v":""},{"$f":"IF(SUM(A68:B69)<>0,\"error\",\"\")","v":""},{"$f":"年暦!AL63","v":0},30,{"$f":"年暦!AL64","v":"土"},null,null,null,null,null,null,{"$f":"IF(D68=0,0,1)","v":0},{"$f":"IF(年暦!AM64=\"\",\"\",年暦!AM64)","v":""},{"$f":"年暦!AM63","v":0},{"$f":"IF($O68=0,0,IF($O68>0,0,1))","v":0},{"$f":"IF($O68=0,0,IF($O68>1,0,1))","v":0},{"$f":"IF($O68=0,0,IF($O68>2,0,1))","v":0},{"$f":"IF($O68=0,0,IF($O68>3,0,1))","v":0},{"$f":"IF($O68=0,0,IF($O68>4,0,1))","v":0},{"$f":"IF($O68=0,0,IF($O68>5,0,1))","v":0},{"$f":"IF(AND(G68<>\"\",P68=1),2,0)","v":0},0,0,0,0,0,{"$f":"IF(年暦!AN63=\"\",\"\",年暦!AN63)","v":""}]
[]
[{"$f":"IF(AND(D70=0,O70<>0),1,IF(AND(D70<>0,O70=0),1,IF(O70>6,1,\"\")))","v":""},{"$f":"IF(SUM(V70:AA71)<>0,1,\"\")","v":""},{"$f":"IF(SUM(A70:B71)<>0,\"error\",\"\")","v":""},{"$f":"年暦!AL65","v":0},31,{"$f":"年暦!AL66","v":"日"},null,null,null,null,null,null,{"$f":"IF(D70=0,0,1)","v":0},{"$f":"IF(年暦!AM66=\"\",\"\",年暦!AM66)","v":""},{"$f":"年暦!AM65","v":0},{"$f":"IF($O70=0,0,IF($O70>0,0,1))","v":0},{"$f":"IF($O70=0,0,IF($O70>1,0,1))","v":0},{"$f":"IF($O70=0,0,IF($O70>2,0,1))","v":0},{"$f":"IF($O70=0,0,IF($O70>3,0,1))","v":0},{"$f":"IF($O70=0,0,IF($O70>4,0,1))","v":0},{"$f":"IF($O70=0,0,IF($O70>5,0,1))","v":0},{"$f":"IF(AND(G70<>\"\",P70=1),2,0)","v":0},0,0,0,0,0,{"$f":"IF(年暦!AN65=\"\",\"\",年暦!AN65)","v":""}]
[]
[]
[]
[null,null,null,null,"日","曜","○","●","児","ク","学","△","登校","給食","時数","授業時数確認",null,null,null,null,null,"誤入力確認",null,null,null,null,null,"行　事　等"]
[null,null,null,null,null,null,{"$f":"COUNTIF($G$10:$L$71,G74)","v":0},0,0,0,0,0,{"$f":"SUM(M10:M72)","v":16},{"$f":"COUNTIF(N10:N71,\"○\")","v":16},{"$f":"SUM(O10:O72)","v":92}]
[]
[null,null,null,null,null,null,null,"小計",null,null,"累計",null,null,null,null,null,null,null,null,null,null,null,null,null,null,null,null,null,null,null,"小計",null,null,"累計",null,null,null,null,null,"小計",null,null,"累計"]
[null,{"$f":"SUM(AE78,AE79,AE80,AN78,AN79,AN80)","v":0},{"$f":"IF(H79<>B78,\"error\",\"\")","v":"error"},null,"登校日数",null,null,{"$f":"M75","v":16},null,null,{"$f":"H78+'12'!K78:N78","v":176},null,null,null,null,null,null,null,null,null,null,null,null,null,null,null,null,"教科，道徳，総合",null,null,{"$f":"G75","v":0},null,null,{"$f":"AE78+'12'!AH78:AJ78","v":0},null,null,"クラブ",null,null,{"$f":"J75","v":0},null,null,{"$f":"AN78+'12'!AQ78:AS78","v":0}]
[null,null,null,null,"授業時数",null,null,{"$f":"O75","v":92},null,null,{"$f":"H79+'12'!K79:N79","v":982},null,null,null,null,null,null,null,null,null,null,null,null,null,null,null,null,"行事",null,null,{"$f":"H75","v":0},null,null,{"$f":"AE79+'12'!AH79:AJ79","v":2},null,null,"学級",null,null,{"$f":"K75","v":0},null,null,{"$f":"AN79+'12'!AQ79:AS79","v":1}]
[null,null,null,null,"給食日数",null,null,{"$f":"N75","v":16},null,null,{"$f":"H80+'12'!K80:N80","v":170},null,null,null,null,null,null,null,null,null,null,null,null,null,null,null,null,"児童会",null,null,{"$f":"I75","v":0},null,null,{"$f":"AE80+'12'!AH80:AJ80","v":0},null,null,"学校裁量",null,null,{"$f":"L75","v":0},null,null,{"$f":"AN80+'12'!AQ80:AS80","v":0}]

{"sheet":"2","index":10,"n_rows":74,"n_cols":43,"rows_kept":74,"cut":false,"hidden":false,"merged":[[73,42,73,44],[72,42,72,44],[71,42,71,44],[73,39,73,41],[72,39,72,41],[71,39,71,41],[71,27,71,29],[73,33,73,35],[72,33,72,35],[71,33,71,35],[73,30,73,32],[72,30,72,32],[71,30,71,32],[73,4,73,6],[72,4,72,6],[73,10,73,13],[72,10,72,13],[73,27,73,29],[72,27,72,29],[70,27,70,29],[70,10,70,13],[7,4,7,44],[71,4,71,6],[71,10,71,13],[70,42,70,44],[70,39,70,41],[70,36,70,38],[8,27,8,44],[41,27,42,44],[73,36,73,38],[72,36,72,38],[71,36,71,38],[70,4,70,6],[70,7,70,9],[73,7,73,9],[72,7,72,9],[71,7,71,9],[70,33,70,35],[70,30,70,32],[6,4,6,44],[5,4,5,44],[3,36,3,37],[3,33,3,34],[3,30,3,31],[3,27,3,28],[3,10,3,11],[3,7,3,8],[3,4,3,5],[31,27,32,44],[29,27,30,44],[27,27,28,44],[25,27,26,44],[39,27,40,44],[37,27,38,44],[35,27,36,44],[33,27,34,44],[51,27,52,44],[49,27,50,44],[63,27,64,44],[61,27,62,44],[57,27,58,44],[27,0,28,0],[35,45,36,45],[37,45,38,45],[39,45,40,45],[41,45,42,45],[61,45,62,45],[63,45,64,45],[51,45,52,45],[53,45,54,45],[55,45,56,45],[57,45,58,45],[55,27,56,44],[47,27,48,44],[45,27,46,44],[43,27,44,44],[59,45,60,45],[43,45,44,45],[45,45,46,45],[47,45,48,45],[49,45,50,45],[53,27,54,44],[59,27,60,44],[49,19,50,19],[61,0,62,0],[63,0,64,0],[19,45,20,45],[21,45,22,45],[23,45,24,45],[25,45,26,45],[27,45,28,45],[29,45,30,45],[31,45,32,45],[33,45,34,45],[49,0,50,0],[51,0,52,0],[53,0,54,0],[55,0,56,0],[57,0,58,0],[59,0,60,0],[37,0,38,0],[39,0,40,0],[41,0,42,0],[43,0,44,0],[45,0,46,0],[47,0,48,0],[55,21,56,21],[25,0,26,0],[29,0,30,0],[31,0,32,0],[33,0,34,0],[35,0,36,0],[63,23,64,23],[63,24,64,24],[9,0,10,0],[11,0,12,0],[13,0,14,0],[15,0,16,0],[17,0,18,0],[19,0,20,0],[21,0,22,0],[23,0,24,0],[61,19,62,19],[61,20,62,20],[59,19,60,19],[59,20,60,20],[47,21,48,21],[47,22,48,22],[51,19,52,19],[51,20,52,20],[47,19,48,19],[49,20,50,20],[47,20,48,20],[57,20,58,20],[53,21,54,21],[53,22,54,22],[55,19,56,19],[55,20,56,20],[53,19,54,19],[53,20,54,20],[57,21,58,21],[57,22,58,22],[37,20,38,20],[39,21,40,21],[39,22,40,22],[35,19,36,19],[35,20,36,20],[45,19,46,19],[45,20,46,20],[43,19,44,19],[43,20,44,20],[45,21,46,21],[45,22,46,22],[41,19,42,19],[41,20,42,20],[37,21,38,21],[39,19,40,19],[39,20,40,20],[33,20,34,20],[37,25,38,25],[37,26,38,26],[33,21,34,21],[33,22,34,22],[33,23,34,23],[33,24,34,24],[29,19,30,19],[29,20,30,20],[37,23,38,23],[37,24,38,24],[35,21,36,21],[35,22,36,22],[35,23,36,23],[35,24,36,24],[33,25,34,25],[33,26,34,26],[35,25,36,25],[35,26,36,26],[37,22,38,22],[31,25,32,25],[31,26,32,26],[31,19,32,19],[31,20,32,20],[31,21,32,21],[31,22,32,22],[25,20,26,20],[27,21,28,21],[29,21,30,21],[29,22,30,22],[29,23,30,23],[29,24,30,24],[29,25,30,25],[29,26,30,26],[31,23,32,23],[31,24,32,24],[17,26,18,26],[15,23,16,23],[17,23,18,23],[21,21,22,21],[21,22,22,22],[23,19,24,19],[23,20,24,20],[21,19,22,19],[21,20,22,20],[19,25,20,25],[19,19,20,19],[19,20,20,20],[17,19,18,19],[17,20,18,20],[27,20,28,20],[27,22,28,22],[27,23,28,23],[27,24,28,24],[21,24,22,24],[19,24,20,24],[15,24,16,24],[23,18,24,18],[21,17,22,17],[21,18,22,18],[19,18,20,18],[27,19,28,19],[19,17,20,17],[63,17,64,17],[63,18,64,18],[39,18,40,18],[37,17,38,17],[37,18,38,18],[33,17,34,17],[33,18,34,18],[31,17,32,17],[31,18,32,18],[33,19,34,19],[55,17,56,17],[55,18,56,18],[37,19,38,19],[63,19,64,19],[57,19,58,19],[15,19,16,19],[15,20,16,20],[13,19,14,19],[13,20,14,20],[9,20,10,20],[11,19,12,19],[25,19,26,19],[61,17,62,17],[61,18,62,18],[59,18,60,18],[57,17,58,17],[57,18,58,18],[53,17,54,17],[53,18,54,18],[51,17,52,17],[51,18,52,18],[49,18,50,18],[47,17,48,17],[47,18,48,18],[43,17,44,17],[43,18,44,18],[41,17,42,17],[41,18,42,18],[11,20,12,20],[63,9,64,9],[63,10,64,10],[63,11,64,11],[63,14,64,14],[63,13,64,13],[63,12,64,12],[63,15,64,15],[63,16,64,16],[59,17,60,17],[61,9,62,9],[61,10,62,10],[61,11,62,11],[61,14,62,14],[61,13,62,13],[61,12,62,12],[61,15,62,15],[61,16,62,16],[59,9,60,9],[59,10,60,10],[59,11,60,11],[59,14,60,14],[59,13,60,13],[59,12,60,12],[57,9,58,9],[57,10,58,10],[57,11,58,11],[57,14,58,14],[57,13,58,13],[57,12,58,12],[57,15,58,15],[57,16,58,16],[55,9,56,9],[55,10,56,10],[55,11,56,11],[55,14,56,14],[55,13,56,13],[55,12,56,12],[55,15,56,15],[55,16,56,16],[53,9,54,9],[53,10,54,10],[53,11,54,11],[53,14,54,14],[53,13,54,13],[53,12,54,12],[53,15,54,15],[53,16,54,16],[49,17,50,17],[51,9,52,9],[51,10,52,10],[51,11,52,11],[51,14,52,14],[51,13,52,13],[51,12,52,12],[51,15,52,15],[51,16,52,16],[49,9,50,9],[49,10,50,10],[49,11,50,11],[49,14,50,14],[49,13,50,13],[49,12,50,12],[49,15,50,15],[49,16,50,16],[45,17,46,17],[45,18,46,18],[47,9,48,9],[47,10,48,10],[47,11,48,11],[47,14,48,14],[47,13,48,13],[47,12,48,12],[47,15,48,15],[47,16,48,16],[45,9,46,9],[45,10,46,10],[45,11,46,11],[45,14,46,14],[45,13,46,13],[45,12,46,12],[45,15,46,15],[45,16,46,16],[43,9,44,9],[43,10,44,10],[43,11,44,11],[43,14,44,14],[43,13,44,13],[43,12,44,12],[43,15,44,15],[43,16,44,16],[39,17,40,17],[41,9,42,9],[41,10,42,10],[41,11,42,11],[41,14,42,14],[41,13,42,13],[41,12,42,12],[41,15,42,15],[41,16,42,16],[39,9,40,9],[39,10,40,10],[39,11,40,11],[39,14,40,14],[39,13,40,13],[39,12,40,12],[39,15,40,15],[39,16,40,16],[35,17,36,17],[35,18,36,18],[37,9,38,9],[37,10,38,10],[37,11,38,11],[37,14,38,14],[37,13,38,13],[37,12,38,12],[37,15,38,15],[37,16,38,16],[35,9,36,9],[35,10,36,10],[35,11,36,11],[35,14,36,14],[35,13,36,13],[35,12,36,12],[35,15,36,15],[35,16,36,16],[33,9,34,9],[33,10,34,10],[33,11,34,11],[33,14,34,14],[33,13,34,13],[33,12,34,12],[33,15,34,15],[33,16,34,16],[29,17,30,17],[31,9,32,9],[31,10,32,10],[31,11,32,11],[31,14,32,14],[31,13,32,13],[31,12,32,12],[31,15,32,15],[31,16,32,16],[29,9,30,9],[29,10,30,10],[29,11,30,11],[29,14,30,14],[29,13,30,13],[29,12,30,12],[29,15,30,15],[19,16,20,16],[29,16,30,16],[25,17,26,17],[25,18,26,18],[27,9,28,9],[27,10,28,10],[27,11,28,11],[27,14,28,14],[27,13,28,13],[27,12,28,12],[27,15,28,15],[27,16,28,16],[25,9,26,9],[25,10,26,10],[25,11,26,11],[25,14,26,14],[25,13,26,13],[25,12,26,12],[25,15,26,15],[25,16,26,16],[29,18,30,18],[27,17,28,17],[27,18,28,18],[23,17,24,17],[23,9,24,9],[23,10,24,10],[23,11,24,11],[23,14,24,14],[23,13,24,13],[23,12,24,12],[23,15,24,15],[23,16,24,16],[15,17,16,17],[21,9,22,9],[21,10,22,10],[21,11,22,11],[21,14,22,14],[21,13,22,13],[21,12,22,12],[21,15,22,15],[21,16,22,16],[19,9,20,9],[19,10,20,10],[19,11,20,11],[19,14,20,14],[19,13,20,13],[19,12,20,12],[19,15,20,15],[15,18,16,18],[17,9,18,9],[17,10,18,10],[17,11,18,11],[17,14,18,14],[17,13,18,13],[17,12,18,12],[17,15,18,15],[17,16,18,16],[17,17,18,17],[17,18,18,18],[15,9,16,9],[15,10,16,10],[15,11,16,11],[15,14,16,14],[15,13,16,13],[15,12,16,12],[15,15,16,15],[15,16,16,16],[13,9,14,9],[13,10,14,10],[13,11,14,11],[13,14,14,14],[13,15,14,15],[13,16,14,16],[11,15,12,15],[11,16,12,16],[11,17,12,17],[11,18,12,18],[9,9,10,9],[9,10,10,10],[9,11,10,11],[9,14,10,14],[13,17,14,17],[13,18,14,18],[63,5,64,5],[63,6,64,6],[63,7,64,7],[63,8,64,8],[61,5,62,5],[61,6,62,6],[61,7,62,7],[57,5,58,5],[57,6,58,6],[57,7,58,7],[57,8,58,8],[61,8,62,8],[59,5,60,5],[59,6,60,6],[59,7,60,7],[59,8,60,8],[53,5,54,5],[53,6,54,6],[53,7,54,7],[53,8,54,8],[55,5,56,5],[55,6,56,6],[55,7,56,7],[55,8,56,8],[49,5,50,5],[49,6,50,6],[49,7,50,7],[49,8,50,8],[51,5,52,5],[51,6,52,6],[51,7,52,7],[51,8,52,8],[45,5,46,5],[45,6,46,6],[45,7,46,7],[45,8,46,8],[47,5,48,5],[47,6,48,6],[47,7,48,7],[47,8,48,8],[41,5,42,5],[41,6,42,6],[41,7,42,7],[41,8,42,8],[43,5,44,5],[43,6,44,6],[43,7,44,7],[43,8,44,8],[37,5,38,5],[37,6,38,6],[37,7,38,7],[37,8,38,8],[39,5,40,5],[39,6,40,6],[39,7,40,7],[39,8,40,8],[33,5,34,5],[33,6,34,6],[33,7,34,7],[33,8,34,8],[35,5,36,5],[35,6,36,6],[35,7,36,7],[35,8,36,8],[31,5,32,5],[31,6,32,6],[31,7,32,7],[31,8,32,8],[25,5,26,5],[25,6,26,6],[25,7,26,7],[25,8,26,8],[27,5,28,5],[27,6,28,6],[27,7,28,7],[27,8,28,8],[17,6,18,6],[17,7,18,7],[17,8,18,8],[19,5,20,5],[19,6,20,6],[19,7,20,7],[19,8,20,8],[29,5,30,5],[29,6,30,6],[29,7,30,7],[29,8,30,8],[37,4,38,4],[35,4,36,4],[33,4,34,4],[15,4,16,4],[13,4,14,4],[13,5,14,5],[13,6,14,6],[13,7,14,7],[13,8,14,8],[15,5,16,5],[15,6,16,6],[15,7,16,7],[15,8,16,8],[31,4,32,4],[29,4,30,4],[21,5,22,5],[21,6,22,6],[21,7,22,7],[21,8,22,8],[23,5,24,5],[23,6,24,6],[23,7,24,7],[23,8,24,8],[17,5,18,5],[63,4,64,4],[61,4,62,4],[63,3,64,3],[61,3,62,3],[59,4,60,4],[57,4,58,4],[43,3,44,3],[41,3,42,3],[39,3,40,3],[55,4,56,4],[53,4,54,4],[51,4,52,4],[49,4,50,4],[47,4,48,4],[45,4,46,4],[59,3,60,3],[57,3,58,3],[55,3,56,3],[53,3,54,3],[43,4,44,4],[41,4,42,4],[39,4,40,4],[37,3,38,3],[51,3,52,3],[49,3,50,3],[47,3,48,3],[45,3,46,3],[27,3,28,3],[25,3,26,3],[23,3,24,3],[21,3,22,3],[35,3,36,3],[33,3,34,3],[31,3,32,3],[29,3,30,3],[19,3,20,3],[17,3,18,3],[15,3,16,3],[13,3,14,3],[11,4,12,4],[9,4,10,4],[11,3,12,3],[9,3,10,3],[27,4,28,4],[25,4,26,4],[23,4,24,4],[21,4,22,4],[19,4,20,4],[17,4,18,4],[9,2,10,2],[11,2,12,2],[13,2,14,2],[11,21,12,21],[9,13,10,13],[11,13,12,13],[13,13,14,13],[9,12,10,12],[11,12,12,12],[13,12,14,12],[9,21,10,21],[9,7,10,7],[9,8,10,8],[11,5,12,5],[11,6,12,6],[11,7,12,7],[11,8,12,8],[9,5,10,5],[9,6,10,6],[9,18,10,18],[11,9,12,9],[11,10,12,10],[11,11,12,11],[11,14,12,14],[55,2,56,2],[57,2,58,2],[23,2,24,2],[25,2,26,2],[27,2,28,2],[29,2,30,2],[15,2,16,2],[17,2,18,2],[19,2,20,2],[21,2,22,2],[39,2,40,2],[59,2,60,2],[61,2,62,2],[47,2,48,2],[49,2,50,2],[51,2,52,2],[53,2,54,2],[63,2,64,2],[9,1,10,1],[11,1,12,1],[13,1,14,1],[15,1,16,1],[17,1,18,1],[19,1,20,1],[21,1,22,1],[23,1,24,1],[25,1,26,1],[59,1,60,1],[61,1,62,1],[63,1,64,1],[41,2,42,2],[43,2,44,2],[45,2,46,2],[31,2,32,2],[33,2,34,2],[15,21,16,21],[15,22,16,22],[11,23,12,23],[13,21,14,21],[21,23,22,23],[19,23,20,23],[57,1,58,1],[35,1,36,1],[37,1,38,1],[27,1,28,1],[29,1,30,1],[31,1,32,1],[33,1,34,1],[39,1,40,1],[41,1,42,1],[43,1,44,1],[45,1,46,1],[47,1,48,1],[51,1,52,1],[53,1,54,1],[49,1,50,1],[55,1,56,1],[35,2,36,2],[37,2,38,2],[17,24,18,24],[25,21,26,21],[25,22,26,22],[27,26,28,26],[25,25,26,25],[25,26,26,26],[23,23,24,23],[23,24,24,24],[23,25,24,25],[23,26,24,26],[25,23,26,23],[25,24,26,24],[27,25,28,25],[17,21,18,21],[17,22,18,22],[23,21,24,21],[23,22,24,22],[19,21,20,21],[39,25,40,25],[39,26,40,26],[41,23,42,23],[41,24,42,24],[41,25,42,25],[41,26,42,26],[39,23,40,23],[39,24,40,24],[43,21,44,21],[43,22,44,22],[41,21,42,21],[41,22,42,22],[43,25,44,25],[43,26,44,26],[43,23,44,23],[43,24,44,24],[49,21,50,21],[49,22,50,22],[51,21,52,21],[51,22,52,22],[51,23,52,23],[51,24,52,24],[55,23,56,23],[55,24,56,24],[55,25,56,25],[51,25,52,25],[49,25,50,25],[49,23,50,23],[49,24,50,24],[55,22,56,22],[53,25,54,25],[55,26,56,26],[57,25,58,25],[57,26,58,26],[61,25,62,25],[61,26,62,26],[45,25,46,25],[45,26,46,26],[57,24,58,24],[53,23,54,23],[53,24,54,24],[45,23,46,23],[45,24,46,24],[51,26,52,26],[49,26,50,26],[47,25,48,25],[47,26,48,26],[47,23,48,23],[47,24,48,24],[53,26,54,26],[57,23,58,23],[59,21,60,21],[59,22,60,22],[61,21,62,21],[61,22,62,22],[61,23,62,23],[61,24,62,24],[59,23,60,23],[59,24,60,24],[67,15,67,20],[67,21,67,26],[59,25,60,25],[59,26,60,26],[59,16,60,16],[59,15,60,15],[63,25,64,25],[63,26,64,26],[63,20,64,20],[63,21,64,21],[63,22,64,22],[8,15,8,20],[8,21,8,26],[9,23,10,23],[9,24,10,24],[9,25,10,25],[9,26,10,26],[9,15,10,15],[9,16,10,16],[9,17,10,17],[9,19,10,19],[9,22,10,22],[23,27,24,44],[15,27,16,44],[13,27,14,44],[11,27,12,44],[21,27,22,44],[19,27,20,44],[19,22,20,22],[11,26,12,26],[9,27,10,44],[13,25,14,25],[13,26,14,26],[11,22,12,22],[11,24,12,24],[11,25,12,25],[13,22,14,22],[13,23,14,23],[13,24,14,24],[19,26,20,26],[17,27,18,44],[21,25,22,25],[21,26,22,26],[15,25,16,25],[15,26,16,26],[17,25,18,25]]}
[]
[]
[]
[null,null,null,null,"q",null,null,"w",null,null,"e",null,null,null,null,null,null,null,null,null,null,null,null,null,null,null,null,"r",null,null,"t",null,null,"y",null,null,"u"]
[]
[null,null,null,null,"○：教科，道徳，総合　　●：行事　　児：児童会　　ク：クラブ　　学：学級　　△：学裁"]
[null,null,null,null,{"$f":"CONCATENATE(年暦!AP4,\"　　　予　定　表\")","v":"2　　　月　　　予　定　表"}]
[null,null,null,null,"○：教科，道徳，総合　　●：行事　　児：児童会　　ク：クラブ　　学：学級　　△：学裁"]
[null,null,null,null,"日","曜",1,2,3,4,5,6,"登校","給食","時数","授業時数確認",null,null,null,null,null,"誤入力確認",null,null,null,null,null,"行　事　等"]
[{"$f":"IF(AND(D10=0,O10<>0),1,IF(AND(D10<>0,O10=0),1,IF(O10>6,1,\"\")))","v":""},{"$f":"IF(SUM(V10:AA11)<>0,1,\"\")","v":""},{"$f":"IF(SUM(A10:B11)<>0,\"error\",\"\")","v":""},{"$f":"年暦!AP5","v":1},1,{"$f":"年暦!AP6","v":"月"},null,null,null,null,null,null,{"$f":"IF(D10=0,0,1)","v":1},{"$f":"IF(年暦!AQ6=\"\",\"\",年暦!AQ6)","v":"○"},{"$f":"年暦!AQ5","v":6},{"$f":"IF($O10=0,0,IF($O10>0,0,1))","v":0},{"$f":"IF($O10=0,0,IF($O10>1,0,1))","v":0},{"$f":"IF($O10=0,0,IF($O10>2,0,1))","v":0},{"$f":"IF($O10=0,0,IF($O10>3,0,1))","v":0},{"$f":"IF($O10=0,0,IF($O10>4,0,1))","v":0},{"$f":"IF($O10=0,0,IF($O10>5,0,1))","v":0},{"$f":"IF(AND(G10<>\"\",P10=1),2,0)","v":0},0,0,0,0,0,{"$f":"IF(年暦!AR5=\"\",\"\",年暦!AR5)","v":"中学校説明会"}]
[]
[{"$f":"IF(AND(D12=0,O12<>0),1,IF(AND(D12<>0,O12=0),1,IF(O12>6,1,\"\")))","v":""},{"$f":"IF(SUM(V12:AA13)<>0,1,\"\")","v":""},{"$f":"IF(SUM(A12:B13)<>0,\"error\",\"\")","v":""},{"$f":"年暦!AP7","v":2},2,{"$f":"年暦!AP8","v":"火"},null,null,null,null,null,null,{"$f":"IF(D12=0,0,1)","v":1},{"$f":"IF(年暦!AQ8=\"\",\"\",年暦!AQ8)","v":"○"},{"$f":"年暦!AQ7","v":6},{"$f":"IF($O12=0,0,IF($O12>0,0,1))","v":0},{"$f":"IF($O12=0,0,IF($O12>1,0,1))","v":0},{"$f":"IF($O12=0,0,IF($O12>2,0,1))","v":0},{"$f":"IF($O12=0,0,IF($O12>3,0,1))","v":0},{"$f":"IF($O12=0,0,IF($O12>4,0,1))","v":0},{"$f":"IF($O12=0,0,IF($O12>5,0,1))","v":0},{"$f":"IF(AND(G12<>\"\",P12=1),2,0)","v":0},0,0,0,0,0,{"$f":"IF(年暦!AR7=\"\",\"\",年暦!AR7)","v":""}]
[]
[{"$f":"IF(AND(D14=0,O14<>0),1,IF(AND(D14<>0,O14=0),1,IF(O14>6,1,\"\")))","v":""},{"$f":"IF(SUM(V14:AA15)<>0,1,\"\")","v":""},{"$f":"IF(SUM(A14:B15)<>0,\"error\",\"\")","v":""},{"$f":"年暦!AP9","v":3},3,{"$f":"年暦!AP10","v":"水"},null,null,null,null,null,null,{"$f":"IF(D14=0,0,1)","v":1},{"$f":"IF(年暦!AQ10=\"\",\"\",年暦!AQ10)","v":"○"},{"$f":"年暦!AQ9","v":5},{"$f":"IF($O14=0,0,IF($O14>0,0,1))","v":0},{"$f":"IF($O14=0,0,IF($O14>1,0,1))","v":0},{"$f":"IF($O14=0,0,IF($O14>2,0,1))","v":0},{"$f":"IF($O14=0,0,IF($O14>3,0,1))","v":0},{"$f":"IF($O14=0,0,IF($O14>4,0,1))","v":0},{"$f":"IF($O14=0,0,IF($O14>5,0,1))","v":1},{"$f":"IF(AND(G14<>\"\",P14=1),2,0)","v":0},0,0,0,0,0,{"$f":"IF(年暦!AR9=\"\",\"\",年暦!AR9)","v":""}]
[]
[{"$f":"IF(AND(D16=0,O16<>0),1,IF(AND(D16<>0,O16=0),1,IF(O16>6,1,\"\")))","v":""},{"$f":"IF(SUM(V16:AA17)<>0,1,\"\")","v":""},{"$f":"IF(SUM(A16:B17)<>0,\"error\",\"\")","v":""},{"$f":"年暦!AP11","v":4},4,{"$f":"年暦!AP12","v":"木"},null,null,null,null,null,null,{"$f":"IF(D16=0,0,1)","v":1},{"$f":"IF(年暦!AQ12=\"\",\"\",年暦!AQ12)","v":"○"},{"$f":"年暦!AQ11","v":6},{"$f":"IF($O16=0,0,IF($O16>0,0,1))","v":0},{"$f":"IF($O16=0,0,IF($O16>1,0,1))","v":0},{"$f":"IF($O16=0,0,IF($O16>2,0,1))","v":0},{"$f":"IF($O16=0,0,IF($O16>3,0,1))","v":0},{"$f":"IF($O16=0,0,IF($O16>4,0,1))","v":0},{"$f":"IF($O16=0,0,IF($O16>5,0,1))","v":0},{"$f":"IF(AND(G16<>\"\",P16=1),2,0)","v":0},0,0,0,0,0,{"$f":"IF(年暦!AR11=\"\",\"\",年暦!AR11)","v":""}]
[]
[{"$f":"IF(AND(D18=0,O18<>0),1,IF(AND(D18<>0,O18=0),1,IF(O18>6,1,\"\")))","v":""},{"$f":"IF(SUM(V18:AA19)<>0,1,\"\")","v":""},{"$f":"IF(SUM(A18:B19)<>0,\"error\",\"\")","v":""},{"$f":"年暦!AP13","v":5},5,{"$f":"年暦!AP14","v":"金"},null,null,null,null,null,null,{"$f":"IF(D18=0,0,1)","v":1},{"$f":"IF(年暦!AQ14=\"\",\"\",年暦!AQ14)","v":"○"},{"$f":"年暦!AQ13","v":6},{"$f":"IF($O18=0,0,IF($O18>0,0,1))","v":0},{"$f":"IF($O18=0,0,IF($O18>1,0,1))","v":0},{"$f":"IF($O18=0,0,IF($O18>2,0,1))","v":0},{"$f":"IF($O18=0,0,IF($O18>3,0,1))","v":0},{"$f":"IF($O18=0,0,IF($O18>4,0,1))","v":0},{"$f":"IF($O18=0,0,IF($O18>5,0,1))","v":0},{"$f":"IF(AND(G18<>\"\",P18=1),2,0)","v":0},0,0,0,0,0,{"$f":"IF(年暦!AR13=\"\",\"\",年暦!AR13)","v":""}]
[]
[{"$f":"IF(AND(D20=0,O20<>0),1,IF(AND(D20<>0,O20=0),1,IF(O20>6,1,\"\")))","v":""},{"$f":"IF(SUM(V20:AA21)<>0,1,\"\")","v":""},{"$f":"IF(SUM(A20:B21)<>0,\"error\",\"\")","v":""},{"$f":"年暦!AP15","v":0},6,{"$f":"年暦!AP16","v":"土"},null,null,null,null,null,null,{"$f":"IF(D20=0,0,1)","v":0},{"$f":"IF(年暦!AQ16=\"\",\"\",年暦!AQ16)","v":""},{"$f":"年暦!AQ15","v":0},{"$f":"IF($O20=0,0,IF($O20>0,0,1))","v":0},{"$f":"IF($O20=0,0,IF($O20>1,0,1))","v":0},{"$f":"IF($O20=0,0,IF($O20>2,0,1))","v":0},{"$f":"IF($O20=0,0,IF($O20>3,0,1))","v":0},{"$f":"IF($O20=0,0,IF($O20>4,0,1))","v":0},{"$f":"IF($O20=0,0,IF($O20>5,0,1))","v":0},{"$f":"IF(AND(G20<>\"\",P20=1),2,0)","v":0},0,0,0,0,0,{"$f":"IF(年暦!AR15=\"\",\"\",年暦!AR15)","v":""}]
[]
[{"$f":"IF(AND(D22=0,O22<>0),1,IF(AND(D22<>0,O22=0),1,IF(O22>6,1,\"\")))","v":""},{"$f":"IF(SUM(V22:AA23)<>0,1,\"\")","v":""},{"$f":"IF(SUM(A22:B23)<>0,\"error\",\"\")","v":""},{"$f":"年暦!AP17","v":0},7,{"$f":"年暦!AP18","v":"日"},null,null,null,null,null,null,{"$f":"IF(D22=0,0,1)","v":0},{"$f":"IF(年暦!AQ18=\"\",\"\",年暦!AQ18)","v":""},{"$f":"年暦!AQ17","v":0},{"$f":"IF($O22=0,0,IF($O22>0,0,1))","v":0},{"$f":"IF($O22=0,0,IF($O22>1,0,1))","v":0},{"$f":"IF($O22=0,0,IF($O22>2,0,1))","v":0},{"$f":"IF($O22=0,0,IF($O22>3,0,1))","v":0},{"$f":"IF($O22=0,0,IF($O22>4,0,1))","v":0},{"$f":"IF($O22=0,0,IF($O22>5,0,1))","v":0},{"$f":"IF(AND(G22<>\"\",P22=1),2,0)","v":0},0,0,0,0,0,{"$f":"IF(年暦!AR17=\"\",\"\",年暦!AR17)","v":""}]
[]
[{"$f":"IF(AND(D24=0,O24<>0),1,IF(AND(D24<>0,O24=0),1,IF(O24>6,1,\"\")))","v":""},{"$f":"IF(SUM(V24:AA25)<>0,1,\"\")","v":""},{"$f":"IF(SUM(A24:B25)<>0,\"error\",\"\")","v":""},{"$f":"年暦!AP19","v":8},8,{"$f":"年暦!AP20","v":"月"},null,null,null,null,null,null,{"$f":"IF(D24=0,0,1)","v":1},{"$f":"IF(年暦!AQ20=\"\",\"\",年暦!AQ20)","v":"○"},{"$f":"年暦!AQ19","v":6},{"$f":"IF($O24=0,0,IF($O24>0,0,1))","v":0},{"$f":"IF($O24=0,0,IF($O24>1,0,1))","v":0},{"$f":"IF($O24=0,0,IF($O24>2,0,1))","v":0},{"$f":"IF($O24=0,0,IF($O24>3,0,1))","v":0},{"$f":"IF($O24=0,0,IF($O24>4,0,1))","v":0},{"$f":"IF($O24=0,0,IF($O24>5,0,1))","v":0},{"$f":"IF(AND(G24<>\"\",P24=1),2,0)","v":0},0,0,0,0,0,{"$f":"IF(年暦!AR19=\"\",\"\",年暦!AR19)","v":""}]
[]
[{"$f":"IF(AND(D26=0,O26<>0),1,IF(AND(D26<>0,O26=0),1,IF(O26>6,1,\"\")))","v":""},{"$f":"IF(SUM(V26:AA27)<>0,1,\"\")","v":""},{"$f":"IF(SUM(A26:B27)<>0,\"error\",\"\")","v":""},{"$f":"年暦!AP21","v":9},9,{"$f":"年暦!AP22","v":"火"},null,null,null,null,null,null,{"$f":"IF(D26=0,0,1)","v":1},{"$f":"IF(年暦!AQ22=\"\",\"\",年暦!AQ22)","v":"○"},{"$f":"年暦!AQ21","v":6},{"$f":"IF($O26=0,0,IF($O26>0,0,1))","v":0},{"$f":"IF($O26=0,0,IF($O26>1,0,1))","v":0},{"$f":"IF($O26=0,0,IF($O26>2,0,1))","v":0},{"$f":"IF($O26=0,0,IF($O26>3,0,1))","v":0},{"$f":"IF($O26=0,0,IF($O26>4,0,1))","v":0},{"$f":"IF($O26=0,0,IF($O26>5,0,1))","v":0},{"$f":"IF(AND(G26<>\"\",P26=1),2,0)","v":0},0,0,0,0,0,{"$f":"IF(年暦!AR21=\"\",\"\",年暦!AR21)","v":""}]
[]
[{"$f":"IF(AND(D28=0,O28<>0),1,IF(AND(D28<>0,O28=0),1,IF(O28>6,1,\"\")))","v":""},{"$f":"IF(SUM(V28:AA29)<>0,1,\"\")","v":""},{"$f":"IF(SUM(A28:B29)<>0,\"error\",\"\")","v":""},{"$f":"年暦!AP23","v":10},10,{"$f":"年暦!AP24","v":"水"},null,null,null,null,null,null,{"$f":"IF(D28=0,0,1)","v":1},{"$f":"IF(年暦!AQ24=\"\",\"\",年暦!AQ24)","v":"○"},{"$f":"年暦!AQ23","v":5},{"$f":"IF($O28=0,0,IF($O28>0,0,1))","v":0},{"$f":"IF($O28=0,0,IF($O28>1,0,1))","v":0},{"$f":"IF($O28=0,0,IF($O28>2,0,1))","v":0},{"$f":"IF($O28=0,0,IF($O28>3,0,1))","v":0},{"$f":"IF($O28=0,0,IF($O28>4,0,1))","v":0},{"$f":"IF($O28=0,0,IF($O28>5,0,1))","v":1},{"$f":"IF(AND(G28<>\"\",P28=1),2,0)","v":0},0,0,0,0,0,{"$f":"IF(年暦!AR23=\"\",\"\",年暦!AR23)","v":""}]
[]
[{"$f":"IF(AND(D30=0,O30<>0),1,IF(AND(D30<>0,O30=0),1,IF(O30>6,1,\"\")))","v":""},{"$f":"IF(SUM(V30:AA31)<>0,1,\"\")","v":""},{"$f":"IF(SUM(A30:B31)<>0,\"error\",\"\")","v":""},{"$f":"年暦!AP25","v":0},11,{"$f":"年暦!AP26","v":"木"},null,null,null,null,null,null,{"$f":"IF(D30=0,0,1)","v":0},{"$f":"IF(年暦!AQ26=\"\",\"\",年暦!AQ26)","v":""},{"$f":"年暦!AQ25","v":0},{"$f":"IF($O30=0,0,IF($O30>0,0,1))","v":0},{"$f":"IF($O30=0,0,IF($O30>1,0,1))","v":0},{"$f":"IF($O30=0,0,IF($O30>2,0,1))","v":0},{"$f":"IF($O30=0,0,IF($O30>3,0,1))","v":0},{"$f":"IF($O30=0,0,IF($O30>4,0,1))","v":0},{"$f":"IF($O30=0,0,IF($O30>5,0,1))","v":0},{"$f":"IF(AND(G30<>\"\",P30=1),2,0)","v":0},0,0,0,0,0,{"$f":"IF(年暦!AR25=\"\",\"\",年暦!AR25)","v":"建国記念の日"}]
[]
[{"$f":"IF(AND(D32=0,O32<>0),1,IF(AND(D32<>0,O32=0),1,IF(O32>6,1,\"\")))","v":""},{"$f":"IF(SUM(V32:AA33)<>0,1,\"\")","v":""},{"$f":"IF(SUM(A32:B33)<>0,\"error\",\"\")","v":""},{"$f":"年暦!AP27","v":12},12,{"$f":"年暦!AP28","v":"金"},null,null,null,null,null,null,{"$f":"IF(D32=0,0,1)","v":1},{"$f":"IF(年暦!AQ28=\"\",\"\",年暦!AQ28)","v":"○"},{"$f":"年暦!AQ27","v":6},{"$f":"IF($O32=0,0,IF($O32>0,0,1))","v":0},{"$f":"IF($O32=0,0,IF($O32>1,0,1))","v":0},{"$f":"IF($O32=0,0,IF($O32>2,0,1))","v":0},{"$f":"IF($O32=0,0,IF($O32>3,0,1))","v":0},{"$f":"IF($O32=0,0,IF($O32>4,0,1))","v":0},{"$f":"IF($O32=0,0,IF($O32>5,0,1))","v":0},{"$f":"IF(AND(G32<>\"\",P32=1),2,0)","v":0},0,0,0,0,0,{"$f":"IF(年暦!AR27=\"\",\"\",年暦!AR27)","v":"５・６年参観日\nＰＴＡ評議員会④"}]
[]
[{"$f":"IF(AND(D34=0,O34<>0),1,IF(AND(D34<>0,O34=0),1,IF(O34>6,1,\"\")))","v":""},{"$f":"IF(SUM(V34:AA35)<>0,1,\"\")","v":""},{"$f":"IF(SUM(A34:B35)<>0,\"error\",\"\")","v":""},{"$f":"年暦!AP29","v":0},13,{"$f":"年暦!AP30","v":"土"},null,null,null,null,null,null,{"$f":"IF(D34=0,0,1)","v":0},{"$f":"IF(年暦!AQ30=\"\",\"\",年暦!AQ30)","v":""},{"$f":"年暦!AQ29","v":0},{"$f":"IF($O34=0,0,IF($O34>0,0,1))","v":0},{"$f":"IF($O34=0,0,IF($O34>1,0,1))","v":0},{"$f":"IF($O34=0,0,IF($O34>2,0,1))","v":0},{"$f":"IF($O34=0,0,IF($O34>3,0,1))","v":0},{"$f":"IF($O34=0,0,IF($O34>4,0,1))","v":0},{"$f":"IF($O34=0,0,IF($O34>5,0,1))","v":0},{"$f":"IF(AND(G34<>\"\",P34=1),2,0)","v":0},0,0,0,0,0,{"$f":"IF(年暦!AR29=\"\",\"\",年暦!AR29)","v":""}]
[]
[{"$f":"IF(AND(D36=0,O36<>0),1,IF(AND(D36<>0,O36=0),1,IF(O36>6,1,\"\")))","v":""},{"$f":"IF(SUM(V36:AA37)<>0,1,\"\")","v":""},{"$f":"IF(SUM(A36:B37)<>0,\"error\",\"\")","v":""},{"$f":"年暦!AP31","v":0},14,{"$f":"年暦!AP32","v":"日"},null,null,null,null,null,null,{"$f":"IF(D36=0,0,1)","v":0},{"$f":"IF(年暦!AQ32=\"\",\"\",年暦!AQ32)","v":""},{"$f":"年暦!AQ31","v":0},{"$f":"IF($O36=0,0,IF($O36>0,0,1))","v":0},{"$f":"IF($O36=0,0,IF($O36>1,0,1))","v":0},{"$f":"IF($O36=0,0,IF($O36>2,0,1))","v":0},{"$f":"IF($O36=0,0,IF($O36>3,0,1))","v":0},{"$f":"IF($O36=0,0,IF($O36>4,0,1))","v":0},{"$f":"IF($O36=0,0,IF($O36>5,0,1))","v":0},{"$f":"IF(AND(G36<>\"\",P36=1),2,0)","v":0},0,0,0,0,0,{"$f":"IF(年暦!AR31=\"\",\"\",年暦!AR31)","v":""}]
[]
[{"$f":"IF(AND(D38=0,O38<>0),1,IF(AND(D38<>0,O38=0),1,IF(O38>6,1,\"\")))","v":""},{"$f":"IF(SUM(V38:AA39)<>0,1,\"\")","v":""},{"$f":"IF(SUM(A38:B39)<>0,\"error\",\"\")","v":""},{"$f":"年暦!AP33","v":15},15,{"$f":"年暦!AP34","v":"月"},null,null,null,null,null,null,{"$f":"IF(D38=0,0,1)","v":1},{"$f":"IF(年暦!AQ34=\"\",\"\",年暦!AQ34)","v":"○"},{"$f":"年暦!AQ33","v":6},{"$f":"IF($O38=0,0,IF($O38>0,0,1))","v":0},{"$f":"IF($O38=0,0,IF($O38>1,0,1))","v":0},{"$f":"IF($O38=0,0,IF($O38>2,0,1))","v":0},{"$f":"IF($O38=0,0,IF($O38>3,0,1))","v":0},{"$f":"IF($O38=0,0,IF($O38>4,0,1))","v":0},{"$f":"IF($O38=0,0,IF($O38>5,0,1))","v":0},{"$f":"IF(AND(G38<>\"\",P38=1),2,0)","v":0},0,0,0,0,0,{"$f":"IF(年暦!AR33=\"\",\"\",年暦!AR33)","v":""}]
[]
[{"$f":"IF(AND(D40=0,O40<>0),1,IF(AND(D40<>0,O40=0),1,IF(O40>6,1,\"\")))","v":""},{"$f":"IF(SUM(V40:AA41)<>0,1,\"\")","v":""},{"$f":"IF(SUM(A40:B41)<>0,\"error\",\"\")","v":""},{"$f":"年暦!AP35","v":16},16,{"$f":"年暦!AP36","v":"火"},null,null,null,null,null,null,{"$f":"IF(D40=0,0,1)","v":1},{"$f":"IF(年暦!AQ36=\"\",\"\",年暦!AQ36)","v":"○"},{"$f":"年暦!AQ35","v":6},{"$f":"IF($O40=0,0,IF($O40>0,0,1))","v":0},{"$f":"IF($O40=0,0,IF($O40>1,0,1))","v":0},{"$f":"IF($O40=0,0,IF($O40>2,0,1))","v":0},{"$f":"IF($O40=0,0,IF($O40>3,0,1))","v":0},{"$f":"IF($O40=0,0,IF($O40>4,0,1))","v":0},{"$f":"IF($O40=0,0,IF($O40>5,0,1))","v":0},{"$f":"IF(AND(G40<>\"\",P40=1),2,0)","v":0},0,0,0,0,0,{"$f":"IF(年暦!AR35=\"\",\"\",年暦!AR35)","v":"３・４年参観日\n（高校前期合格発表）"}]
[]
[{"$f":"IF(AND(D42=0,O42<>0),1,IF(AND(D42<>0,O42=0),1,IF(O42>6,1,\"\")))","v":""},{"$f":"IF(SUM(V42:AA43)<>0,1,\"\")","v":""},{"$f":"IF(SUM(A42:B43)<>0,\"error\",\"\")","v":""},{"$f":"年暦!AP37","v":17},17,{"$f":"年暦!AP38","v":"水"},null,null,null,null,null,null,{"$f":"IF(D42=0,0,1)","v":1},{"$f":"IF(年暦!AQ38=\"\",\"\",年暦!AQ38)","v":"○"},{"$f":"年暦!AQ37","v":5},{"$f":"IF($O42=0,0,IF($O42>0,0,1))","v":0},{"$f":"IF($O42=0,0,IF($O42>1,0,1))","v":0},{"$f":"IF($O42=0,0,IF($O42>2,0,1))","v":0},{"$f":"IF($O42=0,0,IF($O42>3,0,1))","v":0},{"$f":"IF($O42=0,0,IF($O42>4,0,1))","v":0},{"$f":"IF($O42=0,0,IF($O42>5,0,1))","v":1},{"$f":"IF(AND(G42<>\"\",P42=1),2,0)","v":0},0,0,0,0,0,{"$f":"IF(年暦!AR37=\"\",\"\",年暦!AR37)","v":"児童会総会②"}]
[]
[{"$f":"IF(AND(D44=0,O44<>0),1,IF(AND(D44<>0,O44=0),1,IF(O44>6,1,\"\")))","v":""},{"$f":"IF(SUM(V44:AA45)<>0,1,\"\")","v":""},{"$f":"IF(SUM(A44:B45)<>0,\"error\",\"\")","v":""},{"$f":"年暦!AP39","v":18},18,{"$f":"年暦!AP40","v":"木"},null,null,null,null,null,null,{"$f":"IF(D44=0,0,1)","v":1},{"$f":"IF(年暦!AQ40=\"\",\"\",年暦!AQ40)","v":"○"},{"$f":"年暦!AQ39","v":6},{"$f":"IF($O44=0,0,IF($O44>0,0,1))","v":0},{"$f":"IF($O44=0,0,IF($O44>1,0,1))","v":0},{"$f":"IF($O44=0,0,IF($O44>2,0,1))","v":0},{"$f":"IF($O44=0,0,IF($O44>3,0,1))","v":0},{"$f":"IF($O44=0,0,IF($O44>4,0,1))","v":0},{"$f":"IF($O44=0,0,IF($O44>5,0,1))","v":0},{"$f":"IF(AND(G44<>\"\",P44=1),2,0)","v":0},0,0,0,0,0,{"$f":"IF(年暦!AR39=\"\",\"\",年暦!AR39)","v":"１・２年参観日"}]
[]
[{"$f":"IF(AND(D46=0,O46<>0),1,IF(AND(D46<>0,O46=0),1,IF(O46>6,1,\"\")))","v":""},{"$f":"IF(SUM(V46:AA47)<>0,1,\"\")","v":""},{"$f":"IF(SUM(A46:B47)<>0,\"error\",\"\")","v":""},{"$f":"年暦!AP41","v":19},19,{"$f":"年暦!AP42","v":"金"},null,null,null,null,null,null,{"$f":"IF(D46=0,0,1)","v":1},{"$f":"IF(年暦!AQ42=\"\",\"\",年暦!AQ42)","v":"○"},{"$f":"年暦!AQ41","v":6},{"$f":"IF($O46=0,0,IF($O46>0,0,1))","v":0},{"$f":"IF($O46=0,0,IF($O46>1,0,1))","v":0},{"$f":"IF($O46=0,0,IF($O46>2,0,1))","v":0},{"$f":"IF($O46=0,0,IF($O46>3,0,1))","v":0},{"$f":"IF($O46=0,0,IF($O46>4,0,1))","v":0},{"$f":"IF($O46=0,0,IF($O46>5,0,1))","v":0},{"$f":"IF(AND(G46<>\"\",P46=1),2,0)","v":0},0,0,0,0,0,{"$f":"IF(年暦!AR41=\"\",\"\",年暦!AR41)","v":""}]
[]
[{"$f":"IF(AND(D48=0,O48<>0),1,IF(AND(D48<>0,O48=0),1,IF(O48>6,1,\"\")))","v":""},{"$f":"IF(SUM(V48:AA49)<>0,1,\"\")","v":""},{"$f":"IF(SUM(A48:B49)<>0,\"error\",\"\")","v":""},{"$f":"年暦!AP43","v":0},20,{"$f":"年暦!AP44","v":"土"},null,null,null,null,null,null,{"$f":"IF(D48=0,0,1)","v":0},{"$f":"IF(年暦!AQ44=\"\",\"\",年暦!AQ44)","v":""},{"$f":"年暦!AQ43","v":0},{"$f":"IF($O48=0,0,IF($O48>0,0,1))","v":0},{"$f":"IF($O48=0,0,IF($O48>1,0,1))","v":0},{"$f":"IF($O48=0,0,IF($O48>2,0,1))","v":0},{"$f":"IF($O48=0,0,IF($O48>3,0,1))","v":0},{"$f":"IF($O48=0,0,IF($O48>4,0,1))","v":0},{"$f":"IF($O48=0,0,IF($O48>5,0,1))","v":0},{"$f":"IF(AND(G48<>\"\",P48=1),2,0)","v":0},0,0,0,0,0,{"$f":"IF(年暦!AR43=\"\",\"\",年暦!AR43)","v":""}]
[]
[{"$f":"IF(AND(D50=0,O50<>0),1,IF(AND(D50<>0,O50=0),1,IF(O50>6,1,\"\")))","v":""},{"$f":"IF(SUM(V50:AA51)<>0,1,\"\")","v":""},{"$f":"IF(SUM(A50:B51)<>0,\"error\",\"\")","v":""},{"$f":"年暦!AP45","v":0},21,{"$f":"年暦!AP46","v":"日"},null,null,null,null,null,null,{"$f":"IF(D50=0,0,1)","v":0},{"$f":"IF(年暦!AQ46=\"\",\"\",年暦!AQ46)","v":""},{"$f":"年暦!AQ45","v":0},{"$f":"IF($O50=0,0,IF($O50>0,0,1))","v":0},{"$f":"IF($O50=0,0,IF($O50>1,0,1))","v":0},{"$f":"IF($O50=0,0,IF($O50>2,0,1))","v":0},{"$f":"IF($O50=0,0,IF($O50>3,0,1))","v":0},{"$f":"IF($O50=0,0,IF($O50>4,0,1))","v":0},{"$f":"IF($O50=0,0,IF($O50>5,0,1))","v":0},{"$f":"IF(AND(G50<>\"\",P50=1),2,0)","v":0},0,0,0,0,0,{"$f":"IF(年暦!AR45=\"\",\"\",年暦!AR45)","v":""}]
[]
[{"$f":"IF(AND(D52=0,O52<>0),1,IF(AND(D52<>0,O52=0),1,IF(O52>6,1,\"\")))","v":""},{"$f":"IF(SUM(V52:AA53)<>0,1,\"\")","v":""},{"$f":"IF(SUM(A52:B53)<>0,\"error\",\"\")","v":""},{"$f":"年暦!AP47","v":22},22,{"$f":"年暦!AP48","v":"月"},null,null,null,null,null,null,{"$f":"IF(D52=0,0,1)","v":1},{"$f":"IF(年暦!AQ48=\"\",\"\",年暦!AQ48)","v":"○"},{"$f":"年暦!AQ47","v":6},{"$f":"IF($O52=0,0,IF($O52>0,0,1))","v":0},{"$f":"IF($O52=0,0,IF($O52>1,0,1))","v":0},{"$f":"IF($O52=0,0,IF($O52>2,0,1))","v":0},{"$f":"IF($O52=0,0,IF($O52>3,0,1))","v":0},{"$f":"IF($O52=0,0,IF($O52>4,0,1))","v":0},{"$f":"IF($O52=0,0,IF($O52>5,0,1))","v":0},{"$f":"IF(AND(G52<>\"\",P52=1),2,0)","v":0},0,0,0,0,0,{"$f":"IF(年暦!AR47=\"\",\"\",年暦!AR47)","v":"交通安全指導"}]
[]
[{"$f":"IF(AND(D54=0,O54<>0),1,IF(AND(D54<>0,O54=0),1,IF(O54>6,1,\"\")))","v":""},{"$f":"IF(SUM(V54:AA55)<>0,1,\"\")","v":""},{"$f":"IF(SUM(A54:B55)<>0,\"error\",\"\")","v":""},{"$f":"年暦!AP49","v":0},23,{"$f":"年暦!AP50","v":"火"},null,null,null,null,null,null,{"$f":"IF(D54=0,0,1)","v":0},{"$f":"IF(年暦!AQ50=\"\",\"\",年暦!AQ50)","v":""},{"$f":"年暦!AQ49","v":0},{"$f":"IF($O54=0,0,IF($O54>0,0,1))","v":0},{"$f":"IF($O54=0,0,IF($O54>1,0,1))","v":0},{"$f":"IF($O54=0,0,IF($O54>2,0,1))","v":0},{"$f":"IF($O54=0,0,IF($O54>3,0,1))","v":0},{"$f":"IF($O54=0,0,IF($O54>4,0,1))","v":0},{"$f":"IF($O54=0,0,IF($O54>5,0,1))","v":0},{"$f":"IF(AND(G54<>\"\",P54=1),2,0)","v":0},0,0,0,0,0,{"$f":"IF(年暦!AR49=\"\",\"\",年暦!AR49)","v":"天皇誕生日"}]
[]
[{"$f":"IF(AND(D56=0,O56<>0),1,IF(AND(D56<>0,O56=0),1,IF(O56>6,1,\"\")))","v":""},{"$f":"IF(SUM(V56:AA57)<>0,1,\"\")","v":""},{"$f":"IF(SUM(A56:B57)<>0,\"error\",\"\")","v":""},{"$f":"年暦!AP51","v":24},24,{"$f":"年暦!AP52","v":"水"},null,null,null,null,null,null,{"$f":"IF(D56=0,0,1)","v":1},{"$f":"IF(年暦!AQ52=\"\",\"\",年暦!AQ52)","v":"○"},{"$f":"年暦!AQ51","v":5},{"$f":"IF($O56=0,0,IF($O56>0,0,1))","v":0},{"$f":"IF($O56=0,0,IF($O56>1,0,1))","v":0},{"$f":"IF($O56=0,0,IF($O56>2,0,1))","v":0},{"$f":"IF($O56=0,0,IF($O56>3,0,1))","v":0},{"$f":"IF($O56=0,0,IF($O56>4,0,1))","v":0},{"$f":"IF($O56=0,0,IF($O56>5,0,1))","v":1},{"$f":"IF(AND(G56<>\"\",P56=1),2,0)","v":0},0,0,0,0,0,{"$f":"IF(年暦!AR51=\"\",\"\",年暦!AR51)","v":""}]
[]
[{"$f":"IF(AND(D58=0,O58<>0),1,IF(AND(D58<>0,O58=0),1,IF(O58>6,1,\"\")))","v":""},{"$f":"IF(SUM(V58:AA59)<>0,1,\"\")","v":""},{"$f":"IF(SUM(A58:B59)<>0,\"error\",\"\")","v":""},{"$f":"年暦!AP53","v":25},25,{"$f":"年暦!AP54","v":"木"},null,null,null,null,null,null,{"$f":"IF(D58=0,0,1)","v":1},{"$f":"IF(年暦!AQ54=\"\",\"\",年暦!AQ54)","v":"○"},{"$f":"年暦!AQ53","v":6},{"$f":"IF($O58=0,0,IF($O58>0,0,1))","v":0},{"$f":"IF($O58=0,0,IF($O58>1,0,1))","v":0},{"$f":"IF($O58=0,0,IF($O58>2,0,1))","v":0},{"$f":"IF($O58=0,0,IF($O58>3,0,1))","v":0},{"$f":"IF($O58=0,0,IF($O58>4,0,1))","v":0},{"$f":"IF($O58=0,0,IF($O58>5,0,1))","v":0},{"$f":"IF(AND(G58<>\"\",P58=1),2,0)","v":0},0,0,0,0,0,{"$f":"IF(年暦!AR53=\"\",\"\",年暦!AR53)","v":"入学予定児一日体験"}]
[]
[{"$f":"IF(AND(D60=0,O60<>0),1,IF(AND(D60<>0,O60=0),1,IF(O60>6,1,\"\")))","v":""},{"$f":"IF(SUM(V60:AA61)<>0,1,\"\")","v":""},{"$f":"IF(SUM(A60:B61)<>0,\"error\",\"\")","v":""},{"$f":"年暦!AP55","v":26},26,{"$f":"年暦!AP56","v":"金"},null,null,null,null,null,null,{"$f":"IF(D60=0,0,1)","v":1},{"$f":"IF(年暦!AQ56=\"\",\"\",年暦!AQ56)","v":"○"},{"$f":"年暦!AQ55","v":6},{"$f":"IF($O60=0,0,IF($O60>0,0,1))","v":0},{"$f":"IF($O60=0,0,IF($O60>1,0,1))","v":0},{"$f":"IF($O60=0,0,IF($O60>2,0,1))","v":0},{"$f":"IF($O60=0,0,IF($O60>3,0,1))","v":0},{"$f":"IF($O60=0,0,IF($O60>4,0,1))","v":0},{"$f":"IF($O60=0,0,IF($O60>5,0,1))","v":0},{"$f":"IF(AND(G60<>\"\",P60=1),2,0)","v":0},0,0,0,0,0,{"$f":"IF(年暦!AR55=\"\",\"\",年暦!AR55)","v":""}]
[]
[{"$f":"IF(AND(D62=0,O62<>0),1,IF(AND(D62<>0,O62=0),1,IF(O62>6,1,\"\")))","v":""},{"$f":"IF(SUM(V62:AA63)<>0,1,\"\")","v":""},{"$f":"IF(SUM(A62:B63)<>0,\"error\",\"\")","v":""},{"$f":"年暦!AP57","v":0},27,{"$f":"年暦!AP58","v":"土"},null,null,null,null,null,null,{"$f":"IF(D62=0,0,1)","v":0},{"$f":"IF(年暦!AQ58=\"\",\"\",年暦!AQ58)","v":""},{"$f":"年暦!AQ57","v":0},{"$f":"IF($O62=0,0,IF($O62>0,0,1))","v":0},{"$f":"IF($O62=0,0,IF($O62>1,0,1))","v":0},{"$f":"IF($O62=0,0,IF($O62>2,0,1))","v":0},{"$f":"IF($O62=0,0,IF($O62>3,0,1))","v":0},{"$f":"IF($O62=0,0,IF($O62>4,0,1))","v":0},{"$f":"IF($O62=0,0,IF($O62>5,0,1))","v":0},{"$f":"IF(AND(G62<>\"\",P62=1),2,0)","v":0},0,0,0,0,0,{"$f":"IF(年暦!AR57=\"\",\"\",年暦!AR57)","v":""}]
[]
[{"$f":"IF(AND(D64=0,O64<>0),1,IF(AND(D64<>0,O64=0),1,IF(O64>6,1,\"\")))","v":""},{"$f":"IF(SUM(V64:AA65)<>0,1,\"\")","v":""},{"$f":"IF(SUM(A64:B65)<>0,\"error\",\"\")","v":""},{"$f":"年暦!AP59","v":0},28,{"$f":"年暦!AP60","v":"日"},null,null,null,null,null,null,{"$f":"IF(D64=0,0,1)","v":0},{"$f":"IF(年暦!AQ60=\"\",\"\",年暦!AQ60)","v":""},{"$f":"年暦!AQ59","v":0},{"$f":"IF($O64=0,0,IF($O64>0,0,1))","v":0},{"$f":"IF($O64=0,0,IF($O64>1,0,1))","v":0},{"$f":"IF($O64=0,0,IF($O64>2,0,1))","v":0},{"$f":"IF($O64=0,0,IF($O64>3,0,1))","v":0},{"$f":"IF($O64=0,0,IF($O64>4,0,1))","v":0},{"$f":"IF($O64=0,0,IF($O64>5,0,1))","v":0},{"$f":"IF(AND(G64<>\"\",P64=1),2,0)","v":0},0,0,0,0,0,{"$f":"IF(年暦!AR59=\"\",\"\",年暦!AR59)","v":""}]
[]
[]
[]
[null,null,null,null,"日","曜","○","●","児","ク","学","△","登校","給食","時数","授業時数確認",null,null,null,null,null,"誤入力確認",null,null,null,null,null,"行　事　等"]
[null,null,null,null,null,null,{"$f":"COUNTIF($G$10:$L$65,G68)","v":0},0,0,0,0,0,{"$f":"SUM(M10:M66)","v":18},{"$f":"COUNTIF(N10:N65,\"○\")","v":18},{"$f":"SUM(O10:O66)","v":104}]
[]
[null,null,null,null,null,null,null,"小計",null,null,"累計",null,null,null,null,null,null,null,null,null,null,null,null,null,null,null,null,null,null,null,"小計",null,null,"累計",null,null,null,null,null,"小計",null,null,"累計"]
[null,{"$f":"SUM(AE72,AE73,AE74,AN72,AN73,AN74)","v":0},{"$f":"IF(H73<>B72,\"error\",\"\")","v":"error"},null,"登校日数",null,null,{"$f":"M69","v":18},null,null,{"$f":"H72+'1'!K78:N78","v":194},null,null,null,null,null,null,null,null,null,null,null,null,null,null,null,null,"教科，道徳，総合",null,null,{"$f":"G69","v":0},null,null,{"$f":"AE72+'1'!AH78:AJ78","v":0},null,null,"クラブ",null,null,{"$f":"J69","v":0},null,null,{"$f":"AN72+'1'!AQ78:AS78","v":0}]
[null,null,null,null,"授業時数",null,null,{"$f":"O69","v":104},null,null,{"$f":"H73+'1'!K79:N79","v":1086},null,null,null,null,null,null,null,null,null,null,null,null,null,null,null,null,"行事",null,null,{"$f":"H69","v":0},null,null,{"$f":"AE73+'1'!AH79:AJ79","v":2},null,null,"学級",null,null,{"$f":"K69","v":0},null,null,{"$f":"AN73+'1'!AQ79:AS79","v":1}]
[null,null,null,null,"給食日数",null,null,{"$f":"N69","v":18},null,null,{"$f":"H74+'1'!K80:N80","v":188},null,null,null,null,null,null,null,null,null,null,null,null,null,null,null,null,"児童会",null,null,{"$f":"I69","v":0},null,null,{"$f":"AE74+'1'!AH80:AJ80","v":0},null,null,"学校裁量",null,null,{"$f":"L69","v":0},null,null,{"$f":"AN74+'1'!AQ80:AS80","v":0}]

{"sheet":"3","index":11,"n_rows":80,"n_cols":43,"rows_kept":80,"cut":false,"hidden":false,"merged":[[69,25,70,25],[69,26,70,26],[69,27,70,44],[69,45,70,45],[69,19,70,19],[69,20,70,20],[69,21,70,21],[69,22,70,22],[69,23,70,23],[69,24,70,24],[69,13,70,13],[69,14,70,14],[69,15,70,15],[69,16,70,16],[69,17,70,17],[69,18,70,18],[69,7,70,7],[69,8,70,8],[69,9,70,9],[69,10,70,10],[69,11,70,11],[69,12,70,12],[21,27,22,44],[19,27,20,44],[23,27,24,44],[69,0,70,0],[69,1,70,1],[69,2,70,2],[69,3,70,3],[69,4,70,4],[69,5,70,5],[69,6,70,6],[67,23,68,23],[67,24,68,24],[67,25,68,25],[67,26,68,26],[45,26,46,26],[51,25,52,25],[51,26,52,26],[49,25,50,25],[49,26,50,26],[45,23,46,23],[45,24,46,24],[43,23,44,23],[43,24,44,24],[47,25,48,25],[9,26,10,26],[9,15,10,15],[9,16,10,16],[9,17,10,17],[15,27,16,44],[13,27,14,44],[11,27,12,44],[11,24,12,24],[11,25,12,25],[9,18,10,18],[9,27,10,44],[11,26,12,26],[13,21,14,21],[13,22,14,22],[13,23,14,23],[13,24,14,24],[13,25,14,25],[13,26,14,26],[11,22,12,22],[11,15,12,15],[11,16,12,16],[11,17,12,17],[11,18,12,18],[13,15,14,15],[8,15,8,20],[8,21,8,26],[9,23,10,23],[9,24,10,24],[9,25,10,25],[65,21,66,21],[65,22,66,22],[65,23,66,23],[65,24,66,24],[55,23,56,23],[55,24,56,24],[55,25,56,25],[55,26,56,26],[57,25,58,25],[57,26,58,26],[49,23,50,23],[49,24,50,24],[57,21,58,21],[57,22,58,22],[57,23,58,23],[57,24,58,24],[53,23,54,23],[53,24,54,24],[45,25,46,25],[73,15,73,20],[73,21,73,26],[65,25,66,25],[65,26,66,26],[67,21,68,21],[67,22,68,22],[61,25,62,25],[61,26,62,26],[59,21,60,21],[59,22,60,22],[61,21,62,21],[61,22,62,22],[61,23,62,23],[61,24,62,24],[59,23,60,23],[59,24,60,24],[59,25,60,25],[59,26,60,26],[59,15,60,15],[59,16,60,16],[59,17,60,17],[59,18,60,18],[61,15,62,15],[61,16,62,16],[43,25,44,25],[43,26,44,26],[43,21,44,21],[43,22,44,22],[41,21,42,21],[41,22,42,22],[45,21,46,21],[45,22,46,22],[41,23,42,23],[41,24,42,24],[41,25,42,25],[41,26,42,26],[25,21,26,21],[25,22,26,22],[39,21,40,21],[39,22,40,22],[39,23,40,23],[39,24,40,24],[33,25,34,25],[33,26,34,26],[35,25,36,25],[35,26,36,26],[39,25,40,25],[39,26,40,26],[37,23,38,23],[37,24,38,24],[33,21,34,21],[33,22,34,22],[33,23,34,23],[33,24,34,24],[35,21,36,21],[35,22,36,22],[35,23,36,23],[35,24,36,24],[39,1,40,1],[41,1,42,1],[43,1,44,1],[45,1,46,1],[49,1,50,1],[23,25,24,25],[23,26,24,26],[29,25,30,25],[29,26,30,26],[25,23,26,23],[25,24,26,24],[27,25,28,25],[27,26,28,26],[25,25,26,25],[25,26,26,26],[27,21,28,21],[27,22,28,22],[29,21,30,21],[29,22,30,22],[29,23,30,23],[29,24,30,24],[27,23,28,23],[27,24,28,24],[23,23,24,23],[65,1,66,1],[67,1,68,1],[9,21,10,21],[9,22,10,22],[55,1,56,1],[57,1,58,1],[59,1,60,1],[61,1,62,1],[23,1,24,1],[25,1,26,1],[27,1,28,1],[29,1,30,1],[31,1,32,1],[33,1,34,1],[63,2,64,2],[65,2,66,2],[67,2,68,2],[9,1,10,1],[11,1,12,1],[13,1,14,1],[15,1,16,1],[17,1,18,1],[47,1,48,1],[63,1,64,1],[19,1,20,1],[21,1,22,1],[51,2,52,2],[53,2,54,2],[55,2,56,2],[57,2,58,2],[59,2,60,2],[61,2,62,2],[39,2,40,2],[41,2,42,2],[43,2,44,2],[45,2,46,2],[47,2,48,2],[49,2,50,2],[27,2,28,2],[29,2,30,2],[31,2,32,2],[33,2,34,2],[35,2,36,2],[37,2,38,2],[35,1,36,1],[37,1,38,1],[51,1,52,1],[53,1,54,1],[13,2,14,2],[11,21,12,21],[9,13,10,13],[11,13,12,13],[13,13,14,13],[9,12,10,12],[11,12,12,12],[13,12,14,12],[11,4,12,4],[9,4,10,4],[11,3,12,3],[9,3,10,3],[9,2,10,2],[11,2,12,2],[13,4,14,4],[13,3,14,3],[9,10,10,10],[9,11,10,11],[9,14,10,14],[11,11,12,11],[11,14,12,14],[9,9,10,9],[13,18,14,18],[27,4,28,4],[25,4,26,4],[23,4,24,4],[21,4,22,4],[23,3,24,3],[21,3,22,3],[15,3,16,3],[15,2,16,2],[17,2,18,2],[19,2,20,2],[21,2,22,2],[23,2,24,2],[25,2,26,2],[19,4,20,4],[17,4,18,4],[15,4,16,4],[19,3,20,3],[17,3,18,3],[35,3,36,3],[33,3,34,3],[31,3,32,3],[29,3,30,3],[27,3,28,3],[25,3,26,3],[47,3,48,3],[45,3,46,3],[43,3,44,3],[41,3,42,3],[39,3,40,3],[37,3,38,3],[59,3,60,3],[57,3,58,3],[55,3,56,3],[53,3,54,3],[51,3,52,3],[49,3,50,3],[67,4,68,4],[65,4,66,4],[63,4,64,4],[61,4,62,4],[67,3,68,3],[65,3,66,3],[63,3,64,3],[61,3,62,3],[51,4,52,4],[49,4,50,4],[47,4,48,4],[45,4,46,4],[59,4,60,4],[57,4,58,4],[55,4,56,4],[53,4,54,4],[35,4,36,4],[33,4,34,4],[31,4,32,4],[29,4,30,4],[43,4,44,4],[41,4,42,4],[39,4,40,4],[37,4,38,4],[9,7,10,7],[9,8,10,8],[11,5,12,5],[11,6,12,6],[11,7,12,7],[11,8,12,8],[9,5,10,5],[9,6,10,6],[15,5,16,5],[15,6,16,6],[15,7,16,7],[15,8,16,8],[13,5,14,5],[13,6,14,6],[13,7,14,7],[13,8,14,8],[19,5,20,5],[19,6,20,6],[19,7,20,7],[19,8,20,8],[17,5,18,5],[17,6,18,6],[17,7,18,7],[17,8,18,8],[23,5,24,5],[23,6,24,6],[23,7,24,7],[23,8,24,8],[21,5,22,5],[21,6,22,6],[21,7,22,7],[21,8,22,8],[27,5,28,5],[27,6,28,6],[27,7,28,7],[27,8,28,8],[25,5,26,5],[25,6,26,6],[25,7,26,7],[25,8,26,8],[31,5,32,5],[31,6,32,6],[31,7,32,7],[31,8,32,8],[29,5,30,5],[29,6,30,6],[29,7,30,7],[29,8,30,8],[35,5,36,5],[35,6,36,6],[35,7,36,7],[35,8,36,8],[33,5,34,5],[33,6,34,6],[33,7,34,7],[33,8,34,8],[39,5,40,5],[39,6,40,6],[39,7,40,7],[39,8,40,8],[37,5,38,5],[37,6,38,6],[37,7,38,7],[37,8,38,8],[43,5,44,5],[43,6,44,6],[43,7,44,7],[43,8,44,8],[41,5,42,5],[41,6,42,6],[41,7,42,7],[41,8,42,8],[47,5,48,5],[47,6,48,6],[47,7,48,7],[47,8,48,8],[45,5,46,5],[45,6,46,6],[45,7,46,7],[45,8,46,8],[61,5,62,5],[61,6,62,6],[61,7,62,7],[61,8,62,8],[51,5,52,5],[51,6,52,6],[51,7,52,7],[51,8,52,8],[49,5,50,5],[49,6,50,6],[49,7,50,7],[49,8,50,8],[55,5,56,5],[55,6,56,6],[55,7,56,7],[55,8,56,8],[53,5,54,5],[53,6,54,6],[53,7,54,7],[53,8,54,8],[67,5,68,5],[67,6,68,6],[67,7,68,7],[67,8,68,8],[65,5,66,5],[65,6,66,6],[65,7,66,7],[11,9,12,9],[11,10,12,10],[59,9,60,9],[59,10,60,10],[59,5,60,5],[59,6,60,6],[59,7,60,7],[59,8,60,8],[57,5,58,5],[57,6,58,6],[57,7,58,7],[57,8,58,8],[65,8,66,8],[63,5,64,5],[63,6,64,6],[63,7,64,7],[63,8,64,8],[59,11,60,11],[59,14,60,14],[59,13,60,13],[59,12,60,12],[65,9,66,9],[65,10,66,10],[65,11,66,11],[13,16,14,16],[13,17,14,17],[13,9,14,9],[13,10,14,10],[13,11,14,11],[13,14,14,14],[15,15,16,15],[15,16,16,16],[15,17,16,17],[19,15,20,15],[19,16,20,16],[19,17,20,17],[23,15,24,15],[23,16,24,16],[23,17,24,17],[27,15,28,15],[27,16,28,16],[15,18,16,18],[15,9,16,9],[15,10,16,10],[15,11,16,11],[15,14,16,14],[15,13,16,13],[15,12,16,12],[17,15,18,15],[17,16,18,16],[17,17,18,17],[17,18,18,18],[17,9,18,9],[17,10,18,10],[17,11,18,11],[17,14,18,14],[17,13,18,13],[17,12,18,12],[19,18,20,18],[19,9,20,9],[19,10,20,10],[19,11,20,11],[19,14,20,14],[19,13,20,13],[19,12,20,12],[21,15,22,15],[21,16,22,16],[21,17,22,17],[21,18,22,18],[21,9,22,9],[21,10,22,10],[21,11,22,11],[21,14,22,14],[21,13,22,13],[21,12,22,12],[23,18,24,18],[23,9,24,9],[23,10,24,10],[23,11,24,11],[23,14,24,14],[23,13,24,13],[23,12,24,12],[25,15,26,15],[25,16,26,16],[25,17,26,17],[25,18,26,18],[25,9,26,9],[25,10,26,10],[25,11,26,11],[25,14,26,14],[25,13,26,13],[25,12,26,12],[27,17,28,17],[27,18,28,18],[27,9,28,9],[27,10,28,10],[27,11,28,11],[27,14,28,14],[27,13,28,13],[27,12,28,12],[29,15,30,15],[29,16,30,16],[29,17,30,17],[29,18,30,18],[29,9,30,9],[29,10,30,10],[29,11,30,11],[29,14,30,14],[29,13,30,13],[29,12,30,12],[31,15,32,15],[31,16,32,16],[31,17,32,17],[31,18,32,18],[31,9,32,9],[31,10,32,10],[31,11,32,11],[31,14,32,14],[31,13,32,13],[31,12,32,12],[33,15,34,15],[33,16,34,16],[33,17,34,17],[33,18,34,18],[33,9,34,9],[33,10,34,10],[33,11,34,11],[33,14,34,14],[33,13,34,13],[33,12,34,12],[35,15,36,15],[35,16,36,16],[35,17,36,17],[35,18,36,18],[35,9,36,9],[35,10,36,10],[35,11,36,11],[35,14,36,14],[35,13,36,13],[35,12,36,12],[37,15,38,15],[37,16,38,16],[37,17,38,17],[37,18,38,18],[37,9,38,9],[37,10,38,10],[37,11,38,11],[37,14,38,14],[37,13,38,13],[37,12,38,12],[39,15,40,15],[39,16,40,16],[39,17,40,17],[39,18,40,18],[39,9,40,9],[39,10,40,10],[39,11,40,11],[39,14,40,14],[39,13,40,13],[39,12,40,12],[41,15,42,15],[41,16,42,16],[41,17,42,17],[41,18,42,18],[41,9,42,9],[41,10,42,10],[41,11,42,11],[41,14,42,14],[41,13,42,13],[41,12,42,12],[43,15,44,15],[43,16,44,16],[43,17,44,17],[43,18,44,18],[43,9,44,9],[43,10,44,10],[43,11,44,11],[43,14,44,14],[43,13,44,13],[43,12,44,12],[45,15,46,15],[45,16,46,16],[45,17,46,17],[45,18,46,18],[45,9,46,9],[45,10,46,10],[45,11,46,11],[45,14,46,14],[45,13,46,13],[45,12,46,12],[47,15,48,15],[47,16,48,16],[47,17,48,17],[47,18,48,18],[47,9,48,9],[47,10,48,10],[47,11,48,11],[47,14,48,14],[47,13,48,13],[47,12,48,12],[49,15,50,15],[49,16,50,16],[49,17,50,17],[49,18,50,18],[49,9,50,9],[49,10,50,10],[49,11,50,11],[49,14,50,14],[49,13,50,13],[49,12,50,12],[51,15,52,15],[51,16,52,16],[51,17,52,17],[51,18,52,18],[51,9,52,9],[51,10,52,10],[51,11,52,11],[51,14,52,14],[51,13,52,13],[51,12,52,12],[53,15,54,15],[53,16,54,16],[53,17,54,17],[53,18,54,18],[53,9,54,9],[53,10,54,10],[53,11,54,11],[53,14,54,14],[53,13,54,13],[53,12,54,12],[55,15,56,15],[55,16,56,16],[55,17,56,17],[55,18,56,18],[55,9,56,9],[55,10,56,10],[55,11,56,11],[55,14,56,14],[55,13,56,13],[55,12,56,12],[57,15,58,15],[57,16,58,16],[57,17,58,17],[57,18,58,18],[57,9,58,9],[57,10,58,10],[57,11,58,11],[57,14,58,14],[57,13,58,13],[57,12,58,12],[61,17,62,17],[61,18,62,18],[61,9,62,9],[61,10,62,10],[61,11,62,11],[61,14,62,14],[61,13,62,13],[61,12,62,12],[63,15,64,15],[63,16,64,16],[63,17,64,17],[63,18,64,18],[63,9,64,9],[63,10,64,10],[63,11,64,11],[63,14,64,14],[63,13,64,13],[63,12,64,12],[65,14,66,14],[65,13,66,13],[65,12,66,12],[67,9,68,9],[67,10,68,10],[67,11,68,11],[67,14,68,14],[67,13,68,13],[67,12,68,12],[67,15,68,15],[67,16,68,16],[67,17,68,17],[67,18,68,18],[65,15,66,15],[65,16,66,16],[65,17,66,17],[65,18,66,18],[11,20,12,20],[29,19,30,19],[29,20,30,20],[27,19,28,19],[27,20,28,20],[25,19,26,19],[25,20,26,20],[33,19,34,19],[33,20,34,20],[45,19,46,19],[45,20,46,20],[43,19,44,19],[43,20,44,20],[41,19,42,19],[41,20,42,20],[49,19,50,19],[11,23,12,23],[9,19,10,19],[15,19,16,19],[15,20,16,20],[13,19,14,19],[13,20,14,20],[9,20,10,20],[11,19,12,19],[19,19,20,19],[19,20,20,20],[17,19,18,19],[17,20,18,20],[15,21,16,21],[15,22,16,22],[17,21,18,21],[17,22,18,22],[19,21,20,21],[19,22,20,22],[17,23,18,23],[15,24,16,24],[15,25,16,25],[15,26,16,26],[17,24,18,24],[17,25,18,25],[17,26,18,26],[15,23,16,23],[19,25,20,25],[19,26,20,26],[21,23,22,23],[21,24,22,24],[21,25,22,25],[21,26,22,26],[19,23,20,23],[21,21,22,21],[21,22,22,22],[23,19,24,19],[23,20,24,20],[21,19,22,19],[21,20,22,20],[23,21,24,21],[23,22,24,22],[19,24,20,24],[23,24,24,24],[39,19,40,19],[39,20,40,20],[37,19,38,19],[37,20,38,20],[35,19,36,19],[35,20,36,20],[37,25,38,25],[37,26,38,26],[37,21,38,21],[37,22,38,22],[49,20,50,20],[47,19,48,19],[47,20,48,20],[47,21,48,21],[47,22,48,22],[49,21,50,21],[49,22,50,22],[53,25,54,25],[53,26,54,26],[51,19,52,19],[51,20,52,20],[51,21,52,21],[51,22,52,22],[51,23,52,23],[51,24,52,24],[47,26,48,26],[47,23,48,23],[47,24,48,24],[67,19,68,19],[67,20,68,20],[65,19,66,19],[65,20,66,20],[57,19,58,19],[57,20,58,20],[53,21,54,21],[53,22,54,22],[55,19,56,19],[55,20,56,20],[53,19,54,19],[53,20,54,20],[55,21,56,21],[55,22,56,22],[63,25,64,25],[63,26,64,26],[63,19,64,19],[63,20,64,20],[63,21,64,21],[63,22,64,22],[17,0,18,0],[19,0,20,0],[21,0,22,0],[23,0,24,0],[49,0,50,0],[51,0,52,0],[53,0,54,0],[55,0,56,0],[41,0,42,0],[43,0,44,0],[45,0,46,0],[47,0,48,0],[63,23,64,23],[63,24,64,24],[61,19,62,19],[61,20,62,20],[59,19,60,19],[59,20,60,20],[9,0,10,0],[11,0,12,0],[13,0,14,0],[15,0,16,0],[33,0,34,0],[35,0,36,0],[37,0,38,0],[39,0,40,0],[25,0,26,0],[27,0,28,0],[29,0,30,0],[31,0,32,0],[65,0,66,0],[67,0,68,0],[57,0,58,0],[59,0,60,0],[61,0,62,0],[63,0,64,0],[27,45,28,45],[29,45,30,45],[31,45,32,45],[33,45,34,45],[43,27,44,44],[67,45,68,45],[59,45,60,45],[61,45,62,45],[63,45,64,45],[65,45,66,45],[51,45,52,45],[53,45,54,45],[55,45,56,45],[57,45,58,45],[53,27,54,44],[59,27,60,44],[51,27,52,44],[49,27,50,44],[19,45,20,45],[21,45,22,45],[23,45,24,45],[25,45,26,45],[43,45,44,45],[45,45,46,45],[47,45,48,45],[49,45,50,45],[35,45,36,45],[37,45,38,45],[39,45,40,45],[41,45,42,45],[47,27,48,44],[45,27,46,44],[67,27,68,44],[65,27,66,44],[63,27,64,44],[61,27,62,44],[57,27,58,44],[55,27,56,44],[35,27,36,44],[33,27,34,44],[31,27,32,44],[29,27,30,44],[27,27,28,44],[25,27,26,44],[6,4,6,44],[5,4,5,44],[3,36,3,37],[3,33,3,34],[3,30,3,31],[3,27,3,28],[3,10,3,11],[3,7,3,8],[3,4,3,5],[7,4,7,44],[31,25,32,25],[31,26,32,26],[31,19,32,19],[31,20,32,20],[31,21,32,21],[31,22,32,22],[31,23,32,23],[31,24,32,24],[17,27,18,44],[79,4,79,6],[78,4,78,6],[79,10,79,13],[78,10,78,13],[76,27,76,29],[76,10,76,13],[79,27,79,29],[78,27,78,29],[77,27,77,29],[76,4,76,6],[76,7,76,9],[79,7,79,9],[78,7,78,9],[77,7,77,9],[77,4,77,6],[77,10,77,13],[77,42,77,44],[79,39,79,41],[78,39,78,41],[77,39,77,41],[76,42,76,44],[76,39,76,41],[76,36,76,38],[8,27,8,44],[41,27,42,44],[39,27,40,44],[37,27,38,44],[79,33,79,35],[78,33,78,35],[77,33,77,35],[79,30,79,32],[78,30,78,32],[77,30,77,32],[79,42,79,44],[78,42,78,44],[79,36,79,38],[78,36,78,38],[77,36,77,38],[76,33,76,35],[76,30,76,32]]}
[]
[]
[]
[null,null,null,null,"q",null,null,"w",null,null,"e",null,null,null,null,null,null,null,null,null,null,null,null,null,null,null,null,"r",null,null,"t",null,null,"y",null,null,"u"]
[]
[null,null,null,null,"○：教科，道徳，総合　　●：行事　　児：児童会　　ク：クラブ　　学：学級　　△：学裁"]
[null,null,null,null,{"$f":"CONCATENATE(年暦!AT4,\"　　　予　定　表\")","v":"3　　月　　　予　定　表"}]
[null,null,null,null,"○：教科，道徳，総合　　●：行事　　児：児童会　　ク：クラブ　　学：学級　　△：学裁"]
[null,null,null,null,"日","曜",1,2,3,4,5,6,"登校","給食","時数","授業時数確認",null,null,null,null,null,"誤入力確認",null,null,null,null,null,"行　事　等"]
[{"$f":"IF(AND(D10=0,O10<>0),1,IF(AND(D10<>0,O10=0),1,IF(O10>6,1,\"\")))","v":""},{"$f":"IF(SUM(V10:AA11)<>0,1,\"\")","v":""},{"$f":"IF(SUM(A10:B11)<>0,\"error\",\"\")","v":""},{"$f":"年暦!AT5","v":1},1,{"$f":"年暦!AT6","v":"月"},null,null,null,null,null,null,{"$f":"IF(D10=0,0,1)","v":1},{"$f":"IF(年暦!AU6=\"\",\"\",年暦!AU6)","v":"○"},{"$f":"年暦!AU5","v":6},{"$f":"IF($O10=0,0,IF($O10>0,0,1))","v":0},{"$f":"IF($O10=0,0,IF($O10>1,0,1))","v":0},{"$f":"IF($O10=0,0,IF($O10>2,0,1))","v":0},{"$f":"IF($O10=0,0,IF($O10>3,0,1))","v":0},{"$f":"IF($O10=0,0,IF($O10>4,0,1))","v":0},{"$f":"IF($O10=0,0,IF($O10>5,0,1))","v":0},{"$f":"IF(AND(G10<>\"\",P10=1),2,0)","v":0},0,0,0,0,0,{"$f":"IF(年暦!AV5=\"\",\"\",年暦!AV5)","v":""}]
[]
[{"$f":"IF(AND(D12=0,O12<>0),1,IF(AND(D12<>0,O12=0),1,IF(O12>6,1,\"\")))","v":""},{"$f":"IF(SUM(V12:AA13)<>0,1,\"\")","v":""},{"$f":"IF(SUM(A12:B13)<>0,\"error\",\"\")","v":""},{"$f":"年暦!AT7","v":2},2,{"$f":"年暦!AT8","v":"火"},null,null,null,null,null,null,{"$f":"IF(D12=0,0,1)","v":1},{"$f":"IF(年暦!AU8=\"\",\"\",年暦!AU8)","v":"○"},{"$f":"年暦!AU7","v":6},{"$f":"IF($O12=0,0,IF($O12>0,0,1))","v":0},{"$f":"IF($O12=0,0,IF($O12>1,0,1))","v":0},{"$f":"IF($O12=0,0,IF($O12>2,0,1))","v":0},{"$f":"IF($O12=0,0,IF($O12>3,0,1))","v":0},{"$f":"IF($O12=0,0,IF($O12>4,0,1))","v":0},{"$f":"IF($O12=0,0,IF($O12>5,0,1))","v":0},{"$f":"IF(AND(G12<>\"\",P12=1),2,0)","v":0},0,0,0,0,0,{"$f":"IF(年暦!AV7=\"\",\"\",年暦!AV7)","v":""}]
[]
[{"$f":"IF(AND(D14=0,O14<>0),1,IF(AND(D14<>0,O14=0),1,IF(O14>6,1,\"\")))","v":""},{"$f":"IF(SUM(V14:AA15)<>0,1,\"\")","v":""},{"$f":"IF(SUM(A14:B15)<>0,\"error\",\"\")","v":""},{"$f":"年暦!AT9","v":3},3,{"$f":"年暦!AT10","v":"水"},null,null,null,null,null,null,{"$f":"IF(D14=0,0,1)","v":1},{"$f":"IF(年暦!AU10=\"\",\"\",年暦!AU10)","v":"○"},{"$f":"年暦!AU9","v":5},{"$f":"IF($O14=0,0,IF($O14>0,0,1))","v":0},{"$f":"IF($O14=0,0,IF($O14>1,0,1))","v":0},{"$f":"IF($O14=0,0,IF($O14>2,0,1))","v":0},{"$f":"IF($O14=0,0,IF($O14>3,0,1))","v":0},{"$f":"IF($O14=0,0,IF($O14>4,0,1))","v":0},{"$f":"IF($O14=0,0,IF($O14>5,0,1))","v":1},{"$f":"IF(AND(G14<>\"\",P14=1),2,0)","v":0},0,0,0,0,0,{"$f":"IF(年暦!AV9=\"\",\"\",年暦!AV9)","v":"ＰＴＡ役員引継会"}]
[]
[{"$f":"IF(AND(D16=0,O16<>0),1,IF(AND(D16<>0,O16=0),1,IF(O16>6,1,\"\")))","v":""},{"$f":"IF(SUM(V16:AA17)<>0,1,\"\")","v":""},{"$f":"IF(SUM(A16:B17)<>0,\"error\",\"\")","v":""},{"$f":"年暦!AT11","v":4},4,{"$f":"年暦!AT12","v":"木"},null,null,null,null,null,null,{"$f":"IF(D16=0,0,1)","v":1},{"$f":"IF(年暦!AU12=\"\",\"\",年暦!AU12)","v":"○"},{"$f":"年暦!AU11","v":6},{"$f":"IF($O16=0,0,IF($O16>0,0,1))","v":0},{"$f":"IF($O16=0,0,IF($O16>1,0,1))","v":0},{"$f":"IF($O16=0,0,IF($O16>2,0,1))","v":0},{"$f":"IF($O16=0,0,IF($O16>3,0,1))","v":0},{"$f":"IF($O16=0,0,IF($O16>4,0,1))","v":0},{"$f":"IF($O16=0,0,IF($O16>5,0,1))","v":0},{"$f":"IF(AND(G16<>\"\",P16=1),2,0)","v":0},0,0,0,0,0,{"$f":"IF(年暦!AV11=\"\",\"\",年暦!AV11)","v":"６年生を送る会"}]
[]
[{"$f":"IF(AND(D18=0,O18<>0),1,IF(AND(D18<>0,O18=0),1,IF(O18>6,1,\"\")))","v":""},{"$f":"IF(SUM(V18:AA19)<>0,1,\"\")","v":""},{"$f":"IF(SUM(A18:B19)<>0,\"error\",\"\")","v":""},{"$f":"年暦!AT13","v":5},5,{"$f":"年暦!AT14","v":"金"},null,null,null,null,null,null,{"$f":"IF(D18=0,0,1)","v":1},{"$f":"IF(年暦!AU14=\"\",\"\",年暦!AU14)","v":"○"},{"$f":"年暦!AU13","v":6},{"$f":"IF($O18=0,0,IF($O18>0,0,1))","v":0},{"$f":"IF($O18=0,0,IF($O18>1,0,1))","v":0},{"$f":"IF($O18=0,0,IF($O18>2,0,1))","v":0},{"$f":"IF($O18=0,0,IF($O18>3,0,1))","v":0},{"$f":"IF($O18=0,0,IF($O18>4,0,1))","v":0},{"$f":"IF($O18=0,0,IF($O18>5,0,1))","v":0},{"$f":"IF(AND(G18<>\"\",P18=1),2,0)","v":0},0,0,0,0,0,{"$f":"IF(年暦!AV13=\"\",\"\",年暦!AV13)","v":""}]
[]
[{"$f":"IF(AND(D20=0,O20<>0),1,IF(AND(D20<>0,O20=0),1,IF(O20>6,1,\"\")))","v":""},{"$f":"IF(SUM(V20:AA21)<>0,1,\"\")","v":""},{"$f":"IF(SUM(A20:B21)<>0,\"error\",\"\")","v":""},{"$f":"年暦!AT15","v":0},6,{"$f":"年暦!AT16","v":"土"},null,null,null,null,null,null,{"$f":"IF(D20=0,0,1)","v":0},{"$f":"IF(年暦!AU16=\"\",\"\",年暦!AU16)","v":""},{"$f":"年暦!AU15","v":0},{"$f":"IF($O20=0,0,IF($O20>0,0,1))","v":0},{"$f":"IF($O20=0,0,IF($O20>1,0,1))","v":0},{"$f":"IF($O20=0,0,IF($O20>2,0,1))","v":0},{"$f":"IF($O20=0,0,IF($O20>3,0,1))","v":0},{"$f":"IF($O20=0,0,IF($O20>4,0,1))","v":0},{"$f":"IF($O20=0,0,IF($O20>5,0,1))","v":0},{"$f":"IF(AND(G20<>\"\",P20=1),2,0)","v":0},0,0,0,0,0,{"$f":"IF(年暦!AV15=\"\",\"\",年暦!AV15)","v":""}]
[]
[{"$f":"IF(AND(D22=0,O22<>0),1,IF(AND(D22<>0,O22=0),1,IF(O22>6,1,\"\")))","v":""},{"$f":"IF(SUM(V22:AA23)<>0,1,\"\")","v":""},{"$f":"IF(SUM(A22:B23)<>0,\"error\",\"\")","v":""},{"$f":"年暦!AT17","v":0},7,{"$f":"年暦!AT18","v":"日"},null,null,null,null,null,null,{"$f":"IF(D22=0,0,1)","v":0},{"$f":"IF(年暦!AU18=\"\",\"\",年暦!AU18)","v":""},{"$f":"年暦!AU17","v":0},{"$f":"IF($O22=0,0,IF($O22>0,0,1))","v":0},{"$f":"IF($O22=0,0,IF($O22>1,0,1))","v":0},{"$f":"IF($O22=0,0,IF($O22>2,0,1))","v":0},{"$f":"IF($O22=0,0,IF($O22>3,0,1))","v":0},{"$f":"IF($O22=0,0,IF($O22>4,0,1))","v":0},{"$f":"IF($O22=0,0,IF($O22>5,0,1))","v":0},{"$f":"IF(AND(G22<>\"\",P22=1),2,0)","v":0},0,0,0,0,0,{"$f":"IF(年暦!AV17=\"\",\"\",年暦!AV17)","v":""}]
[]
[{"$f":"IF(AND(D24=0,O24<>0),1,IF(AND(D24<>0,O24=0),1,IF(O24>6,1,\"\")))","v":""},{"$f":"IF(SUM(V24:AA25)<>0,1,\"\")","v":""},{"$f":"IF(SUM(A24:B25)<>0,\"error\",\"\")","v":""},{"$f":"年暦!AT19","v":8},8,{"$f":"年暦!AT20","v":"月"},null,null,null,null,null,null,{"$f":"IF(D24=0,0,1)","v":1},{"$f":"IF(年暦!AU20=\"\",\"\",年暦!AU20)","v":"○"},{"$f":"年暦!AU19","v":6},{"$f":"IF($O24=0,0,IF($O24>0,0,1))","v":0},{"$f":"IF($O24=0,0,IF($O24>1,0,1))","v":0},{"$f":"IF($O24=0,0,IF($O24>2,0,1))","v":0},{"$f":"IF($O24=0,0,IF($O24>3,0,1))","v":0},{"$f":"IF($O24=0,0,IF($O24>4,0,1))","v":0},{"$f":"IF($O24=0,0,IF($O24>5,0,1))","v":0},{"$f":"IF(AND(G24<>\"\",P24=1),2,0)","v":0},0,0,0,0,0,{"$f":"IF(年暦!AV19=\"\",\"\",年暦!AV19)","v":"学期末清掃（17日まで）"}]
[]
[{"$f":"IF(AND(D26=0,O26<>0),1,IF(AND(D26<>0,O26=0),1,IF(O26>6,1,\"\")))","v":""},{"$f":"IF(SUM(V26:AA27)<>0,1,\"\")","v":""},{"$f":"IF(SUM(A26:B27)<>0,\"error\",\"\")","v":""},{"$f":"年暦!AT21","v":9},9,{"$f":"年暦!AT22","v":"火"},null,null,null,null,null,null,{"$f":"IF(D26=0,0,1)","v":1},{"$f":"IF(年暦!AU22=\"\",\"\",年暦!AU22)","v":"○"},{"$f":"年暦!AU21","v":6},{"$f":"IF($O26=0,0,IF($O26>0,0,1))","v":0},{"$f":"IF($O26=0,0,IF($O26>1,0,1))","v":0},{"$f":"IF($O26=0,0,IF($O26>2,0,1))","v":0},{"$f":"IF($O26=0,0,IF($O26>3,0,1))","v":0},{"$f":"IF($O26=0,0,IF($O26>4,0,1))","v":0},{"$f":"IF($O26=0,0,IF($O26>5,0,1))","v":0},{"$f":"IF(AND(G26<>\"\",P26=1),2,0)","v":0},0,0,0,0,0,{"$f":"IF(年暦!AV21=\"\",\"\",年暦!AV21)","v":""}]
[]
[{"$f":"IF(AND(D28=0,O28<>0),1,IF(AND(D28<>0,O28=0),1,IF(O28>6,1,\"\")))","v":""},{"$f":"IF(SUM(V28:AA29)<>0,1,\"\")","v":""},{"$f":"IF(SUM(A28:B29)<>0,\"error\",\"\")","v":""},{"$f":"年暦!AT23","v":10},10,{"$f":"年暦!AT24","v":"水"},null,null,null,null,null,null,{"$f":"IF(D28=0,0,1)","v":1},{"$f":"IF(年暦!AU24=\"\",\"\",年暦!AU24)","v":"○"},{"$f":"年暦!AU23","v":5},{"$f":"IF($O28=0,0,IF($O28>0,0,1))","v":0},{"$f":"IF($O28=0,0,IF($O28>1,0,1))","v":0},{"$f":"IF($O28=0,0,IF($O28>2,0,1))","v":0},{"$f":"IF($O28=0,0,IF($O28>3,0,1))","v":0},{"$f":"IF($O28=0,0,IF($O28>4,0,1))","v":0},{"$f":"IF($O28=0,0,IF($O28>5,0,1))","v":1},{"$f":"IF(AND(G28<>\"\",P28=1),2,0)","v":0},0,0,0,0,0,{"$f":"IF(年暦!AV23=\"\",\"\",年暦!AV23)","v":""}]
[]
[{"$f":"IF(AND(D30=0,O30<>0),1,IF(AND(D30<>0,O30=0),1,IF(O30>6,1,\"\")))","v":""},{"$f":"IF(SUM(V30:AA31)<>0,1,\"\")","v":""},{"$f":"IF(SUM(A30:B31)<>0,\"error\",\"\")","v":""},{"$f":"年暦!AT25","v":11},11,{"$f":"年暦!AT26","v":"木"},null,null,null,null,null,null,{"$f":"IF(D30=0,0,1)","v":1},{"$f":"IF(年暦!AU26=\"\",\"\",年暦!AU26)","v":"○"},{"$f":"年暦!AU25","v":6},{"$f":"IF($O30=0,0,IF($O30>0,0,1))","v":0},{"$f":"IF($O30=0,0,IF($O30>1,0,1))","v":0},{"$f":"IF($O30=0,0,IF($O30>2,0,1))","v":0},{"$f":"IF($O30=0,0,IF($O30>3,0,1))","v":0},{"$f":"IF($O30=0,0,IF($O30>4,0,1))","v":0},{"$f":"IF($O30=0,0,IF($O30>5,0,1))","v":0},{"$f":"IF(AND(G30<>\"\",P30=1),2,0)","v":0},0,0,0,0,0,{"$f":"IF(年暦!AV25=\"\",\"\",年暦!AV25)","v":""}]
[]
[{"$f":"IF(AND(D32=0,O32<>0),1,IF(AND(D32<>0,O32=0),1,IF(O32>6,1,\"\")))","v":""},{"$f":"IF(SUM(V32:AA33)<>0,1,\"\")","v":""},{"$f":"IF(SUM(A32:B33)<>0,\"error\",\"\")","v":""},{"$f":"年暦!AT27","v":12},12,{"$f":"年暦!AT28","v":"金"},null,null,null,null,null,null,{"$f":"IF(D32=0,0,1)","v":1},{"$f":"IF(年暦!AU28=\"\",\"\",年暦!AU28)","v":"○"},{"$f":"年暦!AU27","v":5},{"$f":"IF($O32=0,0,IF($O32>0,0,1))","v":0},{"$f":"IF($O32=0,0,IF($O32>1,0,1))","v":0},{"$f":"IF($O32=0,0,IF($O32>2,0,1))","v":0},{"$f":"IF($O32=0,0,IF($O32>3,0,1))","v":0},{"$f":"IF($O32=0,0,IF($O32>4,0,1))","v":0},{"$f":"IF($O32=0,0,IF($O32>5,0,1))","v":1},{"$f":"IF(AND(G32<>\"\",P32=1),2,0)","v":0},0,0,0,0,0,{"$f":"IF(年暦!AV27=\"\",\"\",年暦!AV27)","v":"学級事務の日④"}]
[]
[{"$f":"IF(AND(D34=0,O34<>0),1,IF(AND(D34<>0,O34=0),1,IF(O34>6,1,\"\")))","v":""},{"$f":"IF(SUM(V34:AA35)<>0,1,\"\")","v":""},{"$f":"IF(SUM(A34:B35)<>0,\"error\",\"\")","v":""},{"$f":"年暦!AT29","v":0},13,{"$f":"年暦!AT30","v":"土"},null,null,null,null,null,null,{"$f":"IF(D34=0,0,1)","v":0},{"$f":"IF(年暦!AU30=\"\",\"\",年暦!AU30)","v":""},{"$f":"年暦!AU29","v":0},{"$f":"IF($O34=0,0,IF($O34>0,0,1))","v":0},{"$f":"IF($O34=0,0,IF($O34>1,0,1))","v":0},{"$f":"IF($O34=0,0,IF($O34>2,0,1))","v":0},{"$f":"IF($O34=0,0,IF($O34>3,0,1))","v":0},{"$f":"IF($O34=0,0,IF($O34>4,0,1))","v":0},{"$f":"IF($O34=0,0,IF($O34>5,0,1))","v":0},{"$f":"IF(AND(G34<>\"\",P34=1),2,0)","v":0},0,0,0,0,0,{"$f":"IF(年暦!AV29=\"\",\"\",年暦!AV29)","v":""}]
[]
[{"$f":"IF(AND(D36=0,O36<>0),1,IF(AND(D36<>0,O36=0),1,IF(O36>6,1,\"\")))","v":""},{"$f":"IF(SUM(V36:AA37)<>0,1,\"\")","v":""},{"$f":"IF(SUM(A36:B37)<>0,\"error\",\"\")","v":""},{"$f":"年暦!AT31","v":0},14,{"$f":"年暦!AT32","v":"日"},null,null,null,null,null,null,{"$f":"IF(D36=0,0,1)","v":0},{"$f":"IF(年暦!AU32=\"\",\"\",年暦!AU32)","v":""},{"$f":"年暦!AU31","v":0},{"$f":"IF($O36=0,0,IF($O36>0,0,1))","v":0},{"$f":"IF($O36=0,0,IF($O36>1,0,1))","v":0},{"$f":"IF($O36=0,0,IF($O36>2,0,1))","v":0},{"$f":"IF($O36=0,0,IF($O36>3,0,1))","v":0},{"$f":"IF($O36=0,0,IF($O36>4,0,1))","v":0},{"$f":"IF($O36=0,0,IF($O36>5,0,1))","v":0},{"$f":"IF(AND(G36<>\"\",P36=1),2,0)","v":0},0,0,0,0,0,{"$f":"IF(年暦!AV31=\"\",\"\",年暦!AV31)","v":""}]
[]
[{"$f":"IF(AND(D38=0,O38<>0),1,IF(AND(D38<>0,O38=0),1,IF(O38>6,1,\"\")))","v":""},{"$f":"IF(SUM(V38:AA39)<>0,1,\"\")","v":""},{"$f":"IF(SUM(A38:B39)<>0,\"error\",\"\")","v":""},{"$f":"年暦!AT33","v":15},15,{"$f":"年暦!AT34","v":"月"},null,null,null,null,null,null,{"$f":"IF(D38=0,0,1)","v":1},{"$f":"IF(年暦!AU34=\"\",\"\",年暦!AU34)","v":"○"},{"$f":"年暦!AU33","v":5},{"$f":"IF($O38=0,0,IF($O38>0,0,1))","v":0},{"$f":"IF($O38=0,0,IF($O38>1,0,1))","v":0},{"$f":"IF($O38=0,0,IF($O38>2,0,1))","v":0},{"$f":"IF($O38=0,0,IF($O38>3,0,1))","v":0},{"$f":"IF($O38=0,0,IF($O38>4,0,1))","v":0},{"$f":"IF($O38=0,0,IF($O38>5,0,1))","v":1},{"$f":"IF(AND(G38<>\"\",P38=1),2,0)","v":0},0,0,0,0,0,{"$f":"IF(年暦!AV33=\"\",\"\",年暦!AV33)","v":"学級事務の日⑤"}]
[]
[{"$f":"IF(AND(D40=0,O40<>0),1,IF(AND(D40<>0,O40=0),1,IF(O40>6,1,\"\")))","v":""},{"$f":"IF(SUM(V40:AA41)<>0,1,\"\")","v":""},{"$f":"IF(SUM(A40:B41)<>0,\"error\",\"\")","v":""},{"$f":"年暦!AT35","v":16},16,{"$f":"年暦!AT36","v":"火"},null,null,null,null,null,null,{"$f":"IF(D40=0,0,1)","v":1},{"$f":"IF(年暦!AU36=\"\",\"\",年暦!AU36)","v":"○"},{"$f":"年暦!AU35","v":6},{"$f":"IF($O40=0,0,IF($O40>0,0,1))","v":0},{"$f":"IF($O40=0,0,IF($O40>1,0,1))","v":0},{"$f":"IF($O40=0,0,IF($O40>2,0,1))","v":0},{"$f":"IF($O40=0,0,IF($O40>3,0,1))","v":0},{"$f":"IF($O40=0,0,IF($O40>4,0,1))","v":0},{"$f":"IF($O40=0,0,IF($O40>5,0,1))","v":0},{"$f":"IF(AND(G40<>\"\",P40=1),2,0)","v":0},0,0,0,0,0,{"$f":"IF(年暦!AV35=\"\",\"\",年暦!AV35)","v":""}]
[]
[{"$f":"IF(AND(D42=0,O42<>0),1,IF(AND(D42<>0,O42=0),1,IF(O42>6,1,\"\")))","v":""},{"$f":"IF(SUM(V42:AA43)<>0,1,\"\")","v":""},{"$f":"IF(SUM(A42:B43)<>0,\"error\",\"\")","v":""},{"$f":"年暦!AT37","v":17},17,{"$f":"年暦!AT38","v":"水"},null,null,null,null,null,null,{"$f":"IF(D42=0,0,1)","v":1},{"$f":"IF(年暦!AU38=\"\",\"\",年暦!AU38)","v":"○"},{"$f":"年暦!AU37","v":5},{"$f":"IF($O42=0,0,IF($O42>0,0,1))","v":0},{"$f":"IF($O42=0,0,IF($O42>1,0,1))","v":0},{"$f":"IF($O42=0,0,IF($O42>2,0,1))","v":0},{"$f":"IF($O42=0,0,IF($O42>3,0,1))","v":0},{"$f":"IF($O42=0,0,IF($O42>4,0,1))","v":0},{"$f":"IF($O42=0,0,IF($O42>5,0,1))","v":1},{"$f":"IF(AND(G42<>\"\",P42=1),2,0)","v":0},0,0,0,0,0,{"$f":"IF(年暦!AV37=\"\",\"\",年暦!AV37)","v":"３学期終業式\n（聖南中卒業式）"}]
[]
[{"$f":"IF(AND(D44=0,O44<>0),1,IF(AND(D44<>0,O44=0),1,IF(O44>6,1,\"\")))","v":""},{"$f":"IF(SUM(V44:AA45)<>0,1,\"\")","v":""},{"$f":"IF(SUM(A44:B45)<>0,\"error\",\"\")","v":""},{"$f":"年暦!AT39","v":18},18,{"$f":"年暦!AT40","v":"木"},null,null,null,null,null,null,{"$f":"IF(D44=0,0,1)","v":1},{"$f":"IF(年暦!AU40=\"\",\"\",年暦!AU40)","v":"×"},{"$f":"年暦!AU39","v":3},{"$f":"IF($O44=0,0,IF($O44>0,0,1))","v":0},{"$f":"IF($O44=0,0,IF($O44>1,0,1))","v":0},{"$f":"IF($O44=0,0,IF($O44>2,0,1))","v":0},{"$f":"IF($O44=0,0,IF($O44>3,0,1))","v":1},{"$f":"IF($O44=0,0,IF($O44>4,0,1))","v":1},{"$f":"IF($O44=0,0,IF($O44>5,0,1))","v":1},{"$f":"IF(AND(G44<>\"\",P44=1),2,0)","v":0},0,0,0,0,0,{"$f":"IF(年暦!AV39=\"\",\"\",年暦!AV39)","v":"卒業式"}]
[]
[{"$f":"IF(AND(D46=0,O46<>0),1,IF(AND(D46<>0,O46=0),1,IF(O46>6,1,\"\")))","v":""},{"$f":"IF(SUM(V46:AA47)<>0,1,\"\")","v":""},{"$f":"IF(SUM(A46:B47)<>0,\"error\",\"\")","v":""},{"$f":"年暦!AT41","v":0},19,{"$f":"年暦!AT42","v":"金"},null,null,null,null,null,null,{"$f":"IF(D46=0,0,1)","v":0},{"$f":"IF(年暦!AU42=\"\",\"\",年暦!AU42)","v":""},{"$f":"年暦!AU41","v":0},{"$f":"IF($O46=0,0,IF($O46>0,0,1))","v":0},{"$f":"IF($O46=0,0,IF($O46>1,0,1))","v":0},{"$f":"IF($O46=0,0,IF($O46>2,0,1))","v":0},{"$f":"IF($O46=0,0,IF($O46>3,0,1))","v":0},{"$f":"IF($O46=0,0,IF($O46>4,0,1))","v":0},{"$f":"IF($O46=0,0,IF($O46>5,0,1))","v":0},{"$f":"IF(AND(G46<>\"\",P46=1),2,0)","v":0},0,0,0,0,0,{"$f":"IF(年暦!AV41=\"\",\"\",年暦!AV41)","v":"学年末休み（３１日まで）\n（高校後期合格発表）"}]
[]
[{"$f":"IF(AND(D48=0,O48<>0),1,IF(AND(D48<>0,O48=0),1,IF(O48>6,1,\"\")))","v":""},{"$f":"IF(SUM(V48:AA49)<>0,1,\"\")","v":""},{"$f":"IF(SUM(A48:B49)<>0,\"error\",\"\")","v":""},{"$f":"年暦!AT43","v":0},20,{"$f":"年暦!AT44","v":"土"},null,null,null,null,null,null,{"$f":"IF(D48=0,0,1)","v":0},{"$f":"IF(年暦!AU44=\"\",\"\",年暦!AU44)","v":""},{"$f":"年暦!AU43","v":0},{"$f":"IF($O48=0,0,IF($O48>0,0,1))","v":0},{"$f":"IF($O48=0,0,IF($O48>1,0,1))","v":0},{"$f":"IF($O48=0,0,IF($O48>2,0,1))","v":0},{"$f":"IF($O48=0,0,IF($O48>3,0,1))","v":0},{"$f":"IF($O48=0,0,IF($O48>4,0,1))","v":0},{"$f":"IF($O48=0,0,IF($O48>5,0,1))","v":0},{"$f":"IF(AND(G48<>\"\",P48=1),2,0)","v":0},0,0,0,0,0,{"$f":"IF(年暦!AV43=\"\",\"\",年暦!AV43)","v":"春分の日"}]
[]
[{"$f":"IF(AND(D50=0,O50<>0),1,IF(AND(D50<>0,O50=0),1,IF(O50>6,1,\"\")))","v":""},{"$f":"IF(SUM(V50:AA51)<>0,1,\"\")","v":""},{"$f":"IF(SUM(A50:B51)<>0,\"error\",\"\")","v":""},{"$f":"年暦!AT45","v":0},21,{"$f":"年暦!AT46","v":"日"},null,null,null,null,null,null,{"$f":"IF(D50=0,0,1)","v":0},{"$f":"IF(年暦!AU46=\"\",\"\",年暦!AU46)","v":""},{"$f":"年暦!AU45","v":0},{"$f":"IF($O50=0,0,IF($O50>0,0,1))","v":0},{"$f":"IF($O50=0,0,IF($O50>1,0,1))","v":0},{"$f":"IF($O50=0,0,IF($O50>2,0,1))","v":0},{"$f":"IF($O50=0,0,IF($O50>3,0,1))","v":0},{"$f":"IF($O50=0,0,IF($O50>4,0,1))","v":0},{"$f":"IF($O50=0,0,IF($O50>5,0,1))","v":0},{"$f":"IF(AND(G50<>\"\",P50=1),2,0)","v":0},0,0,0,0,0,{"$f":"IF(年暦!AV45=\"\",\"\",年暦!AV45)","v":""}]
[]
[{"$f":"IF(AND(D52=0,O52<>0),1,IF(AND(D52<>0,O52=0),1,IF(O52>6,1,\"\")))","v":""},{"$f":"IF(SUM(V52:AA53)<>0,1,\"\")","v":""},{"$f":"IF(SUM(A52:B53)<>0,\"error\",\"\")","v":""},{"$f":"年暦!AT47","v":0},22,{"$f":"年暦!AT48","v":"月"},null,null,null,null,null,null,{"$f":"IF(D52=0,0,1)","v":0},{"$f":"IF(年暦!AU48=\"\",\"\",年暦!AU48)","v":""},{"$f":"年暦!AU47","v":0},{"$f":"IF($O52=0,0,IF($O52>0,0,1))","v":0},{"$f":"IF($O52=0,0,IF($O52>1,0,1))","v":0},{"$f":"IF($O52=0,0,IF($O52>2,0,1))","v":0},{"$f":"IF($O52=0,0,IF($O52>3,0,1))","v":0},{"$f":"IF($O52=0,0,IF($O52>4,0,1))","v":0},{"$f":"IF($O52=0,0,IF($O52>5,0,1))","v":0},{"$f":"IF(AND(G52<>\"\",P52=1),2,0)","v":0},0,0,0,0,0,{"$f":"IF(年暦!AV47=\"\",\"\",年暦!AV47)","v":""}]
[]
[{"$f":"IF(AND(D54=0,O54<>0),1,IF(AND(D54<>0,O54=0),1,IF(O54>6,1,\"\")))","v":""},{"$f":"IF(SUM(V54:AA55)<>0,1,\"\")","v":""},{"$f":"IF(SUM(A54:B55)<>0,\"error\",\"\")","v":""},{"$f":"年暦!AT49","v":0},23,{"$f":"年暦!AT50","v":"火"},null,null,null,null,null,null,{"$f":"IF(D54=0,0,1)","v":0},{"$f":"IF(年暦!AU50=\"\",\"\",年暦!AU50)","v":""},{"$f":"年暦!AU49","v":0},{"$f":"IF($O54=0,0,IF($O54>0,0,1))","v":0},{"$f":"IF($O54=0,0,IF($O54>1,0,1))","v":0},{"$f":"IF($O54=0,0,IF($O54>2,0,1))","v":0},{"$f":"IF($O54=0,0,IF($O54>3,0,1))","v":0},{"$f":"IF($O54=0,0,IF($O54>4,0,1))","v":0},{"$f":"IF($O54=0,0,IF($O54>5,0,1))","v":0},{"$f":"IF(AND(G54<>\"\",P54=1),2,0)","v":0},0,0,0,0,0,{"$f":"IF(年暦!AV49=\"\",\"\",年暦!AV49)","v":""}]
[]
[{"$f":"IF(AND(D56=0,O56<>0),1,IF(AND(D56<>0,O56=0),1,IF(O56>6,1,\"\")))","v":""},{"$f":"IF(SUM(V56:AA57)<>0,1,\"\")","v":""},{"$f":"IF(SUM(A56:B57)<>0,\"error\",\"\")","v":""},{"$f":"年暦!AT51","v":0},24,{"$f":"年暦!AT52","v":"水"},null,null,null,null,null,null,{"$f":"IF(D56=0,0,1)","v":0},{"$f":"IF(年暦!AU52=\"\",\"\",年暦!AU52)","v":""},{"$f":"年暦!AU51","v":0},{"$f":"IF($O56=0,0,IF($O56>0,0,1))","v":0},{"$f":"IF($O56=0,0,IF($O56>1,0,1))","v":0},{"$f":"IF($O56=0,0,IF($O56>2,0,1))","v":0},{"$f":"IF($O56=0,0,IF($O56>3,0,1))","v":0},{"$f":"IF($O56=0,0,IF($O56>4,0,1))","v":0},{"$f":"IF($O56=0,0,IF($O56>5,0,1))","v":0},{"$f":"IF(AND(G56<>\"\",P56=1),2,0)","v":0},0,0,0,0,0,{"$f":"IF(年暦!AV51=\"\",\"\",年暦!AV51)","v":""}]
[]
[{"$f":"IF(AND(D58=0,O58<>0),1,IF(AND(D58<>0,O58=0),1,IF(O58>6,1,\"\")))","v":""},{"$f":"IF(SUM(V58:AA59)<>0,1,\"\")","v":""},{"$f":"IF(SUM(A58:B59)<>0,\"error\",\"\")","v":""},{"$f":"年暦!AT53","v":0},25,{"$f":"年暦!AT54","v":"木"},null,null,null,null,null,null,{"$f":"IF(D58=0,0,1)","v":0},{"$f":"IF(年暦!AU54=\"\",\"\",年暦!AU54)","v":""},{"$f":"年暦!AU53","v":0},{"$f":"IF($O58=0,0,IF($O58>0,0,1))","v":0},{"$f":"IF($O58=0,0,IF($O58>1,0,1))","v":0},{"$f":"IF($O58=0,0,IF($O58>2,0,1))","v":0},{"$f":"IF($O58=0,0,IF($O58>3,0,1))","v":0},{"$f":"IF($O58=0,0,IF($O58>4,0,1))","v":0},{"$f":"IF($O58=0,0,IF($O58>5,0,1))","v":0},{"$f":"IF(AND(G58<>\"\",P58=1),2,0)","v":0},0,0,0,0,0,{"$f":"IF(年暦!AV53=\"\",\"\",年暦!AV53)","v":""}]
[]
[{"$f":"IF(AND(D60=0,O60<>0),1,IF(AND(D60<>0,O60=0),1,IF(O60>6,1,\"\")))","v":""},{"$f":"IF(SUM(V60:AA61)<>0,1,\"\")","v":""},{"$f":"IF(SUM(A60:B61)<>0,\"error\",\"\")","v":""},{"$f":"年暦!AT55","v":0},26,{"$f":"年暦!AT56","v":"金"},null,null,null,null,null,null,{"$f":"IF(D60=0,0,1)","v":0},{"$f":"IF(年暦!AU56=\"\",\"\",年暦!AU56)","v":""},{"$f":"年暦!AU55","v":0},{"$f":"IF($O60=0,0,IF($O60>0,0,1))","v":0},{"$f":"IF($O60=0,0,IF($O60>1,0,1))","v":0},{"$f":"IF($O60=0,0,IF($O60>2,0,1))","v":0},{"$f":"IF($O60=0,0,IF($O60>3,0,1))","v":0},{"$f":"IF($O60=0,0,IF($O60>4,0,1))","v":0},{"$f":"IF($O60=0,0,IF($O60>5,0,1))","v":0},{"$f":"IF(AND(G60<>\"\",P60=1),2,0)","v":0},0,0,0,0,0,{"$f":"IF(年暦!AV55=\"\",\"\",年暦!AV55)","v":""}]
[]
[{"$f":"IF(AND(D62=0,O62<>0),1,IF(AND(D62<>0,O62=0),1,IF(O62>6,1,\"\")))","v":""},{"$f":"IF(SUM(V62:AA63)<>0,1,\"\")","v":""},{"$f":"IF(SUM(A62:B63)<>0,\"error\",\"\")","v":""},{"$f":"年暦!AT57","v":0},27,{"$f":"年暦!AT58","v":"土"},null,null,null,null,null,null,{"$f":"IF(D62=0,0,1)","v":0},{"$f":"IF(年暦!AU58=\"\",\"\",年暦!AU58)","v":""},{"$f":"年暦!AU57","v":0},{"$f":"IF($O62=0,0,IF($O62>0,0,1))","v":0},{"$f":"IF($O62=0,0,IF($O62>1,0,1))","v":0},{"$f":"IF($O62=0,0,IF($O62>2,0,1))","v":0},{"$f":"IF($O62=0,0,IF($O62>3,0,1))","v":0},{"$f":"IF($O62=0,0,IF($O62>4,0,1))","v":0},{"$f":"IF($O62=0,0,IF($O62>5,0,1))","v":0},{"$f":"IF(AND(G62<>\"\",P62=1),2,0)","v":0},0,0,0,0,0,{"$f":"IF(年暦!AV57=\"\",\"\",年暦!AV57)","v":""}]
[]
[{"$f":"IF(AND(D64=0,O64<>0),1,IF(AND(D64<>0,O64=0),1,IF(O64>6,1,\"\")))","v":""},{"$f":"IF(SUM(V64:AA65)<>0,1,\"\")","v":""},{"$f":"IF(SUM(A64:B65)<>0,\"error\",\"\")","v":""},{"$f":"年暦!AT59","v":0},28,{"$f":"年暦!AT60","v":"日"},null,null,null,null,null,null,{"$f":"IF(D64=0,0,1)","v":0},{"$f":"IF(年暦!AU60=\"\",\"\",年暦!AU60)","v":""},{"$f":"年暦!AU59","v":0},{"$f":"IF($O64=0,0,IF($O64>0,0,1))","v":0},{"$f":"IF($O64=0,0,IF($O64>1,0,1))","v":0},{"$f":"IF($O64=0,0,IF($O64>2,0,1))","v":0},{"$f":"IF($O64=0,0,IF($O64>3,0,1))","v":0},{"$f":"IF($O64=0,0,IF($O64>4,0,1))","v":0},{"$f":"IF($O64=0,0,IF($O64>5,0,1))","v":0},{"$f":"IF(AND(G64<>\"\",P64=1),2,0)","v":0},0,0,0,0,0,{"$f":"IF(年暦!AV59=\"\",\"\",年暦!AV59)","v":""}]
[]
[{"$f":"IF(AND(D66=0,O66<>0),1,IF(AND(D66<>0,O66=0),1,IF(O66>6,1,\"\")))","v":""},{"$f":"IF(SUM(V66:AA67)<>0,1,\"\")","v":""},{"$f":"IF(SUM(A66:B67)<>0,\"error\",\"\")","v":""},{"$f":"年暦!AT61","v":0},29,{"$f":"年暦!AT62","v":"月"},null,null,null,null,null,null,{"$f":"IF(D66=0,0,1)","v":0},{"$f":"IF(年暦!AU62=\"\",\"\",年暦!AU62)","v":""},{"$f":"年暦!AU61","v":0},{"$f":"IF($O66=0,0,IF($O66>0,0,1))","v":0},{"$f":"IF($O66=0,0,IF($O66>1,0,1))","v":0},{"$f":"IF($O66=0,0,IF($O66>2,0,1))","v":0},{"$f":"IF($O66=0,0,IF($O66>3,0,1))","v":0},{"$f":"IF($O66=0,0,IF($O66>4,0,1))","v":0},{"$f":"IF($O66=0,0,IF($O66>5,0,1))","v":0},{"$f":"IF(AND(G66<>\"\",P66=1),2,0)","v":0},0,0,0,0,0,{"$f":"IF(年暦!AV61=\"\",\"\",年暦!AV61)","v":"新４～６年年生登校日"}]
[]
[{"$f":"IF(AND(D68=0,O68<>0),1,IF(AND(D68<>0,O68=0),1,IF(O68>6,1,\"\")))","v":""},{"$f":"IF(SUM(V68:AA69)<>0,1,\"\")","v":""},{"$f":"IF(SUM(A68:B69)<>0,\"error\",\"\")","v":""},{"$f":"年暦!AT63","v":0},30,{"$f":"年暦!AT64","v":"火"},null,null,null,null,null,null,{"$f":"IF(D68=0,0,1)","v":0},{"$f":"IF(年暦!AU64=\"\",\"\",年暦!AU64)","v":""},{"$f":"年暦!AU63","v":0},{"$f":"IF($O68=0,0,IF($O68>0,0,1))","v":0},{"$f":"IF($O68=0,0,IF($O68>1,0,1))","v":0},{"$f":"IF($O68=0,0,IF($O68>2,0,1))","v":0},{"$f":"IF($O68=0,0,IF($O68>3,0,1))","v":0},{"$f":"IF($O68=0,0,IF($O68>4,0,1))","v":0},{"$f":"IF($O68=0,0,IF($O68>5,0,1))","v":0},{"$f":"IF(AND(G68<>\"\",P68=1),2,0)","v":0},0,0,0,0,0,{"$f":"IF(年暦!AV63=\"\",\"\",年暦!AV63)","v":""}]
[]
[{"$f":"IF(AND(D70=0,O70<>0),1,IF(AND(D70<>0,O70=0),1,IF(O70>6,1,\"\")))","v":""},{"$f":"IF(SUM(V70:AA71)<>0,1,\"\")","v":""},{"$f":"IF(SUM(A70:B71)<>0,\"error\",\"\")","v":""},{"$f":"年暦!AT65","v":0},31,{"$f":"年暦!AT66","v":"水"},null,null,null,null,null,null,{"$f":"IF(D70=0,0,1)","v":0},{"$f":"IF(年暦!AU66=\"\",\"\",年暦!AU66)","v":""},{"$f":"年暦!AU65","v":0},{"$f":"IF($O70=0,0,IF($O70>0,0,1))","v":0},{"$f":"IF($O70=0,0,IF($O70>1,0,1))","v":0},{"$f":"IF($O70=0,0,IF($O70>2,0,1))","v":0},{"$f":"IF($O70=0,0,IF($O70>3,0,1))","v":0},{"$f":"IF($O70=0,0,IF($O70>4,0,1))","v":0},{"$f":"IF($O70=0,0,IF($O70>5,0,1))","v":0},{"$f":"IF(AND(G70<>\"\",P70=1),2,0)","v":0},0,0,0,0,0,{"$f":"IF(年暦!AV65=\"\",\"\",年暦!AV65)","v":""}]
[]
[]
[]
[null,null,null,null,"日","曜","○","●","児","ク","学","△","登校","給食","時数","授業時数確認",null,null,null,null,null,"誤入力確認",null,null,null,null,null,"行　事　等"]
[null,null,null,null,null,null,{"$f":"COUNTIF($G$10:$L$71,G74)","v":0},0,0,0,0,0,{"$f":"SUM(M10:M72)","v":14},{"$f":"COUNTIF(N10:N71,\"○\")","v":13},{"$f":"SUM(O10:O72)","v":76}]
[]
[null,null,null,null,null,null,null,"小計",null,null,"累計",null,null,null,null,null,null,null,null,null,null,null,null,null,null,null,null,null,null,null,"小計",null,null,"累計",null,null,null,null,null,"小計",null,null,"累計"]
[null,{"$f":"SUM(AE78,AE79,AE80,AN78,AN79,AN80)","v":0},{"$f":"IF(H79<>B78,\"error\",\"\")","v":"error"},null,"登校日数",null,null,{"$f":"M75","v":14},null,null,{"$f":"H78+'2'!K72:N72","v":208},null,null,null,null,null,null,null,null,null,null,null,null,null,null,null,null,"教科，道徳，総合",null,null,{"$f":"G75","v":0},null,null,{"$f":"AE78+'2'!AH72:AJ72","v":0},null,null,"クラブ",null,null,{"$f":"J75","v":0},null,null,{"$f":"AN78+'2'!AQ72:AS72","v":0}]
[null,null,null,null,"授業時数",null,null,{"$f":"O75","v":76},null,null,{"$f":"H79+'2'!K73:N73","v":1162},null,null,null,null,null,null,null,null,null,null,null,null,null,null,null,null,"行事",null,null,{"$f":"H75","v":0},null,null,{"$f":"AE79+'2'!AH73:AJ73","v":2},null,null,"学級",null,null,{"$f":"K75","v":0},null,null,{"$f":"AN79+'2'!AQ73:AS73","v":1}]
[null,null,null,null,"給食日数",null,null,{"$f":"N75","v":13},null,null,{"$f":"H80+'2'!K74:N74","v":201},null,null,null,null,null,null,null,null,null,null,null,null,null,null,null,null,"児童会",null,null,{"$f":"I75","v":0},null,null,{"$f":"AE80+'2'!AH74:AJ74","v":0},null,null,"学校裁量",null,null,{"$f":"L75","v":0},null,null,{"$f":"AN80+'2'!AQ74:AS74","v":0}]

{"sheet":"質問","index":12,"n_rows":0,"n_cols":0,"rows_kept":0,"cut":false,"hidden":false,"merged":[]}

{"sheet":"年暦","index":13,"n_rows":73,"n_cols":104,"rows_kept":73,"cut":false,"hidden":false,"merged":[[1,39,1,40],[60,41,65,44],[69,1,69,2],[69,5,69,7],[68,5,68,7],[69,9,69,11],[64,35,65,36],[66,1,66,4],[68,1,68,2],[67,13,67,15],[68,17,68,18],[67,1,67,2],[67,5,67,7],[66,5,66,8],[66,13,66,16],[67,9,67,11],[68,9,68,11],[66,9,66,12],[69,17,69,18],[69,13,69,15],[68,13,68,15],[64,1,65,4],[64,15,65,16],[64,9,65,12],[64,7,65,8],[64,19,65,20],[62,35,63,36],[69,29,69,31],[69,21,69,23],[68,25,68,27],[68,21,68,23],[67,21,67,23],[67,25,67,27],[67,29,67,31],[67,33,67,34],[64,21,65,24],[69,33,69,34],[64,29,65,32],[62,27,63,28],[62,7,63,8],[10,47,11,48],[44,43,45,44],[42,43,43,44],[64,39,65,40],[62,39,63,40],[60,39,61,40],[58,39,59,40],[56,39,57,40],[54,39,55,40],[52,47,53,48],[58,43,59,44],[56,43,57,44],[54,43,55,44],[52,43,53,44],[50,43,51,44],[48,43,49,44],[46,43,47,44],[40,43,41,44],[38,43,39,44],[34,39,35,40],[32,39,33,40],[28,39,29,40],[26,39,27,40],[16,47,17,48],[14,47,15,48],[12,47,13,48],[40,47,41,48],[38,47,39,48],[36,47,37,48],[50,47,51,48],[48,47,49,48],[46,47,47,48],[44,47,45,48],[42,47,43,48],[64,47,65,48],[62,47,63,48],[60,47,61,48],[58,47,59,48],[56,47,57,48],[54,47,55,48],[28,47,29,48],[26,47,27,48],[24,47,25,48],[4,43,5,44],[16,43,17,44],[14,43,15,44],[36,43,37,44],[34,43,35,44],[34,47,35,48],[32,47,33,48],[32,43,33,44],[30,47,31,48],[30,43,31,44],[28,43,29,44],[26,43,27,44],[8,43,9,44],[6,43,7,44],[12,43,13,44],[10,43,11,44],[24,43,25,44],[22,43,23,44],[22,47,23,48],[20,47,21,48],[18,47,19,48],[8,47,9,48],[6,47,7,48],[4,47,5,48],[4,39,5,40],[52,39,53,40],[50,39,51,40],[48,39,49,40],[46,39,47,40],[44,39,45,40],[42,39,43,40],[40,39,41,40],[10,39,11,40],[30,39,31,40],[24,39,25,40],[22,39,23,40],[3,37,3,40],[3,33,3,36],[4,35,5,36],[4,31,5,32],[42,31,43,32],[40,31,41,32],[38,31,39,32],[36,31,37,32],[34,31,35,32],[32,31,33,32],[30,31,31,32],[8,31,9,32],[28,31,29,32],[12,31,13,32],[10,31,11,32],[26,31,27,32],[24,31,25,32],[22,31,23,32],[8,39,9,40],[38,39,39,40],[36,39,37,40],[16,35,17,36],[14,35,15,36],[12,35,13,36],[66,45,66,48],[8,35,9,36],[6,35,7,36],[34,35,35,36],[30,35,31,36],[28,35,29,36],[32,35,33,36],[38,35,39,36],[44,31,45,32],[62,31,63,32],[60,31,61,32],[56,31,57,32],[54,31,55,32],[58,31,59,32],[48,31,49,32],[46,31,47,32],[60,35,61,36],[58,35,59,36],[56,35,57,36],[54,35,55,36],[52,35,53,36],[40,35,41,36],[50,35,51,36],[48,35,49,36],[66,37,66,40],[16,31,17,32],[6,31,7,32],[52,31,53,32],[50,31,51,32],[66,33,66,36],[14,31,15,32],[18,31,19,32],[46,35,47,36],[44,35,45,36],[42,35,43,36],[10,35,11,36],[6,39,7,40],[20,39,21,40],[18,39,19,40],[16,39,17,40],[14,39,15,40],[12,39,13,40],[36,35,37,36],[26,35,27,36],[24,35,25,36],[22,35,23,36],[20,35,21,36],[58,3,59,4],[42,3,43,4],[2,40,2,48],[67,17,67,18],[66,41,66,44],[66,25,66,28],[66,21,66,24],[66,17,66,20],[6,19,7,20],[66,29,66,32],[3,45,3,48],[3,41,3,44],[3,29,3,32],[3,25,3,28],[48,23,49,24],[52,27,53,28],[50,23,51,24],[50,27,51,28],[44,27,45,28],[56,23,57,24],[48,27,49,28],[56,27,57,28],[54,27,55,28],[52,23,53,24],[52,15,53,16],[38,15,39,16],[54,3,55,4],[48,3,49,4],[50,11,51,12],[48,11,49,12],[46,11,47,12],[54,11,55,12],[54,15,55,16],[52,11,53,12],[44,3,45,4],[44,15,45,16],[46,7,47,8],[44,7,45,8],[46,3,47,4],[46,15,47,16],[44,19,45,20],[44,23,45,24],[44,11,45,12],[46,19,47,20],[58,15,59,16],[56,3,57,4],[56,15,57,16],[56,11,57,12],[62,3,63,4],[62,11,63,12],[62,15,63,16],[60,11,61,12],[58,11,59,12],[60,3,61,4],[60,15,61,16],[52,19,53,20],[50,3,51,4],[50,15,51,16],[50,19,51,20],[52,7,53,8],[50,7,51,8],[48,15,49,16],[48,7,49,8],[52,3,53,4],[56,7,57,8],[54,7,55,8],[56,19,57,20],[60,7,61,8],[58,7,59,8],[54,23,55,24],[60,23,61,24],[60,19,61,20],[58,19,59,20],[58,23,59,24],[54,19,55,20],[42,19,43,20],[42,23,43,24],[42,27,43,28],[42,11,43,12],[38,3,39,4],[38,19,39,20],[38,23,39,24],[38,27,39,28],[42,7,43,8],[40,3,41,4],[40,19,41,20],[40,23,41,24],[38,7,39,8],[40,7,41,8],[40,11,41,12],[40,15,41,16],[38,11,39,12],[36,27,37,28],[36,11,37,12],[36,15,37,16],[69,45,69,47],[68,45,68,47],[67,45,67,47],[40,27,41,28],[42,15,43,16],[46,23,47,24],[67,37,67,39],[69,41,69,43],[68,41,68,43],[67,41,67,43],[69,37,69,39],[68,37,68,39],[68,33,68,34],[68,29,68,31],[46,27,47,28],[69,25,69,27],[62,19,63,20],[64,27,65,28],[60,27,61,28],[58,27,59,28],[62,23,63,24],[34,19,35,20],[32,19,33,20],[36,3,37,4],[36,19,37,20],[36,7,37,8],[32,15,33,16],[34,7,35,8],[30,27,31,28],[30,7,31,8],[34,3,35,4],[34,23,35,24],[34,27,35,28],[32,3,33,4],[32,23,33,24],[32,27,33,28],[34,11,35,12],[34,15,35,16],[30,3,31,4],[30,15,31,16],[30,23,31,24],[32,7,33,8],[32,11,33,12],[30,11,31,12],[36,23,37,24],[28,3,29,4],[28,15,29,16],[28,23,29,24],[28,27,29,28],[28,7,29,8],[28,11,29,12],[26,3,27,4],[26,15,27,16],[26,23,27,24],[26,27,27,28],[26,7,27,8],[26,11,27,12],[26,19,27,20],[24,3,25,4],[24,15,25,16],[24,23,25,24],[24,27,25,28],[24,7,25,8],[24,11,25,12],[24,19,25,20],[20,31,21,32],[22,3,23,4],[22,15,23,16],[22,27,23,28],[22,23,23,24],[22,7,23,8],[22,11,23,12],[22,19,23,20],[20,3,21,4],[22,18,23,18],[20,43,21,44],[18,43,19,44],[14,19,15,20],[14,23,15,24],[14,27,15,28],[16,19,17,20],[16,23,17,24],[16,27,17,28],[20,15,21,16],[20,27,21,28],[20,19,21,20],[18,35,19,36],[18,3,19,4],[18,19,19,20],[16,3,17,4],[18,23,19,24],[18,27,19,28],[20,23,21,24],[20,7,21,8],[18,7,19,8],[12,27,13,28],[12,15,13,16],[12,7,13,8],[18,15,19,16],[20,11,21,12],[18,18,19,18],[20,18,21,18],[10,3,11,4],[10,19,11,20],[10,23,11,24],[10,27,11,28],[10,15,11,16],[10,7,11,8],[10,11,11,12],[12,3,13,4],[12,19,13,20],[12,23,13,24],[10,18,11,18],[12,18,13,18],[8,27,9,28],[6,3,7,4],[6,15,7,16],[4,15,5,16],[6,23,7,24],[6,27,7,28],[1,13,2,36],[4,23,5,24],[4,27,5,28],[6,7,7,8],[8,7,9,8],[8,3,9,4],[8,15,9,16],[8,19,9,20],[8,23,9,24],[8,11,9,12],[3,5,3,8],[3,1,3,4],[4,18,5,18],[6,18,7,18],[8,18,9,18],[3,21,3,24],[0,2,0,3],[0,5,0,6],[4,3,5,4],[4,7,5,8],[4,19,5,20],[2,9,2,12],[48,19,49,20],[30,19,31,20],[28,19,29,20],[4,11,5,12],[6,11,7,12],[18,11,19,12],[16,11,17,12],[14,11,15,12],[12,11,13,12],[3,17,3,20],[3,13,3,16],[3,9,3,12],[1,1,1,11],[16,7,17,8],[14,7,15,8],[16,15,17,16],[14,15,15,16],[14,3,15,4]]}
[null,null,"西暦",null,2020,"年"]
[null,{"$f":"CONCATENATE(\"令和\",E1-2018,\"年度　　(\",E1,\"年4月～\",E1+1,\"年3月)\")","v":"令和2年度　　(2020年4月～2021年3月)"},null,null,null,null,null,null,null,null,null,null,null,"年　　　　間　　　　予　　　　定　　　　表　　（家庭用）"]
[null,null,null,null,null,null,null,null,null,null,null,null,null,null,null,null,null,null,null,null,null,null,null,null,null,null,null,null,null,null,null,null,null,null,null,null,null,null,null,null,"筑北村立筑北小学校"]
[null,"4　　　月",null,null,null,"5　　　月",null,null,null,"6　　　月",null,null,null,"7　　　月",null,null,null,"8　　　月",null,null,null,"9　　　月",null,null,null,"10　　　月",null,null,null,"11　　　月",null,null,null,"12　　　月",null,null,null,"1　　　月",null,null,null,"2　　　月",null,null,null,"3　　月"]
[null,null,null,"学年初め休み（５日まで）",null,1,6,null,null,1,6,"歯と口の健康週間（５日まで）",null,1,5,null,null,null,null,"夏休み（２０日まで）　　　　　　",null,1,6,"発育測定（５・６年）",null,1,6,null,null,null,null,null,null,1,5,"学級事務の日③",null,null,null,"元日\n冬休み（６日まで）",null,1,6,"中学校説明会",null,1,6,null,null,null,null,1,{"$f":"INT($AZ5/2)","v":0}]
[null,{"$f":"TEXT(WEEKDAY(DATE($E$1,B$72,$BA6)),\"aaa\")","v":"水"},null,null,null,{"$f":"TEXT(WEEKDAY(DATE($E$1,F$72,$BA6)),\"aaa\")","v":"金"},"○",null,null,{"$f":"TEXT(WEEKDAY(DATE($E$1,J$72,$BA6)),\"aaa\")","v":"月"},"○",null,null,{"$f":"TEXT(WEEKDAY(DATE($E$1,N$72,$BA6)),\"aaa\")","v":"水"},"○",null,null,{"$f":"TEXT(WEEKDAY(DATE($E$1,R$72,$BA6)),\"aaa\")","v":"土"},null,null,null,{"$f":"TEXT(WEEKDAY(DATE($E$1,V$72,$BA6)),\"aaa\")","v":"火"},"○",null,null,{"$f":"TEXT(WEEKDAY(DATE($E$1,Z$72,$BA6)),\"aaa\")","v":"木"},"○",null,null,{"$f":"TEXT(WEEKDAY(DATE($E$1,AD$72,$BA6)),\"aaa\")","v":"日"},null,null,null,{"$f":"TEXT(WEEKDAY(DATE($E$1,AH$72,$BA6)),\"aaa\")","v":"火"},"○",null,null,{"$f":"TEXT(WEEKDAY(DATE($E$1+1,AL$72,$BA6)),\"aaa\")","v":"金"},null,null,null,{"$f":"TEXT(WEEKDAY(DATE($E$1+1,AP$72,$BA6)),\"aaa\")","v":"月"},"○",null,null,{"$f":"TEXT(WEEKDAY(DATE($E$1+1,AT$72,$BA6)),\"aaa\")","v":"月"},"○",null,null,null,null,2,{"$f":"INT($AZ6/2)","v":1}]
[null,null,null,null,null,null,null,null,null,2,6,null,null,2,6,"地区児童会②",null,null,null,null,null,2,5,"避難訓練②　引渡し訓練",null,null,null,"小　教育課程研究協議会",null,2,6,"冬日課開始（2/19まで）\nなかよし月間（30日まで）",null,2,5,"地区児童会③",null,null,null,null,null,2,6,null,null,2,6,null,null,null,null,3,1]
[null,{"$f":"TEXT(WEEKDAY(DATE($E$1,B$72,$BA8)),\"aaa\")","v":"木"},null,null,null,{"$f":"TEXT(WEEKDAY(DATE($E$1,F$72,$BA8)),\"aaa\")","v":"土"},null,null,null,{"$f":"TEXT(WEEKDAY(DATE($E$1,J$72,$BA8)),\"aaa\")","v":"火"},"○",null,null,{"$f":"TEXT(WEEKDAY(DATE($E$1,N$72,$BA8)),\"aaa\")","v":"木"},"○",null,null,{"$f":"TEXT(WEEKDAY(DATE($E$1,R$72,$BA8)),\"aaa\")","v":"日"},null,null,null,{"$f":"TEXT(WEEKDAY(DATE($E$1,V$72,$BA8)),\"aaa\")","v":"水"},"○",null,null,{"$f":"TEXT(WEEKDAY(DATE($E$1,Z$72,$BA8)),\"aaa\")","v":"金"},null,null,null,{"$f":"TEXT(WEEKDAY(DATE($E$1,AD$72,$BA8)),\"aaa\")","v":"月"},"○",null,null,{"$f":"TEXT(WEEKDAY(DATE($E$1,AH$72,$BA8)),\"aaa\")","v":"水"},"○",null,null,{"$f":"TEXT(WEEKDAY(DATE($E$1+1,AL$72,$BA8)),\"aaa\")","v":"土"},null,null,null,{"$f":"TEXT(WEEKDAY(DATE($E$1+1,AP$72,$BA8)),\"aaa\")","v":"火"},"○",null,null,{"$f":"TEXT(WEEKDAY(DATE($E$1+1,AT$72,$BA8)),\"aaa\")","v":"火"},"○",null,null,null,null,4,2]
[null,null,null,null,null,null,null,"憲法記念日",null,3,5,"血液検査（６年）",null,3,6,null,null,null,null,null,null,3,6,"発育測定（３・４年）",null,null,null,null,null,null,null,"文化の日",null,3,6,null,null,null,null,null,null,3,5,null,null,3,5,"ＰＴＡ役員引継会",null,null,null,5,2]
[null,{"$f":"TEXT(WEEKDAY(DATE($E$1,B$72,$BA10)),\"aaa\")","v":"金"},null,null,null,{"$f":"TEXT(WEEKDAY(DATE($E$1,F$72,$BA10)),\"aaa\")","v":"日"},null,null,null,{"$f":"TEXT(WEEKDAY(DATE($E$1,J$72,$BA10)),\"aaa\")","v":"水"},"○",null,null,{"$f":"TEXT(WEEKDAY(DATE($E$1,N$72,$BA10)),\"aaa\")","v":"金"},"○",null,null,{"$f":"TEXT(WEEKDAY(DATE($E$1,R$72,$BA10)),\"aaa\")","v":"月"},null,null,null,{"$f":"TEXT(WEEKDAY(DATE($E$1,V$72,$BA10)),\"aaa\")","v":"木"},"○",null,null,{"$f":"TEXT(WEEKDAY(DATE($E$1,Z$72,$BA10)),\"aaa\")","v":"土"},null,null,null,{"$f":"TEXT(WEEKDAY(DATE($E$1,AD$72,$BA10)),\"aaa\")","v":"火"},null,null,null,{"$f":"TEXT(WEEKDAY(DATE($E$1,AH$72,$BA10)),\"aaa\")","v":"木"},"○",null,null,{"$f":"TEXT(WEEKDAY(DATE($E$1+1,AL$72,$BA10)),\"aaa\")","v":"日"},null,null,null,{"$f":"TEXT(WEEKDAY(DATE($E$1+1,AP$72,$BA10)),\"aaa\")","v":"水"},"○",null,null,{"$f":"TEXT(WEEKDAY(DATE($E$1+1,AT$72,$BA10)),\"aaa\")","v":"水"},"○",null,null,null,null,6,3]
[null,null,null,null,null,null,null,"みどりの日",null,4,6,"防犯教室",null,null,null,null,null,null,null,null,null,4,6,"発育測定（１・２年）\n（中　教育課程）",null,null,null,null,null,4,5,"交通安全指導",null,4,4,"保護者懇談会①",null,null,null,null,null,4,6,null,null,4,6,"６年生を送る会",null,null,null,7,3]
[null,{"$f":"TEXT(WEEKDAY(DATE($E$1,B$72,$BA12)),\"aaa\")","v":"土"},null,null,null,{"$f":"TEXT(WEEKDAY(DATE($E$1,F$72,$BA12)),\"aaa\")","v":"月"},null,null,null,{"$f":"TEXT(WEEKDAY(DATE($E$1,J$72,$BA12)),\"aaa\")","v":"木"},"○",null,null,{"$f":"TEXT(WEEKDAY(DATE($E$1,N$72,$BA12)),\"aaa\")","v":"土"},null,null,null,{"$f":"TEXT(WEEKDAY(DATE($E$1,R$72,$BA12)),\"aaa\")","v":"火"},null,null,null,{"$f":"TEXT(WEEKDAY(DATE($E$1,V$72,$BA12)),\"aaa\")","v":"金"},"○",null,null,{"$f":"TEXT(WEEKDAY(DATE($E$1,Z$72,$BA12)),\"aaa\")","v":"日"},null,null,null,{"$f":"TEXT(WEEKDAY(DATE($E$1,AD$72,$BA12)),\"aaa\")","v":"水"},"○",null,null,{"$f":"TEXT(WEEKDAY(DATE($E$1,AH$72,$BA12)),\"aaa\")","v":"金"},"○",null,null,{"$f":"TEXT(WEEKDAY(DATE($E$1+1,AL$72,$BA12)),\"aaa\")","v":"月"},null,null,null,{"$f":"TEXT(WEEKDAY(DATE($E$1+1,AP$72,$BA12)),\"aaa\")","v":"木"},"○",null,null,{"$f":"TEXT(WEEKDAY(DATE($E$1+1,AT$72,$BA12)),\"aaa\")","v":"木"},"○",null,null,null,null,8,4]
[null,null,null,null,null,null,null,"こどもの日",null,5,6,"プール清掃\n福祉交流学習（１年）①",null,null,null,null,null,null,null,null,null,null,null,null,null,5,6,"長野社会見学（４年）",null,5,4,"北部学年会〈生坂小）",null,null,null,"県立中学校入試",null,null,null,null,null,5,6,null,null,5,6,null,null,null,null,9,4]
[null,{"$f":"TEXT(WEEKDAY(DATE($E$1,B$72,$BA14)),\"aaa\")","v":"日"},null,null,null,{"$f":"TEXT(WEEKDAY(DATE($E$1,F$72,$BA14)),\"aaa\")","v":"火"},null,null,null,{"$f":"TEXT(WEEKDAY(DATE($E$1,J$72,$BA14)),\"aaa\")","v":"金"},"○",null,null,{"$f":"TEXT(WEEKDAY(DATE($E$1,N$72,$BA14)),\"aaa\")","v":"日"},null,null,null,{"$f":"TEXT(WEEKDAY(DATE($E$1,R$72,$BA14)),\"aaa\")","v":"水"},null,null,null,{"$f":"TEXT(WEEKDAY(DATE($E$1,V$72,$BA14)),\"aaa\")","v":"土"},null,null,null,{"$f":"TEXT(WEEKDAY(DATE($E$1,Z$72,$BA14)),\"aaa\")","v":"月"},"○",null,null,{"$f":"TEXT(WEEKDAY(DATE($E$1,AD$72,$BA14)),\"aaa\")","v":"木"},"○",null,null,{"$f":"TEXT(WEEKDAY(DATE($E$1,AH$72,$BA14)),\"aaa\")","v":"土"},null,null,null,{"$f":"TEXT(WEEKDAY(DATE($E$1+1,AL$72,$BA14)),\"aaa\")","v":"火"},null,null,null,{"$f":"TEXT(WEEKDAY(DATE($E$1+1,AP$72,$BA14)),\"aaa\")","v":"金"},"○",null,null,{"$f":"TEXT(WEEKDAY(DATE($E$1+1,AT$72,$BA14)),\"aaa\")","v":"金"},"○",null,null,null,null,10,5]
[null,6,4,"開校記念式　　入学式　\n１学期始業式\nＰＴＡ三役正副部長会",null,null,null,"振替休日",null,null,null,null,null,6,6,null,null,null,null,null,null,null,null,"ＰＴＡ作業\n東京パラリンピック閉会式",null,6,6,"視力検査（３・４年）\n福祉交流学習（２年）②",null,6,6,null,null,null,null,null,null,null,null,null,null,null,null,null,null,null,null,null,null,null,null,11,5]
[null,{"$f":"TEXT(WEEKDAY(DATE($E$1,B$72,$BA16)),\"aaa\")","v":"月"},"×",null,null,{"$f":"TEXT(WEEKDAY(DATE($E$1,F$72,$BA16)),\"aaa\")","v":"水"},null,null,null,{"$f":"TEXT(WEEKDAY(DATE($E$1,J$72,$BA16)),\"aaa\")","v":"土"},null,null,null,{"$f":"TEXT(WEEKDAY(DATE($E$1,N$72,$BA16)),\"aaa\")","v":"月"},"○",null,null,{"$f":"TEXT(WEEKDAY(DATE($E$1,R$72,$BA16)),\"aaa\")","v":"木"},null,null,null,{"$f":"TEXT(WEEKDAY(DATE($E$1,V$72,$BA16)),\"aaa\")","v":"日"},null,null,null,{"$f":"TEXT(WEEKDAY(DATE($E$1,Z$72,$BA16)),\"aaa\")","v":"火"},"○",null,null,{"$f":"TEXT(WEEKDAY(DATE($E$1,AD$72,$BA16)),\"aaa\")","v":"金"},"○",null,null,{"$f":"TEXT(WEEKDAY(DATE($E$1,AH$72,$BA16)),\"aaa\")","v":"日"},null,null,null,{"$f":"TEXT(WEEKDAY(DATE($E$1+1,AL$72,$BA16)),\"aaa\")","v":"水"},null,null,null,{"$f":"TEXT(WEEKDAY(DATE($E$1+1,AP$72,$BA16)),\"aaa\")","v":"土"},null,null,null,{"$f":"TEXT(WEEKDAY(DATE($E$1+1,AT$72,$BA16)),\"aaa\")","v":"土"},null,null,null,null,null,12,6]
[null,7,5,"登下校指導①",null,7,6,null,null,null,null,null,null,7,6,null,null,null,null,null,null,7,6,"運動会特別時間割開始",null,7,5,"視力検査（１・２年）\n福祉交流学習（４年）②",null,null,null,null,null,7,4,"読書旬間（18日まで）\n保護者懇談会②",null,7,5,"３学期始業式",null,null,null,null,null,null,null,null,null,null,null,13,6]
[null,{"$f":"TEXT(WEEKDAY(DATE($E$1,B$72,$BA18)),\"aaa\")","v":"火"},"○",null,null,{"$f":"TEXT(WEEKDAY(DATE($E$1,F$72,$BA18)),\"aaa\")","v":"木"},"○",null,null,{"$f":"TEXT(WEEKDAY(DATE($E$1,J$72,$BA18)),\"aaa\")","v":"日"},null,null,null,{"$f":"TEXT(WEEKDAY(DATE($E$1,N$72,$BA18)),\"aaa\")","v":"火"},"○",null,null,{"$f":"TEXT(WEEKDAY(DATE($E$1,R$72,$BA18)),\"aaa\")","v":"金"},null,null,null,{"$f":"TEXT(WEEKDAY(DATE($E$1,V$72,$BA18)),\"aaa\")","v":"月"},"○",null,null,{"$f":"TEXT(WEEKDAY(DATE($E$1,Z$72,$BA18)),\"aaa\")","v":"水"},"○",null,null,{"$f":"TEXT(WEEKDAY(DATE($E$1,AD$72,$BA18)),\"aaa\")","v":"土"},null,null,null,{"$f":"TEXT(WEEKDAY(DATE($E$1,AH$72,$BA18)),\"aaa\")","v":"月"},"○",null,null,{"$f":"TEXT(WEEKDAY(DATE($E$1+1,AL$72,$BA18)),\"aaa\")","v":"木"},"○",null,null,{"$f":"TEXT(WEEKDAY(DATE($E$1+1,AP$72,$BA18)),\"aaa\")","v":"日"},null,null,null,{"$f":"TEXT(WEEKDAY(DATE($E$1+1,AT$72,$BA18)),\"aaa\")","v":"日"},null,null,null,null,null,14,7]
[null,8,5,"登下校指導②",null,8,6,"北部鑑賞音楽会\n検尿①",null,8,6,"福祉交流学習（３年）①",null,8,5,"５年キャンプ①",null,null,null,null,null,8,6,null,null,8,6,"視力検査（５・６年）",null,null,null,null,null,8,4,"保護者懇談会③",null,8,6,null,null,8,6,null,null,8,6,"学期末清掃（17日まで）",null,null,null,15,7]
[null,{"$f":"TEXT(WEEKDAY(DATE($E$1,B$72,$BA20)),\"aaa\")","v":"水"},"○",null,null,{"$f":"TEXT(WEEKDAY(DATE($E$1,F$72,$BA20)),\"aaa\")","v":"金"},"○",null,null,{"$f":"TEXT(WEEKDAY(DATE($E$1,J$72,$BA20)),\"aaa\")","v":"月"},"○",null,null,{"$f":"TEXT(WEEKDAY(DATE($E$1,N$72,$BA20)),\"aaa\")","v":"水"},"○",null,null,{"$f":"TEXT(WEEKDAY(DATE($E$1,R$72,$BA20)),\"aaa\")","v":"土"},null,null,null,{"$f":"TEXT(WEEKDAY(DATE($E$1,V$72,$BA20)),\"aaa\")","v":"火"},"○",null,null,{"$f":"TEXT(WEEKDAY(DATE($E$1,Z$72,$BA20)),\"aaa\")","v":"木"},"○",null,null,{"$f":"TEXT(WEEKDAY(DATE($E$1,AD$72,$BA20)),\"aaa\")","v":"日"},null,null,null,{"$f":"TEXT(WEEKDAY(DATE($E$1,AH$72,$BA20)),\"aaa\")","v":"火"},"○",null,null,{"$f":"TEXT(WEEKDAY(DATE($E$1+1,AL$72,$BA20)),\"aaa\")","v":"金"},"○",null,null,{"$f":"TEXT(WEEKDAY(DATE($E$1+1,AP$72,$BA20)),\"aaa\")","v":"月"},"○",null,null,{"$f":"TEXT(WEEKDAY(DATE($E$1+1,AT$72,$BA20)),\"aaa\")","v":"月"},"○",null,null,null,null,16,8]
[null,9,5,"１年給食開始\n登下校指導③",null,null,null,null,null,9,6,"発育測定（５・６年）\n福祉交流学習（２年）①",null,9,6,"５年キャンプ②",null,null,null,"東京オリンピック閉会式",null,9,5,null,null,9,6,"福祉交流学習（１年）②\n　　　〃　　　　　（３年）②",null,9,6,"縦割り清掃（20日まで）\n就学時健康診断\n入学児童保護者会①",null,9,4,"保護者懇談会④",null,null,null,null,null,9,6,null,null,9,6,null,null,null,null,17,8]
[null,{"$f":"TEXT(WEEKDAY(DATE($E$1,B$72,$BA22)),\"aaa\")","v":"木"},"○",null,null,{"$f":"TEXT(WEEKDAY(DATE($E$1,F$72,$BA22)),\"aaa\")","v":"土"},null,null,null,{"$f":"TEXT(WEEKDAY(DATE($E$1,J$72,$BA22)),\"aaa\")","v":"火"},"○",null,null,{"$f":"TEXT(WEEKDAY(DATE($E$1,N$72,$BA22)),\"aaa\")","v":"木"},"○",null,null,{"$f":"TEXT(WEEKDAY(DATE($E$1,R$72,$BA22)),\"aaa\")","v":"日"},null,null,null,{"$f":"TEXT(WEEKDAY(DATE($E$1,V$72,$BA22)),\"aaa\")","v":"水"},"○",null,null,{"$f":"TEXT(WEEKDAY(DATE($E$1,Z$72,$BA22)),\"aaa\")","v":"金"},"○",null,null,{"$f":"TEXT(WEEKDAY(DATE($E$1,AD$72,$BA22)),\"aaa\")","v":"月"},"○",null,null,{"$f":"TEXT(WEEKDAY(DATE($E$1,AH$72,$BA22)),\"aaa\")","v":"水"},"○",null,null,{"$f":"TEXT(WEEKDAY(DATE($E$1+1,AL$72,$BA22)),\"aaa\")","v":"土"},null,null,null,{"$f":"TEXT(WEEKDAY(DATE($E$1+1,AP$72,$BA22)),\"aaa\")","v":"火"},"○",null,null,{"$f":"TEXT(WEEKDAY(DATE($E$1+1,AT$72,$BA22)),\"aaa\")","v":"火"},"○",null,null,null,null,18,9]
[null,10,5,"身体測定（５・６年）\n登下校指導④",null,null,null,null,null,10,5,"発育測定（１・２年）",null,10,6,"５年計画休業",null,null,null,"山の日",null,10,6,null,null,null,null,"信州スポーツＤＡＹ",null,10,6,null,null,10,4,"保護者懇談会⑤",null,null,null,null,null,10,5,null,null,10,5,null,null,null,null,19,9]
[null,{"$f":"TEXT(WEEKDAY(DATE($E$1,B$72,$BA24)),\"aaa\")","v":"金"},"○",null,null,{"$f":"TEXT(WEEKDAY(DATE($E$1,F$72,$BA24)),\"aaa\")","v":"日"},null,null,null,{"$f":"TEXT(WEEKDAY(DATE($E$1,J$72,$BA24)),\"aaa\")","v":"水"},"○",null,null,{"$f":"TEXT(WEEKDAY(DATE($E$1,N$72,$BA24)),\"aaa\")","v":"金"},"○",null,null,{"$f":"TEXT(WEEKDAY(DATE($E$1,R$72,$BA24)),\"aaa\")","v":"月"},null,null,null,{"$f":"TEXT(WEEKDAY(DATE($E$1,V$72,$BA24)),\"aaa\")","v":"木"},"○",null,null,{"$f":"TEXT(WEEKDAY(DATE($E$1,Z$72,$BA24)),\"aaa\")","v":"土"},null,null,null,{"$f":"TEXT(WEEKDAY(DATE($E$1,AD$72,$BA24)),\"aaa\")","v":"火"},"○",null,null,{"$f":"TEXT(WEEKDAY(DATE($E$1,AH$72,$BA24)),\"aaa\")","v":"木"},"○",null,null,{"$f":"TEXT(WEEKDAY(DATE($E$1+1,AL$72,$BA24)),\"aaa\")","v":"日"},null,null,null,{"$f":"TEXT(WEEKDAY(DATE($E$1+1,AP$72,$BA24)),\"aaa\")","v":"水"},"○",null,null,{"$f":"TEXT(WEEKDAY(DATE($E$1+1,AT$72,$BA24)),\"aaa\")","v":"水"},"○",null,null,null,null,20,10]
[null,null,null,null,null,11,4,"なかよし週間（15日まで）\n検尿②\n北部教育会総集会",null,11,6,"発育測定（３・４年）",null,null,null,null,null,null,null,"学校閉庁日",null,11,6,null,null,null,null,"北部吹奏楽祭",null,11,5,null,null,11,6,null,null,null,null,"成人の日",null,null,null,"建国記念の日",null,11,6,null,null,null,null,21,10]
[null,{"$f":"TEXT(WEEKDAY(DATE($E$1,B$72,$BA26)),\"aaa\")","v":"土"},null,null,null,"月","○",null,null,{"$f":"TEXT(WEEKDAY(DATE($E$1,J$72,$BA26)),\"aaa\")","v":"木"},"○",null,null,{"$f":"TEXT(WEEKDAY(DATE($E$1,N$72,$BA26)),\"aaa\")","v":"土"},null,null,null,{"$f":"TEXT(WEEKDAY(DATE($E$1,R$72,$BA26)),\"aaa\")","v":"火"},null,null,null,{"$f":"TEXT(WEEKDAY(DATE($E$1,V$72,$BA26)),\"aaa\")","v":"金"},"○",null,null,{"$f":"TEXT(WEEKDAY(DATE($E$1,Z$72,$BA26)),\"aaa\")","v":"日"},null,null,null,{"$f":"TEXT(WEEKDAY(DATE($E$1,AD$72,$BA26)),\"aaa\")","v":"水"},"○",null,null,{"$f":"TEXT(WEEKDAY(DATE($E$1,AH$72,$BA26)),\"aaa\")","v":"金"},"○",null,null,{"$f":"TEXT(WEEKDAY(DATE($E$1+1,AL$72,$BA26)),\"aaa\")","v":"月"},null,null,null,{"$f":"TEXT(WEEKDAY(DATE($E$1+1,AP$72,$BA26)),\"aaa\")","v":"木"},null,null,null,{"$f":"TEXT(WEEKDAY(DATE($E$1+1,AT$72,$BA26)),\"aaa\")","v":"木"},"○",null,null,null,null,22,11]
[null,null,null,null,null,12,6,null,null,12,6,"内科検診（１・２年）\n福祉交流学習（４年）①",null,null,null,null,null,null,null,"学校閉庁日",null,null,null,"ＰＴＡ作業予備日",null,12,6,null,null,12,6,null,null,null,null,null,null,12,6,null,null,12,6,"５・６年参観日\nＰＴＡ評議員会④",null,12,5,"学級事務の日④",null,null,null,23,11]
[null,{"$f":"TEXT(WEEKDAY(DATE($E$1,B$72,$BA28)),\"aaa\")","v":"日"},null,null,null,"火","○",null,null,{"$f":"TEXT(WEEKDAY(DATE($E$1,J$72,$BA28)),\"aaa\")","v":"金"},"○",null,null,{"$f":"TEXT(WEEKDAY(DATE($E$1,N$72,$BA28)),\"aaa\")","v":"日"},null,null,null,{"$f":"TEXT(WEEKDAY(DATE($E$1,R$72,$BA28)),\"aaa\")","v":"水"},null,null,null,{"$f":"TEXT(WEEKDAY(DATE($E$1,V$72,$BA28)),\"aaa\")","v":"土"},null,null,null,{"$f":"TEXT(WEEKDAY(DATE($E$1,Z$72,$BA28)),\"aaa\")","v":"月"},"○",null,null,{"$f":"TEXT(WEEKDAY(DATE($E$1,AD$72,$BA28)),\"aaa\")","v":"木"},"○",null,null,{"$f":"TEXT(WEEKDAY(DATE($E$1,AH$72,$BA28)),\"aaa\")","v":"土"},null,null,null,{"$f":"TEXT(WEEKDAY(DATE($E$1+1,AL$72,$BA28)),\"aaa\")","v":"火"},"○",null,null,{"$f":"TEXT(WEEKDAY(DATE($E$1+1,AP$72,$BA28)),\"aaa\")","v":"金"},"○",null,null,{"$f":"TEXT(WEEKDAY(DATE($E$1+1,AT$72,$BA28)),\"aaa\")","v":"金"},"○",null,null,null,null,24,12]
[null,13,5,"身体測定（３・４年）",null,13,5,"眼科検診",null,null,null,"（中体連塩筑大会①）",null,13,6,"学期末清掃（21日まで）",null,null,null,"学校閉庁日",null,null,null,null,null,13,6,"検尿①\n修旅・持久走事前健診",null,13,6,null,null,null,null,null,null,13,5,null,null,null,null,null,null,null,null,null,null,null,null,25,12]
[null,{"$f":"TEXT(WEEKDAY(DATE($E$1,B$72,$BA30)),\"aaa\")","v":"月"},"○",null,null,"水","○",null,null,{"$f":"TEXT(WEEKDAY(DATE($E$1,J$72,$BA30)),\"aaa\")","v":"土"},null,null,null,{"$f":"TEXT(WEEKDAY(DATE($E$1,N$72,$BA30)),\"aaa\")","v":"月"},"○",null,null,{"$f":"TEXT(WEEKDAY(DATE($E$1,R$72,$BA30)),\"aaa\")","v":"木"},null,null,null,{"$f":"TEXT(WEEKDAY(DATE($E$1,V$72,$BA30)),\"aaa\")","v":"日"},null,null,null,{"$f":"TEXT(WEEKDAY(DATE($E$1,Z$72,$BA30)),\"aaa\")","v":"火"},"○",null,null,{"$f":"TEXT(WEEKDAY(DATE($E$1,AD$72,$BA30)),\"aaa\")","v":"金"},"○",null,null,{"$f":"TEXT(WEEKDAY(DATE($E$1,AH$72,$BA30)),\"aaa\")","v":"日"},null,null,null,{"$f":"TEXT(WEEKDAY(DATE($E$1+1,AL$72,$BA30)),\"aaa\")","v":"水"},"○",null,null,{"$f":"TEXT(WEEKDAY(DATE($E$1+1,AP$72,$BA30)),\"aaa\")","v":"土"},null,null,null,{"$f":"TEXT(WEEKDAY(DATE($E$1+1,AT$72,$BA30)),\"aaa\")","v":"土"},null,null,null,null,null,26,13]
[null,14,5,"避難訓練①\n家庭訪問（本城地区）",null,14,6,"児童会総会①",null,null,null,"（中体連塩筑大会②）",null,14,6,null,null,null,null,"学校閉庁日",null,14,6,null,null,14,4,"検尿②\n自主研修の日②",null,14,3,"地域公開参観日④\n金管コンサート",null,14,6,"学期末清掃（24日まで）",null,14,6,null,null,null,null,null,null,null,null,null,null,null,null,27,13]
[null,{"$f":"TEXT(WEEKDAY(DATE($E$1,B$72,$BA32)),\"aaa\")","v":"火"},"○",null,null,"木","○",null,null,{"$f":"TEXT(WEEKDAY(DATE($E$1,J$72,$BA32)),\"aaa\")","v":"日"},null,null,null,{"$f":"TEXT(WEEKDAY(DATE($E$1,N$72,$BA32)),\"aaa\")","v":"火"},"○",null,null,{"$f":"TEXT(WEEKDAY(DATE($E$1,R$72,$BA32)),\"aaa\")","v":"金"},null,null,null,{"$f":"TEXT(WEEKDAY(DATE($E$1,V$72,$BA32)),\"aaa\")","v":"月"},"○",null,null,{"$f":"TEXT(WEEKDAY(DATE($E$1,Z$72,$BA32)),\"aaa\")","v":"水"},"○",null,null,{"$f":"TEXT(WEEKDAY(DATE($E$1,AD$72,$BA32)),\"aaa\")","v":"土"},"×",null,null,{"$f":"TEXT(WEEKDAY(DATE($E$1,AH$72,$BA32)),\"aaa\")","v":"月"},"○",null,null,{"$f":"TEXT(WEEKDAY(DATE($E$1+1,AL$72,$BA32)),\"aaa\")","v":"木"},"○",null,null,{"$f":"TEXT(WEEKDAY(DATE($E$1+1,AP$72,$BA32)),\"aaa\")","v":"日"},null,null,null,{"$f":"TEXT(WEEKDAY(DATE($E$1+1,AT$72,$BA32)),\"aaa\")","v":"日"},null,null,null,null,null,28,14]
[null,15,5,"家庭訪問（坂北地区）\n身体測定（１・２年）",null,15,6,"遠足",null,15,6,"音楽会特別時間割開始",null,15,5,null,null,null,null,null,null,15,6,null,null,15,6,null,null,null,null,null,null,15,6,"県立中学校合格発表",null,15,6,null,null,15,6,null,null,15,5,"学級事務の日⑤",null,null,null,29,14]
[null,{"$f":"TEXT(WEEKDAY(DATE($E$1,B$72,$BA34)),\"aaa\")","v":"水"},"○",null,null,"金","×",null,null,"月","○",null,null,{"$f":"TEXT(WEEKDAY(DATE($E$1,N$72,$BA34)),\"aaa\")","v":"水"},"○",null,null,{"$f":"TEXT(WEEKDAY(DATE($E$1,R$72,$BA34)),\"aaa\")","v":"土"},null,null,null,{"$f":"TEXT(WEEKDAY(DATE($E$1,V$72,$BA34)),\"aaa\")","v":"火"},"○",null,null,{"$f":"TEXT(WEEKDAY(DATE($E$1,Z$72,$BA34)),\"aaa\")","v":"木"},"○",null,null,{"$f":"TEXT(WEEKDAY(DATE($E$1,AD$72,$BA34)),\"aaa\")","v":"日"},null,null,null,{"$f":"TEXT(WEEKDAY(DATE($E$1,AH$72,$BA34)),\"aaa\")","v":"火"},"○",null,null,{"$f":"TEXT(WEEKDAY(DATE($E$1+1,AL$72,$BA34)),\"aaa\")","v":"金"},"○",null,null,{"$f":"TEXT(WEEKDAY(DATE($E$1+1,AP$72,$BA34)),\"aaa\")","v":"月"},"○",null,null,{"$f":"TEXT(WEEKDAY(DATE($E$1+1,AT$72,$BA34)),\"aaa\")","v":"月"},"○",null,null,null,null,30,15]
[null,16,5,"全国学力学習状況調査\n家庭訪問（坂井地区）",null,null,null,null,null,16,6,"年長児と交流①\n内科検診（３・４年）",null,16,6,"水泳参観日①\n学級PTA\nＰＴＡ評議員会②",null,null,null,null,null,16,5,null,null,16,4,"参観日③\n給食試食会（１年）\n学校保健委員会",null,null,null,"参観日振替休日",null,16,5,"村卒業記念写真",null,null,null,"郡Pまとめの会",null,16,6,"３・４年参観日\n（高校前期合格発表）",null,16,6,null,null,null,null,31,15]
[null,{"$f":"TEXT(WEEKDAY(DATE($E$1,B$72,$BA36)),\"aaa\")","v":"木"},"○",null,null,"土",null,null,null,"火","○",null,null,{"$f":"TEXT(WEEKDAY(DATE($E$1,N$72,$BA36)),\"aaa\")","v":"木"},"○",null,null,{"$f":"TEXT(WEEKDAY(DATE($E$1,R$72,$BA36)),\"aaa\")","v":"日"},null,null,null,{"$f":"TEXT(WEEKDAY(DATE($E$1,V$72,$BA36)),\"aaa\")","v":"水"},"○",null,null,{"$f":"TEXT(WEEKDAY(DATE($E$1,Z$72,$BA36)),\"aaa\")","v":"金"},"○",null,null,{"$f":"TEXT(WEEKDAY(DATE($E$1,AD$72,$BA36)),\"aaa\")","v":"月"},null,null,null,{"$f":"TEXT(WEEKDAY(DATE($E$1,AH$72,$BA36)),\"aaa\")","v":"水"},"○",null,null,{"$f":"TEXT(WEEKDAY(DATE($E$1+1,AL$72,$BA36)),\"aaa\")","v":"土"},null,null,null,"火","○",null,null,{"$f":"TEXT(WEEKDAY(DATE($E$1+1,AT$72,$BA36)),\"aaa\")","v":"火"},"○",null,null,null,null,32,16]
[null,17,4,"視力検査（高）\n遠足下見",null,null,null,null,null,17,4,"自主研修の日①",null,17,5,"水泳参観日②\n学級事務の日①",null,null,null,null,null,17,6,null,null,null,null,"みどりの少年団交流集会",null,17,6,"発育測定（５・６年）",null,17,6,null,null,null,null,null,null,17,5,"児童会総会②",null,17,5,"３学期終業式\n（聖南中卒業式）",null,null,null,33,16]
[null,{"$f":"TEXT(WEEKDAY(DATE($E$1,B$72,$BA38)),\"aaa\")","v":"金"},"○",null,null,"日",null,null,null,"水","○",null,null,{"$f":"TEXT(WEEKDAY(DATE($E$1,N$72,$BA38)),\"aaa\")","v":"金"},"○",null,null,{"$f":"TEXT(WEEKDAY(DATE($E$1,R$72,$BA38)),\"aaa\")","v":"月"},null,null,null,{"$f":"TEXT(WEEKDAY(DATE($E$1,V$72,$BA38)),\"aaa\")","v":"木"},"○",null,null,{"$f":"TEXT(WEEKDAY(DATE($E$1,Z$72,$BA38)),\"aaa\")","v":"土"},null,null,null,{"$f":"TEXT(WEEKDAY(DATE($E$1,AD$72,$BA38)),\"aaa\")","v":"火"},"○",null,null,{"$f":"TEXT(WEEKDAY(DATE($E$1,AH$72,$BA38)),\"aaa\")","v":"木"},"○",null,null,{"$f":"TEXT(WEEKDAY(DATE($E$1+1,AL$72,$BA38)),\"aaa\")","v":"日"},null,null,null,"水","○",null,null,{"$f":"TEXT(WEEKDAY(DATE($E$1+1,AT$72,$BA38)),\"aaa\")","v":"水"},"○",null,null,null,null,34,17]
[null,null,null,null,null,18,6,"読書週間（22日まで）",null,18,6,"内科検診（５・６年）",null,null,null,"郡P研修会\n（中体連県大会①）",null,null,null,null,null,18,6,null,null,null,null,null,null,18,5,"発育測定（３・４年）",null,18,6,"スケート教室（１・２年）",null,18,6,null,null,18,6,"１・２年参観日",null,18,3,"卒業式",null,null,null,35,17]
[null,{"$f":"TEXT(WEEKDAY(DATE($E$1,B$72,$BA40)),\"aaa\")","v":"土"},null,null,null,"月","○",null,null,"木","○",null,null,{"$f":"TEXT(WEEKDAY(DATE($E$1,N$72,$BA40)),\"aaa\")","v":"土"},null,null,null,{"$f":"TEXT(WEEKDAY(DATE($E$1,R$72,$BA40)),\"aaa\")","v":"火"},null,null,null,{"$f":"TEXT(WEEKDAY(DATE($E$1,V$72,$BA40)),\"aaa\")","v":"金"},"○",null,null,{"$f":"TEXT(WEEKDAY(DATE($E$1,Z$72,$BA40)),\"aaa\")","v":"日"},null,null,null,{"$f":"TEXT(WEEKDAY(DATE($E$1,AD$72,$BA40)),\"aaa\")","v":"水"},"○",null,null,{"$f":"TEXT(WEEKDAY(DATE($E$1,AH$72,$BA40)),\"aaa\")","v":"金"},"○",null,null,"月","○",null,null,"木","○",null,null,"木","×",null,null,null,null,36,18]
[null,null,null,null,null,19,6,null,null,19,6,"漢字検定①",null,null,null,"（中体連県大会②）",null,null,null,null,null,19,4,"運動会",null,19,6,null,null,19,6,"発育測定（１・２年）",null,null,null,null,null,19,6,null,null,19,6,null,null,null,null,"学年末休み（３１日まで）\n（高校後期合格発表）",null,null,null,37,18]
[null,{"$f":"TEXT(WEEKDAY(DATE($E$1,B$72,$BA42)),\"aaa\")","v":"日"},null,null,null,"火","○",null,null,"金","○",null,null,{"$f":"TEXT(WEEKDAY(DATE($E$1,N$72,$BA42)),\"aaa\")","v":"日"},null,null,null,{"$f":"TEXT(WEEKDAY(DATE($E$1,R$72,$BA42)),\"aaa\")","v":"水"},null,null,null,{"$f":"TEXT(WEEKDAY(DATE($E$1,V$72,$BA42)),\"aaa\")","v":"土"},"×",null,null,{"$f":"TEXT(WEEKDAY(DATE($E$1,Z$72,$BA42)),\"aaa\")","v":"月"},"○",null,null,{"$f":"TEXT(WEEKDAY(DATE($E$1,AD$72,$BA42)),\"aaa\")","v":"木"},"○",null,null,{"$f":"TEXT(WEEKDAY(DATE($E$1,AH$72,$BA42)),\"aaa\")","v":"土"},null,null,null,"火","○",null,null,"金","○",null,null,"金",null,null,null,null,null,38,19]
[null,20,6,"金管バンド活動開始",null,20,5,"心電図検査（１・４年）",null,null,null,null,null,20,5,"水泳参観日③\n学級事務の日②",null,null,null,null,null,null,null,null,null,20,6,"乗り物遠足（２年）",null,20,6,null,null,null,null,null,null,20,5,"発育測定（５・６年）",null,null,null,null,null,null,null,"春分の日",null,null,null,39,19]
[null,{"$f":"TEXT(WEEKDAY(DATE($E$1,B$72,$BA44)),\"aaa\")","v":"月"},"○",null,null,"水","○",null,null,"土",null,null,null,{"$f":"TEXT(WEEKDAY(DATE($E$1,N$72,$BA44)),\"aaa\")","v":"月"},"○",null,null,{"$f":"TEXT(WEEKDAY(DATE($E$1,R$72,$BA44)),\"aaa\")","v":"木"},null,null,null,{"$f":"TEXT(WEEKDAY(DATE($E$1,V$72,$BA44)),\"aaa\")","v":"日"},null,null,null,{"$f":"TEXT(WEEKDAY(DATE($E$1,Z$72,$BA44)),\"aaa\")","v":"火"},"○",null,null,{"$f":"TEXT(WEEKDAY(DATE($E$1,AD$72,$BA44)),\"aaa\")","v":"金"},"○",null,null,{"$f":"TEXT(WEEKDAY(DATE($E$1,AH$72,$BA44)),\"aaa\")","v":"日"},null,null,null,"水","○",null,null,"土",null,null,null,"土",null,null,null,null,null,40,20]
[null,21,6,"視力検査（低）",null,21,6,"尿再検査\n北部P連総会（生坂小）\nＰＴＡ評議員会①",null,null,null,"長野県小学生陸上大会",null,21,6,null,null,21,5,"２学期始業式",null,null,null,"敬老の日",null,21,5,"６年修学旅行①",null,null,null,null,null,21,6,null,null,21,6,"\n発育測定（３・４年）\n北部P連総会",null,null,null,null,null,null,null,null,null,null,null,41,20]
[null,{"$f":"TEXT(WEEKDAY(DATE($E$1,B$72,$BA46)),\"aaa\")","v":"火"},"○",null,null,"木","○",null,null,"日",null,null,null,{"$f":"TEXT(WEEKDAY(DATE($E$1,N$72,$BA46)),\"aaa\")","v":"火"},"○",null,null,{"$f":"TEXT(WEEKDAY(DATE($E$1,R$72,$BA46)),\"aaa\")","v":"金"},"○",null,null,"月",null,null,null,{"$f":"TEXT(WEEKDAY(DATE($E$1,Z$72,$BA46)),\"aaa\")","v":"水"},"○",null,null,{"$f":"TEXT(WEEKDAY(DATE($E$1,AD$72,$BA46)),\"aaa\")","v":"土"},null,null,null,{"$f":"TEXT(WEEKDAY(DATE($E$1,AH$72,$BA46)),\"aaa\")","v":"月"},"○",null,null,"木","○",null,null,"日",null,null,null,"日",null,null,null,null,null,42,21]
[null,22,5,"１年生をむかえる会",null,22,6,"遠足予備日",null,22,6,"プール開き",null,22,5,"１学期終業式",null,null,null,null,null,null,null,"秋分の日",null,22,6,"６年修学旅行②",null,null,null,null,null,22,6,null,null,22,6,"発育測定（１・２年）",null,22,6,"交通安全指導",null,null,null,null,null,null,null,43,21]
[null,{"$f":"TEXT(WEEKDAY(DATE($E$1,B$72,$BA48)),\"aaa\")","v":"水"},"○",null,null,"金","×",null,null,"月","○",null,null,{"$f":"TEXT(WEEKDAY(DATE($E$1,N$72,$BA48)),\"aaa\")","v":"水"},"○",null,null,{"$f":"TEXT(WEEKDAY(DATE($E$1,R$72,$BA48)),\"aaa\")","v":"土"},null,null,null,"火",null,null,null,{"$f":"TEXT(WEEKDAY(DATE($E$1,Z$72,$BA48)),\"aaa\")","v":"木"},"○",null,null,{"$f":"TEXT(WEEKDAY(DATE($E$1,AD$72,$BA48)),\"aaa\")","v":"日"},null,null,null,{"$f":"TEXT(WEEKDAY(DATE($E$1,AH$72,$BA48)),\"aaa\")","v":"火"},"○",null,null,"金","○",null,null,"月","○",null,null,"月",null,null,null,null,null,44,22]
[null,23,6,"聴力検査（３・５年）",null,null,null,"郡PTA定期委員会",null,23,6,"運動器検診（５年）",null,null,null,"夏休み（8/20まで）　　\n海の日",null,null,null,null,null,null,null,"運動会振替休日",null,23,6,"６年計画休業",null,null,null,"勤労感謝の日",null,23,5,null,null,null,null,null,null,null,null,"天皇誕生日",null,null,null,null,null,null,null,45,22]
[null,{"$f":"TEXT(WEEKDAY(DATE($E$1,B$72,$BA50)),\"aaa\")","v":"木"},"○",null,null,"土",null,null,null,"火","○",null,null,"木",null,null,null,{"$f":"TEXT(WEEKDAY(DATE($E$1,R$72,$BA50)),\"aaa\")","v":"日"},null,null,null,"水",null,null,null,{"$f":"TEXT(WEEKDAY(DATE($E$1,Z$72,$BA50)),\"aaa\")","v":"金"},"○",null,null,"月",null,null,null,{"$f":"TEXT(WEEKDAY(DATE($E$1,AH$72,$BA50)),\"aaa\")","v":"水"},"○",null,null,"土",null,null,null,"火",null,null,null,"火",null,null,null,null,null,46,23]
[null,24,5,"参観日①\nPTA総会　歓送迎会",null,null,null,"中信小学生陸上大会",null,24,5,null,null,null,null,"スポーツの日\n東京オリンピック開会式",null,24,6,null,null,24,6,"修学旅行保護者説明会",null,null,null,null,null,24,6,"村福祉教育の日",null,24,6,null,null,null,null,null,null,24,5,null,null,null,null,null,null,null,null,47,23]
[null,{"$f":"TEXT(WEEKDAY(DATE($E$1,B$72,$BA52)),\"aaa\")","v":"金"},"○",null,null,"日",null,null,null,"水","○",null,null,"金",null,null,null,{"$f":"TEXT(WEEKDAY(DATE($E$1,R$72,$BA52)),\"aaa\")","v":"月"},"○",null,null,"木","○",null,null,"土",null,null,null,"火","○",null,null,"木","○",null,null,"日",null,null,null,"水","○",null,null,"水",null,null,null,null,null,48,24]
[null,null,null,"市町村対抗駅伝大会",null,25,6,"\n",null,25,6,null,null,null,null,null,null,25,6,"東京パラリンピック開会式",null,25,6,"（聖南中学校文化祭①）",null,null,null,null,null,25,5,null,null,25,5,"２学期終業式",null,25,6,null,null,25,6,"入学予定児一日体験",null,null,null,null,null,null,null,49,24]
[null,{"$f":"TEXT(WEEKDAY(DATE($E$1,B$72,$BA54)),\"aaa\")","v":"土"},null,null,null,"月","○",null,null,"木","○",null,null,"土",null,null,null,{"$f":"TEXT(WEEKDAY(DATE($E$1,R$72,$BA54)),\"aaa\")","v":"火"},"○",null,null,"金","○",null,null,"日",null,null,null,"水","○",null,null,"金","○",null,null,"月","○",null,null,"木","○",null,null,"木",null,null,null,null,null,50,25]
[null,null,null,null,null,26,6,"耳鼻科検診",null,26,5,"音楽会",null,null,null,null,null,26,5,null,null,null,null,"（聖南中学校文化祭②）",null,26,6,"歯科指導",null,26,6,"ふるさとふれあいの集い",null,null,null,"冬休み（1/6まで）",null,26,6,"入学児童保護者会②",null,26,6,null,null,null,null,null,null,null,null,51,25]
[null,{"$f":"TEXT(WEEKDAY(DATE($E$1,B$72,$BA56)),\"aaa\")","v":"日"},null,null,null,"火","○",null,null,"金","×",null,null,"日",null,null,null,{"$f":"TEXT(WEEKDAY(DATE($E$1,R$72,$BA56)),\"aaa\")","v":"水"},"○",null,null,"土",null,null,null,"月","○",null,null,"木","○",null,null,"土",null,null,null,"火","○",null,null,"金","○",null,null,"金",null,null,null,null,null,52,26]
[null,27,6,"\n地区児童会①（朝）\n聴力検査（１・２年）",null,27,5,"参観日②",null,null,null,"（中体連中信大会①）",null,null,null,null,null,27,6,"聖南中校区特支交流会",null,null,null,null,null,27,6,null,null,27,6,null,null,null,null,null,null,27,5,"スキー教室\n年長児と交流③",null,null,null,null,null,null,null,null,null,null,null,53,26]
[null,{"$f":"TEXT(WEEKDAY(DATE($E$1,B$72,$BA58)),\"aaa\")","v":"月"},"○",null,null,"水","○",null,null,"土",null,null,null,"月",null,null,null,"木","○",null,null,"日",null,null,null,"火","○",null,null,"金","○",null,null,"日",null,null,null,"水","○",null,null,"土",null,null,null,"土",null,null,null,null,null,54,27]
[null,28,6,"交通安全教室",null,28,6,null,null,null,null,"（中体連中信大会②）",null,null,null,null,null,28,6,"年長児と交流②",null,28,6,null,null,28,5,null,null,null,null,"学社連携協働フォーラム",null,null,null,null,null,28,6,"漢字検定②",null,null,null,null,null,null,null,null,null,null,null,55,27]
[null,{"$f":"TEXT(WEEKDAY(DATE($E$1,B$72,$BA60)),\"aaa\")","v":"火"},"○",null,null,"木","○",null,null,"日",null,null,null,"火",null,null,null,"金","○",null,null,"月","○",null,null,"水","○",null,null,"土",null,null,null,"月",null,null,null,"木","○",null,null,"日",null,null,null,"日",null,null,null,null,null,56,28]
[null,null,null,"昭和の日",null,29,6,null,null,29,6,null,null,null,null,null,null,null,null,null,null,29,6,null,null,29,6,"尿再検査",null,null,null,null,null,null,null,null,null,29,6,null,null,"　　　",null,null,null,null,null,"新４～６年年生登校日",null,null,null,57,28]
[null,{"$f":"TEXT(WEEKDAY(DATE($E$1,B$72,$BA62)),\"aaa\")","v":"水"},null,null,null,"金","○",null,null,"月","○",null,null,"水",null,null,null,"土",null,null,null,"火","○",null,null,"木","○",null,null,"日",null,null,null,"火",null,null,null,"金","○",null,null,null,null,null,null,"月",null,null,null,null,null,58,29]
[null,30,6,"みどりの少年団結団式",null,null,null,null,null,30,6,null,null,null,null,null,null,null,null,null,null,30,5,null,null,30,6,"持久走記録会\nＰＴＡ評議員会③",null,30,6,"冬の健康週間(12/4まで)",null,null,null,null,null,null,null,null,null,null,null,null,null,null,null,null,null,null,null,59,29]
[null,{"$f":"TEXT(WEEKDAY(DATE($E$1,B$72,$BA64)),\"aaa\")","v":"木"},"○",null,null,"土",null,null,null,"火","○",null,null,"木",null,null,null,"日",null,null,null,"水","○",null,null,"金","○",null,null,"月","○",null,null,"水",null,null,null,"土",null,null,null,null,null,null,null,"火",null,null,null,null,null,60,30]
[null,null,null,null,null,null,null,null,null,null,null,null,null,null,null,"　　　　　　",null,31,6,null,null,null,null,null,null,null,null,null,null,null,null,null,null,null,null,null,null,null,null,null,null,null,null,null,null,null,null,null,null,null,null,61,30]
[null,null,null,null,null,"日",null,null,null,null,null,null,null,"金",null,null,null,"月","○",null,null,null,null,null,null,"土",null,null,null,null,null,null,null,"木",null,null,null,"日",null,null,null,null,null,null,null,"水",null,null,null,null,null,62,31]
[null,"4　　月",null,null,null,"5　　月",null,null,null,"6　　月",null,null,null,"7　　月",null,null,null,"8　　月",null,null,null,"9　　月",null,null,null,"10　　月",null,null,null,"11　　月",null,null,null,"12　　月",null,null,null,"1　　月",null,null,null,"2　　月",null,null,null,"3　　月"]
[null,"日数",null,{"$f":"B$73-COUNTBLANK(B$5:B$64)","v":18},{"$f":"D68","v":18},{"$f":"F$73-COUNTBLANK(F$5:F$66)","v":18},{"$f":"30-COUNTBLANK(E$5:E$64)","v":-30},{"$f":"30-COUNTBLANK(F$5:F$64)","v":18},{"$f":"E68+F68","v":36},{"$f":"J$73-COUNTBLANK(J$5:J$64)","v":22},{"$f":"30-COUNTBLANK(I$5:I$64)","v":-30},{"$f":"30-COUNTBLANK(J$5:J$64)","v":22},{"$f":"I68+J68","v":58},{"$f":"N$73-COUNTBLANK(N$5:N$66)","v":16},{"$f":"30-COUNTBLANK(M$5:M$64)","v":-30},{"$f":"30-COUNTBLANK(N$5:N$64)","v":16},{"$f":"M68+N68","v":74},"日数",null,{"$f":"R$73-COUNTBLANK(R$5:R$66)","v":7},{"$f":"T68+Q68","v":81},{"$f":"V$73-COUNTBLANK(V$5:V$64)","v":20},null,null,{"$f":"U68+V68","v":101},{"$f":"Z$73-COUNTBLANK(Z$5:Z$66)","v":21},null,null,{"$f":"Y68+Z68","v":122},{"$f":"AD$73-COUNTBLANK(AD$5:AD$64)","v":19},null,null,{"$f":"AC68+AD68","v":141},"日数",null,{"$f":"AH$73-COUNTBLANK(AH$5:AH$66)","v":19},{"$f":"AG68+AJ68","v":160},{"$f":"AL$73-COUNTBLANK(AL$5:AL$66)","v":16},null,null,{"$f":"AL68+AK68","v":176},{"$f":"AP$73-COUNTBLANK(AP$5:AP$60)","v":18},null,null,{"$f":"AP68+AO68","v":194},{"$f":"AT$73-COUNTBLANK(AT$5:AT$66)","v":14},null,null,{"$f":"AT68+AS68","v":208},null,null,null,1,1,1,1,1,1,1,1,1,1,1,1,1,1,1,1,1,1,1,1,1,1,1,1,1,1,1,1,1,1,1,1,1,1,1,1,1,1,1,1,1,1,1,1,1,1,1,1,1,1,1,1]
[null,"時数",null,{"$f":"SUM(C5:C66)","v":94},{"$f":"D69","v":94},{"$f":"SUM(G5:G66)","v":103},null,null,{"$f":"E69+F69","v":197},{"$f":"SUM(K5:K66)","v":126},null,null,{"$f":"I69+J69","v":323},{"$f":"SUM(O5:O66)","v":90},null,null,{"$f":"M69+N69","v":413},"時数",null,{"$f":"SUM(S5:S66)","v":40},{"$f":"T69+Q69","v":453},{"$f":"SUM(W5:W66)","v":114},null,null,{"$f":"U69+V69","v":567},{"$f":"SUM(AA5:AA66)","v":119},null,null,{"$f":"Y69+Z69","v":686},{"$f":"SUM(AE5:AE66)","v":105},null,null,{"$f":"AC69+AD69","v":791},"時数",null,{"$f":"SUM(AI5:AI66)","v":99},{"$f":"AJ69+AG69","v":890},{"$f":"SUM(AM5:AM66)","v":92},null,null,{"$f":"AK69+AL69","v":982},{"$f":"SUM(AQ5:AQ66)","v":104},null,null,{"$f":"AO69+AP69","v":1086},{"$f":"SUM(AU5:AU66)","v":76},null,null,{"$f":"AS69+AT69","v":1162},null,null,null,1,1,1,1,1,1,1,1,1,1,1,1,1,1,1,1,1,1,1,1,1,1,1,1,1,1,1,1,1,1,1,1,1,1,1,1,1,1,1,1,1,1,1,1,1,1,1,1,1,1,1,1]
[null,"給食",null,{"$f":"COUNTIF(C5:C66,\"○\")","v":17},{"$f":"D70","v":17},{"$f":"COUNTIF(G5:G66,\"○\")","v":16},{"$f":"COUNTIF(F5:F64,\"○\")","v":0},{"$f":"COUNTIF(G5:G64,\"○\")","v":16},{"$f":"E70+F70","v":33},{"$f":"COUNTIF(K5:K66,\"○\")","v":21},{"$f":"COUNTIF(J5:J64,\"○\")","v":0},{"$f":"COUNTIF(K5:K64,\"○\")","v":21},{"$f":"I70+J70","v":54},{"$f":"COUNTIF(O5:O66,\"○\")","v":16},{"$f":"COUNTIF(N5:N64,\"○\")","v":0},{"$f":"COUNTIF(O5:O64,\"○\")","v":16},{"$f":"M70+N70","v":70},"給食",null,{"$f":"COUNTIF(S5:S66,\"○\")","v":7},{"$f":"T70+Q70","v":77},{"$f":"COUNTIF(W5:W66,\"○\")","v":19},{"$f":"COUNTIF(V5:V64,\"○\")","v":0},{"$f":"COUNTIF(W5:W64,\"○\")","v":19},{"$f":"U70+V70","v":96},{"$f":"COUNTIF(AA5:AA66,\"○\")","v":21},{"$f":"COUNTIF(Z5:Z64,\"○\")","v":0},{"$f":"COUNTIF(AA5:AA64,\"○\")","v":21},{"$f":"Y70+Z70","v":117},{"$f":"COUNTIF(AE5:AE66,\"○\")","v":18},{"$f":"COUNTIF(AD5:AD64,\"○\")","v":0},{"$f":"COUNTIF(AE5:AE64,\"○\")","v":18},{"$f":"AC70+AD70","v":135},"給食",null,{"$f":"COUNTIF(AI5:AI66,\"○\")","v":19},{"$f":"AJ70+AG70","v":154},{"$f":"COUNTIF(AM5:AM66,\"○\")","v":16},{"$f":"COUNTIF(AL5:AL64,\"○\")","v":0},{"$f":"COUNTIF(AM5:AM64,\"○\")","v":16},{"$f":"AK70+AL70","v":170},{"$f":"COUNTIF(AQ5:AQ66,\"○\")","v":18},{"$f":"COUNTIF(AP5:AP64,\"○\")","v":0},{"$f":"COUNTIF(AQ5:AQ64,\"○\")","v":18},{"$f":"AO70+AP70","v":188},{"$f":"COUNTIF(AU5:AU66,\"○\")","v":13},{"$f":"COUNTIF(AT5:AT64,\"○\")","v":0},{"$f":"COUNTIF(AU5:AU64,\"○\")","v":13},{"$f":"AS70+AT70","v":201},null,null,null,1,1,1,1,1,1,1,1,1,1,1,1,1,1,1,1,1,1,1,1,1,1,1,1,1,1,1,1,1,1,1,1,1,1,1,1,1,1,1,1,1,1,1,1,1,1,1,1,1,1,1,1]
[]
[null,4,null,null,null,5,null,null,null,6,null,null,null,7,null,null,null,8,null,null,null,9,null,null,null,10,null,null,null,11,null,null,null,12,null,null,null,1,null,null,null,2,null,null,null,3]
[null,30,null,null,null,31,null,null,null,30,null,null,null,31,null,null,null,31,null,null,null,30,null,null,null,31,null,null,null,30,null,null,null,31,null,null,null,31,null,null,null,28,null,null,null,31]

{"sheet":"説明","index":14,"n_rows":33,"n_cols":12,"rows_kept":33,"cut":false,"hidden":false,"merged":[[0,10,0,11]]}
[1,"[年暦]シートのE1セルに希望年度を西暦で入力する。　→曜日が自動計算される。【図1】",null,null,null,null,null,null,null,null,"【図1】"]
[]
[2,"Ctrl+a（Ctrlを押しながらAを押す）。　→土曜日と日曜日が自動的に休日（黒丸白数字）となる。【図2】"]
[]
[3,"休日としたいセルをクリックし，Ctrl+zまたはCtrl+xで休日を入力する。"]
[null,"Ctrl+zで黒丸白数字，Ctrl+xで白丸黒数字に変更される。"]
[]
[4,"丸数字を通常に戻すには，シートの保護を解除し，目的の数字を切り取り【図3】，そのセルに数字を入力する。"]
[null,"[校閲]リボン - シート保護の解除"]
[]
[null,null,"【図3】"]
[null,null,null,null,null,null,null,null,null,null,"【図2】"]
[]
[]
[]
[]
[]
[]
[5,"日付の右のセルには時数を，曜日の右のセルには給食の有無",null,null,null,null,null,"【図4】"]
[null,"を入力する。【図4】"]
[]
[null,null,null,null,null,null,null,null,null,null,null,"【図5】"]
[]
[]
[]
[]
[6,"登校日が確定した段階で，[説明，数字，作業用]シートを削除すると，ファイルサイズがかなり小さく"]
[null,"なるので扱いが楽になります。"]
[]
[7,"[4～3]シートは時数計算用。[年暦]シートの時数に対応している。【図5】"]
[null,"Ctrl+q等を利用して入力していくと時数が計算される。"]
[null,"ごく簡単なエラーチェック機能あり。"]
[null,"1年～6年，別々に年暦の時数を入力してこのシートを活用すると，かなり正確に総時数が計算される。"]

{"sheet":"数字","index":15,"n_rows":0,"n_cols":0,"rows_kept":0,"cut":false,"hidden":false,"merged":[]}

{"sheet":"作業用","index":16,"n_rows":0,"n_cols":0,"rows_kept":0,"cut":false,"hidden":false,"merged":[]}